Workbook
Name Квалиф: [1]Проверки!$L$2:$L$5596
Name повышение_квалификации: OFFSET('Справочник программ'!#REF!, 0, 0, COUNTIF('Справочник программ'!$J:$J, "повышение квалификации"), 1)
Name Программа: OFFSET('Справочник программ'!D1048574,MATCH(Заявка!XFB1,'Справочник программ'!D1048574:D943,0),1,COUNTIF('Справочник программ'!D1048574:D943,Заявка!XFB1),1)
Name программа_обучения: OFFSET('Справочник программ'!#REF!, 0, 0, COUNTIF('Справочник программ'!$J:$J, "программа обучения (курс)"), 1)
Name профессиональная_переподготовка: OFFSET('Справочник программ'!#REF!, 0, 0, COUNTIF('Справочник программ'!$J:$J, "профессиональная переподготовка"), 1)
Name профессиональное_обучение: OFFSET('Справочник программ'!#REF!, 0, 0, COUNTIF('Справочник программ'!$J:$J, "профессиональное обучение"), 1)

Sheet Заявка
F1: ООО Учебный Центр МИР «ЭНЕРГИЯ» 660098, г. Красноярск, ул. Молокова, 14, 3 этаж ИНН: 2460247561, Лицензия № Л035-01211-24/00241801 8 (391) 219-14-44
D2: ЗАЯВКА НА ОБУЧЕНИЕ "РАБОЧИЕ ПРОФЕССИИ" | J2: mail@worldenergy24.ru
A3: Общие сведения о Компании (все поля обязательны для заполнения): ↓
A4: Наименование организации:
A5: ИНН организации:
A6: КПП организации:
A7: ФИО ответственного исполнителя для связи:
A8: Контактный телефон ответственного исполнителя:
A9: e-mail для отправки доступа на обучение:
A10: Почтовый адрес для отправки оригиналов документов:
A12: 1. Заполните данные в каждом столбце 2. Выберите программу обучения на зеленой вкладке "Справочник программ" и скопируйте значение из колонки "Код 1С" напротив наименования программы 3. Вернитесь на вкладку "Заполнение заявки" и вставьте значение в колонку "Укажите код программы из справочника"
A14: № | B14: ФИО (полностью) | C14: Дата рождения | D14: СНИЛС в формате ххх-ххх-ххх хх | E14: Должность | F14: Разряд ДО обучения | G14: Необходимый разряд / класс | H14: Выберите квалификацию сварщика | I14: Укажите код программы из справочника | J14: Название программы и вид обучения (сформируется автоматически) | K14: Столбец1 | L14: Столбец2 | M14: Столбец3 | N14: Столбец4 | O14: Столбец5 | P14: Вид обучения (сформируется автоматически) | Q14: Возможные разряды | R14: Виды группы допуска (выбор) | S14: Вид образования | T14: Столбец6
A15: 1 | J15: =IFERROR(VLOOKUP(Таблица3[[#This Row],[Укажите код программы из справочника]],'Справочник программ'!A:L,11,0), "") | P15: =IFERROR(VLOOKUP(I15,'Справочник программ'!A:L,10,0), "") | Q15: =IFERROR(VLOOKUP(I15,'Справочник программ'!A:K,9,0), "") | R15: Высота / ОЗП - 1 группа | S15: СПО | T15: БП-00000208
A16: 2 | J16: =IFERROR(VLOOKUP(Таблица3[[#This Row],[Укажите код программы из справочника]],'Справочник программ'!A:L,11,0), "") | P16: =IFERROR(VLOOKUP(I16,'Справочник программ'!A:L,10,0), "") | Q16: =IFERROR(VLOOKUP(I16,'Справочник программ'!A:K,9,0), "") | R16: Высота / ОЗП - 2 группа | S16: ВО | T16: БП-00001419
A17: 3 | J17: =IFERROR(VLOOKUP(Таблица3[[#This Row],[Укажите код программы из справочника]],'Справочник программ'!A:L,11,0), "") | P17: =IFERROR(VLOOKUP(I17,'Справочник программ'!A:L,10,0), "") | Q17: =IFERROR(VLOOKUP(I17,'Справочник программ'!A:K,9,0), "") | R17: Высота / ОЗП - 3 группа | T17: БП-00000941
A18: 4 | J18: =IFERROR(VLOOKUP(Таблица3[[#This Row],[Укажите код программы из справочника]],'Справочник программ'!A:L,11,0), "") | P18: =IFERROR(VLOOKUP(I18,'Справочник программ'!A:L,10,0), "") | Q18: =IFERROR(VLOOKUP(I18,'Справочник программ'!A:K,9,0), "") | R18: Электробез. 2 гр. до 1000 В ЭБ
A19: 5 | J19: =IFERROR(VLOOKUP(Таблица3[[#This Row],[Укажите код программы из справочника]],'Справочник программ'!A:L,11,0), "") | P19: =IFERROR(VLOOKUP(I19,'Справочник программ'!A:L,10,0), "") | Q19: =IFERROR(VLOOKUP(I19,'Справочник программ'!A:K,9,0), "") | R19: Электробез. 2 гр. до и свыше 1000 В
A20: 6 | J20: =IFERROR(VLOOKUP(Таблица3[[#This Row],[Укажите код программы из справочника]],'Справочник программ'!A:L,11,0), "") | P20: =IFERROR(VLOOKUP(I20,'Справочник программ'!A:L,10,0), "") | Q20: =IFERROR(VLOOKUP(I20,'Справочник программ'!A:K,9,0), "") | R20: Электробез. 3 гр. до 1000 В
A21: 7 | J21: =IFERROR(VLOOKUP(Таблица3[[#This Row],[Укажите код программы из справочника]],'Справочник программ'!A:L,11,0), "") | P21: =IFERROR(VLOOKUP(I21,'Справочник программ'!A:L,10,0), "") | Q21: =IFERROR(VLOOKUP(I21,'Справочник программ'!A:K,9,0), "") | R21: Электробез. 3 гр. до и свыше 1000 В
A22: 8 | J22: =IFERROR(VLOOKUP(Таблица3[[#This Row],[Укажите код программы из справочника]],'Справочник программ'!A:L,11,0), "") | P22: =IFERROR(VLOOKUP(I22,'Справочник программ'!A:L,10,0), "") | Q22: =IFERROR(VLOOKUP(I22,'Справочник программ'!A:K,9,0), "") | R22: Электробез. 4 гр. до 1000 В
A23: 9 | J23: =IFERROR(VLOOKUP(Таблица3[[#This Row],[Укажите код программы из справочника]],'Справочник программ'!A:L,11,0), "") | P23: =IFERROR(VLOOKUP(I23,'Справочник программ'!A:L,10,0), "") | Q23: =IFERROR(VLOOKUP(I23,'Справочник программ'!A:K,9,0), "") | R23: Электробез. 4 гр. до и свыше 1000 В
A24: 10 | J24: =IFERROR(VLOOKUP(Таблица3[[#This Row],[Укажите код программы из справочника]],'Справочник программ'!A:L,11,0), "") | P24: =IFERROR(VLOOKUP(I24,'Справочник программ'!A:L,10,0), "") | Q24: =IFERROR(VLOOKUP(I24,'Справочник программ'!A:K,9,0), "") | R24: Электробез. 5 гр. до 1000 В
A25: 11 | J25: =IFERROR(VLOOKUP(Таблица3[[#This Row],[Укажите код программы из справочника]],'Справочник программ'!A:L,11,0), "") | P25: =IFERROR(VLOOKUP(I25,'Справочник программ'!A:L,10,0), "") | Q25: =IFERROR(VLOOKUP(I25,'Справочник программ'!A:K,9,0), "") | R25: Электробез. 5 гр. до и свыше 1000 В
A26: 12 | J26: =IFERROR(VLOOKUP(Таблица3[[#This Row],[Укажите код программы из справочника]],'Справочник программ'!A:L,11,0), "") | P26: =IFERROR(VLOOKUP(I26,'Справочник программ'!A:L,10,0), "") | Q26: =IFERROR(VLOOKUP(I26,'Справочник программ'!A:K,9,0), "") | R26: Газосварщик
A27: 13 | J27: =IFERROR(VLOOKUP(Таблица3[[#This Row],[Укажите код программы из справочника]],'Справочник программ'!A:L,11,0), "") | P27: =IFERROR(VLOOKUP(I27,'Справочник программ'!A:L,10,0), "") | Q27: =IFERROR(VLOOKUP(I27,'Справочник программ'!A:K,9,0), "") | R27: Электрогазосварщик
A28: 14 | J28: =IFERROR(VLOOKUP(Таблица3[[#This Row],[Укажите код программы из справочника]],'Справочник программ'!A:L,11,0), "") | P28: =IFERROR(VLOOKUP(I28,'Справочник программ'!A:L,10,0), "") | Q28: =IFERROR(VLOOKUP(I28,'Справочник программ'!A:K,9,0), "") | R28: Электросварщик на автоматических и полуавтоматических машинах
A29: 15 | J29: =IFERROR(VLOOKUP(Таблица3[[#This Row],[Укажите код программы из справочника]],'Справочник программ'!A:L,11,0), "") | P29: =IFERROR(VLOOKUP(I29,'Справочник программ'!A:L,10,0), "") | Q29: =IFERROR(VLOOKUP(I29,'Справочник программ'!A:K,9,0), "") | R29: Электросварщик ручной сварки
A30: 16 | J30: =IFERROR(VLOOKUP(Таблица3[[#This Row],[Укажите код программы из справочника]],'Справочник программ'!A:L,11,0), "") | P30: =IFERROR(VLOOKUP(I30,'Справочник программ'!A:L,10,0), "") | Q30: =IFERROR(VLOOKUP(I30,'Справочник программ'!A:K,9,0), "")
A31: 17 | J31: =IFERROR(VLOOKUP(Таблица3[[#This Row],[Укажите код программы из справочника]],'Справочник программ'!A:L,11,0), "") | P31: =IFERROR(VLOOKUP(I31,'Справочник программ'!A:L,10,0), "") | Q31: =IFERROR(VLOOKUP(I31,'Справочник программ'!A:K,9,0), "")
A32: 18 | J32: =IFERROR(VLOOKUP(Таблица3[[#This Row],[Укажите код программы из справочника]],'Справочник программ'!A:L,11,0), "") | P32: =IFERROR(VLOOKUP(I32,'Справочник программ'!A:L,10,0), "") | Q32: =IFERROR(VLOOKUP(I32,'Справочник программ'!A:K,9,0), "")
A33: 19 | J33: =IFERROR(VLOOKUP(Таблица3[[#This Row],[Укажите код программы из справочника]],'Справочник программ'!A:L,11,0), "") | P33: =IFERROR(VLOOKUP(I33,'Справочник программ'!A:L,10,0), "") | Q33: =IFERROR(VLOOKUP(I33,'Справочник программ'!A:K,9,0), "")
A34: 20 | J34: =IFERROR(VLOOKUP(Таблица3[[#This Row],[Укажите код программы из справочника]],'Справочник программ'!A:L,11,0), "") | P34: =IFERROR(VLOOKUP(I34,'Справочник программ'!A:L,10,0), "") | Q34: =IFERROR(VLOOKUP(I34,'Справочник программ'!A:K,9,0), "")
A35: 21 | J35: =IFERROR(VLOOKUP(Таблица3[[#This Row],[Укажите код программы из справочника]],'Справочник программ'!A:L,11,0), "") | P35: =IFERROR(VLOOKUP(I35,'Справочник программ'!A:L,10,0), "") | Q35: =IFERROR(VLOOKUP(I35,'Справочник программ'!A:K,9,0), "")
A36: 22 | J36: =IFERROR(VLOOKUP(Таблица3[[#This Row],[Укажите код программы из справочника]],'Справочник программ'!A:L,11,0), "") | P36: =IFERROR(VLOOKUP(I36,'Справочник программ'!A:L,10,0), "") | Q36: =IFERROR(VLOOKUP(I36,'Справочник программ'!A:K,9,0), "")
A37: 23 | J37: =IFERROR(VLOOKUP(Таблица3[[#This Row],[Укажите код программы из справочника]],'Справочник программ'!A:L,11,0), "") | P37: =IFERROR(VLOOKUP(I37,'Справочник программ'!A:L,10,0), "") | Q37: =IFERROR(VLOOKUP(I37,'Справочник программ'!A:K,9,0), "")
A38: 24 | J38: =IFERROR(VLOOKUP(Таблица3[[#This Row],[Укажите код программы из справочника]],'Справочник программ'!A:L,11,0), "") | P38: =IFERROR(VLOOKUP(I38,'Справочник программ'!A:L,10,0), "") | Q38: =IFERROR(VLOOKUP(I38,'Справочник программ'!A:K,9,0), "")
A39: 25 | J39: =IFERROR(VLOOKUP(Таблица3[[#This Row],[Укажите код программы из справочника]],'Справочник программ'!A:L,11,0), "") | P39: =IFERROR(VLOOKUP(I39,'Справочник программ'!A:L,10,0), "") | Q39: =IFERROR(VLOOKUP(I39,'Справочник программ'!A:K,9,0), "")
A40: 26 | J40: =IFERROR(VLOOKUP(Таблица3[[#This Row],[Укажите код программы из справочника]],'Справочник программ'!A:L,11,0), "") | P40: =IFERROR(VLOOKUP(I40,'Справочник программ'!A:L,10,0), "") | Q40: =IFERROR(VLOOKUP(I40,'Справочник программ'!A:K,9,0), "")
A41: 27 | J41: =IFERROR(VLOOKUP(Таблица3[[#This Row],[Укажите код программы из справочника]],'Справочник программ'!A:L,11,0), "") | P41: =IFERROR(VLOOKUP(I41,'Справочник программ'!A:L,10,0), "") | Q41: =IFERROR(VLOOKUP(I41,'Справочник программ'!A:K,9,0), "")
... A64: 50 | J64: =IFERROR(VLOOKUP(Таблица3[[#This Row],[Укажите код программы из справочника]],'Справочник программ'!A:L,11,0), "") | P64: =IFERROR(VLOOKUP(I64,'Справочник программ'!A:L,10,0), "") | Q64: =IFERROR(VLOOKUP(I64,'Справочник программ'!A:K,9,0), "")

Sheet Справочник программ
A1: Скопируйте номер выбранный Вами программы из столбца "Код 1С" на лист "Заявка"
A3: Код 1С | B3: Артикул 1С | C3: ПРОГРАММА | D3: ПО/ДПО | E3: ВИД | G3: Часы | H3: Разряд | I3: РАЗРЯД (табл. Метод) | J3: вид программы (табл. Метод) | K3: Название + часы + разряд для ПО | L3: Вид программы | M3: направление | N3: Для сортировки направления
A4: ПРОФЕССИОНАЛЬНОЕ ОБУЧЕНИЕ РАБОЧИХ | M4: 22. ПРОФЕССИОНАЛЬНОЕ ОБУЧЕНИЕ РАБОЧИХ | N4: 22
A5: БП-00000248 | B5: ОБР162 | C5: Аккумуляторщик | D5: ПО | E5: ПК | F5: =E5 -> ПК | G5: 56 | H5: 3-5 разряд | I5: =SUBSTITUTE(SUBSTITUTE(H5," разряд",""),"разряд","") -> 3-5 | J5: =IF(D5="ПО","Профессиональное обучение",IF(D5="курсы","Программа обучения",IF(D5="ДПО",IF(E5="ПК","Повышение квалификации",IF(E5="ПП","Профессиональная переподготовка","")),""))) -> Профессиональное обучение | K5: =CONCATENATE(C5," (",G5," ч.)",)&IF(D5="ПО"," "&CHOOSE(MATCH(E5,{"ПП","ПО","ПК","ППЗ"},0),"- профессиональная переподготовка рабочих и служащих","- профессиональная подготовка рабочих и служащих","- повышение квалификации рабочих и служащих","- периодическая проверка знаний рабочих и служащих")&IF(AND(D5="ПО",H5<>"")," ("&H5&")",""),IF(D5="ДПО"," "&IF(E5="ПК","- повышение квалификации",IF(E5="ПП","- профессиональная переподготовка","")),IF(D5="курсы"," - программа обучения",""))) -> Аккумуляторщик (56 ч.) - повышение квалификации рабочих и служащих (3-5 разряд) | L5: =IF(D5="ПО",IF(E5="ПП","Профессиональная переподготовка рабочих и служащих",IF(E5="ПО","Профессиональная подготовка рабочих и служащих",IF(E5="ПК","Повышение квалификации рабочих и служащих",IF(E5="ППЗ","Периодическая проверка знаний рабочих и служащих","")))),IF(D5="курсы","Программа обучения",IF(D5="ДПО",IF(E5="ПК","Повышение квалификации",IF(E5="ПП","Профессиональная переподготовка","")),""))) -> Повышение квалификации рабочих и служащих | M5: 22. ПРОФЕССИОНАЛЬНОЕ ОБУЧЕНИЕ РАБОЧИХ | N5: 22
A6: БП-00000404 | B6: ОБР160 | C6: Аккумуляторщик | D6: ПО | E6: ППЗ | F6: =E6 -> ППЗ | G6: 8 | I6: =SUBSTITUTE(SUBSTITUTE(H6," разряд",""),"разряд","") | J6: =IF(D6="ПО","Профессиональное обучение",IF(D6="курсы","Программа обучения",IF(D6="ДПО",IF(E6="ПК","Повышение квалификации",IF(E6="ПП","Профессиональная переподготовка","")),""))) -> Профессиональное обучение | K6: =CONCATENATE(C6," (",G6," ч.)",)&IF(D6="ПО"," "&CHOOSE(MATCH(E6,{"ПП","ПО","ПК","ППЗ"},0),"- профессиональная переподготовка рабочих и служащих","- профессиональная подготовка рабочих и служащих","- повышение квалификации рабочих и служащих","- периодическая проверка знаний рабочих и служащих")&IF(AND(D6="ПО",H6<>"")," ("&H6&")",""),IF(D6="ДПО"," "&IF(E6="ПК","- повышение квалификации",IF(E6="ПП","- профессиональная переподготовка","")),IF(D6="курсы"," - программа обучения",""))) -> Аккумуляторщик (8 ч.) - периодическая проверка знаний рабочих и служащих | L6: =IF(D6="ПО",IF(E6="ПП","Профессиональная переподготовка рабочих и служащих",IF(E6="ПО","Профессиональная подготовка рабочих и служащих",IF(E6="ПК","Повышение квалификации рабочих и служащих",IF(E6="ППЗ","Периодическая проверка знаний рабочих и служащих","")))),IF(D6="курсы","Программа обучения",IF(D6="ДПО",IF(E6="ПК","Повышение квалификации",IF(E6="ПП","Профессиональная переподготовка","")),""))) -> Периодическая проверка знаний рабочих и служащих | M6: 22. ПРОФЕССИОНАЛЬНОЕ ОБУЧЕНИЕ РАБОЧИХ | N6: 22
A7: 00000000406 | B7: ОБР163 | C7: Аккумуляторщик | D7: ПО | E7: ПП | F7: =E7 -> ПП | G7: 86 | H7: 1-3 разряд | I7: =SUBSTITUTE(SUBSTITUTE(H7," разряд",""),"разряд","") -> 1-3 | J7: =IF(D7="ПО","Профессиональное обучение",IF(D7="курсы","Программа обучения",IF(D7="ДПО",IF(E7="ПК","Повышение квалификации",IF(E7="ПП","Профессиональная переподготовка","")),""))) -> Профессиональное обучение | K7: =CONCATENATE(C7," (",G7," ч.)",)&IF(D7="ПО"," "&CHOOSE(MATCH(E7,{"ПП","ПО","ПК","ППЗ"},0),"- профессиональная переподготовка рабочих и служащих","- профессиональная подготовка рабочих и служащих","- повышение квалификации рабочих и служащих","- периодическая проверка знаний рабочих и служащих")&IF(AND(D7="ПО",H7<>"")," ("&H7&")",""),IF(D7="ДПО"," "&IF(E7="ПК","- повышение квалификации",IF(E7="ПП","- профессиональная переподготовка","")),IF(D7="курсы"," - программа обучения",""))) -> Аккумуляторщик (86 ч.) - профессиональная переподготовка рабочих и служащих (1-3 разряд) | L7: =IF(D7="ПО",IF(E7="ПП","Профессиональная переподготовка рабочих и служащих",IF(E7="ПО","Профессиональная подготовка рабочих и служащих",IF(E7="ПК","Повышение квалификации рабочих и служащих",IF(E7="ППЗ","Периодическая проверка знаний рабочих и служащих","")))),IF(D7="курсы","Программа обучения",IF(D7="ДПО",IF(E7="ПК","Повышение квалификации",IF(E7="ПП","Профессиональная переподготовка","")),""))) -> Профессиональная переподготовка рабочих и служащих | M7: 22. ПРОФЕССИОНАЛЬНОЕ ОБУЧЕНИЕ РАБОЧИХ | N7: 22
A8: БП-00002504 | B8: ОБР733 | C8: Аппаратчик в производстве драгоценных металлов | D8: ПО | E8: ПП | F8: =E8 -> ПП | G8: 144 | H8: 3-4 разряд | I8: =SUBSTITUTE(SUBSTITUTE(H8," разряд",""),"разряд","") -> 3-4 | J8: =IF(D8="ПО","Профессиональное обучение",IF(D8="курсы","Программа обучения",IF(D8="ДПО",IF(E8="ПК","Повышение квалификации",IF(E8="ПП","Профессиональная переподготовка","")),""))) -> Профессиональное обучение | K8: =CONCATENATE(C8," (",G8," ч.)",)&IF(D8="ПО"," "&CHOOSE(MATCH(E8,{"ПП","ПО","ПК","ППЗ"},0),"- профессиональная переподготовка рабочих и служащих","- профессиональная подготовка рабочих и служащих","- повышение квалификации рабочих и служащих","- периодическая проверка знаний рабочих и служащих")&IF(AND(D8="ПО",H8<>"")," ("&H8&")",""),IF(D8="ДПО"," "&IF(E8="ПК","- повышение квалификации",IF(E8="ПП","- профессиональная переподготовка","")),IF(D8="курсы"," - программа обучения",""))) -> Аппаратчик в производстве драгоценных металлов (144 ч.) - профессиональная переподготовка рабочих и служащих (3-4 разряд) | L8: =IF(D8="ПО",IF(E8="ПП","Профессиональная переподготовка рабочих и служащих",IF(E8="ПО","Профессиональная подготовка рабочих и служащих",IF(E8="ПК","Повышение квалификации рабочих и служащих",IF(E8="ППЗ","Периодическая проверка знаний рабочих и служащих","")))),IF(D8="курсы","Программа обучения",IF(D8="ДПО",IF(E8="ПК","Повышение квалификации",IF(E8="ПП","Профессиональная переподготовка","")),""))) -> Профессиональная переподготовка рабочих и служащих | M8: 22. ПРОФЕССИОНАЛЬНОЕ ОБУЧЕНИЕ РАБОЧИХ | N8: 22
A9: БП-00002503 | B9: ОБР732 | C9: Аппаратчик в производстве драгоценных металлов | D9: ПО | E9: ПО | F9: =E9 -> ПО | G9: 160 | H9: 3-4 разряд | I9: =SUBSTITUTE(SUBSTITUTE(H9," разряд",""),"разряд","") -> 3-4 | J9: =IF(D9="ПО","Профессиональное обучение",IF(D9="курсы","Программа обучения",IF(D9="ДПО",IF(E9="ПК","Повышение квалификации",IF(E9="ПП","Профессиональная переподготовка","")),""))) -> Профессиональное обучение | K9: =CONCATENATE(C9," (",G9," ч.)",)&IF(D9="ПО"," "&CHOOSE(MATCH(E9,{"ПП","ПО","ПК","ППЗ"},0),"- профессиональная переподготовка рабочих и служащих","- профессиональная подготовка рабочих и служащих","- повышение квалификации рабочих и служащих","- периодическая проверка знаний рабочих и служащих")&IF(AND(D9="ПО",H9<>"")," ("&H9&")",""),IF(D9="ДПО"," "&IF(E9="ПК","- повышение квалификации",IF(E9="ПП","- профессиональная переподготовка","")),IF(D9="курсы"," - программа обучения",""))) -> Аппаратчик в производстве драгоценных металлов (160 ч.) - профессиональная подготовка рабочих и служащих (3-4 разряд) | L9: =IF(D9="ПО",IF(E9="ПП","Профессиональная переподготовка рабочих и служащих",IF(E9="ПО","Профессиональная подготовка рабочих и служащих",IF(E9="ПК","Повышение квалификации рабочих и служащих",IF(E9="ППЗ","Периодическая проверка знаний рабочих и служащих","")))),IF(D9="курсы","Программа обучения",IF(D9="ДПО",IF(E9="ПК","Повышение квалификации",IF(E9="ПП","Профессиональная переподготовка","")),""))) -> Профессиональная подготовка рабочих и служащих | M9: 22. ПРОФЕССИОНАЛЬНОЕ ОБУЧЕНИЕ РАБОЧИХ | N9: 22
A10: БП-00002505 | B10: ОБР734 | C10: Аппаратчик в производстве драгоценных металлов | D10: ПО | E10: ПК | F10: =E10 -> ПК | G10: 72 | H10: 5-6 разряд | I10: =SUBSTITUTE(SUBSTITUTE(H10," разряд",""),"разряд","") -> 5-6 | J10: =IF(D10="ПО","Профессиональное обучение",IF(D10="курсы","Программа обучения",IF(D10="ДПО",IF(E10="ПК","Повышение квалификации",IF(E10="ПП","Профессиональная переподготовка","")),""))) -> Профессиональное обучение | K10: =CONCATENATE(C10," (",G10," ч.)",)&IF(D10="ПО"," "&CHOOSE(MATCH(E10,{"ПП","ПО","ПК","ППЗ"},0),"- профессиональная переподготовка рабочих и служащих","- профессиональная подготовка рабочих и служащих","- повышение квалификации рабочих и служащих","- периодическая проверка знаний рабочих и служащих")&IF(AND(D10="ПО",H10<>"")," ("&H10&")",""),IF(D10="ДПО"," "&IF(E10="ПК","- повышение квалификации",IF(E10="ПП","- профессиональная переподготовка","")),IF(D10="курсы"," - программа обучения",""))) -> Аппаратчик в производстве драгоценных металлов (72 ч.) - повышение квалификации рабочих и служащих (5-6 разряд) | L10: =IF(D10="ПО",IF(E10="ПП","Профессиональная переподготовка рабочих и служащих",IF(E10="ПО","Профессиональная подготовка рабочих и служащих",IF(E10="ПК","Повышение квалификации рабочих и служащих",IF(E10="ППЗ","Периодическая проверка знаний рабочих и служащих","")))),IF(D10="курсы","Программа обучения",IF(D10="ДПО",IF(E10="ПК","Повышение квалификации",IF(E10="ПП","Профессиональная переподготовка","")),""))) -> Повышение квалификации рабочих и служащих | M10: 22. ПРОФЕССИОНАЛЬНОЕ ОБУЧЕНИЕ РАБОЧИХ | N10: 22
A11: БП-00002506 | B11: ОБР735 | C11: Аппаратчик в производстве драгоценных металлов | D11: ПО | E11: ППЗ | F11: =E11 -> ППЗ | G11: 8 | I11: =SUBSTITUTE(SUBSTITUTE(H11," разряд",""),"разряд","") | J11: =IF(D11="ПО","Профессиональное обучение",IF(D11="курсы","Программа обучения",IF(D11="ДПО",IF(E11="ПК","Повышение квалификации",IF(E11="ПП","Профессиональная переподготовка","")),""))) -> Профессиональное обучение | K11: =CONCATENATE(C11," (",G11," ч.)",)&IF(D11="ПО"," "&CHOOSE(MATCH(E11,{"ПП","ПО","ПК","ППЗ"},0),"- профессиональная переподготовка рабочих и служащих","- профессиональная подготовка рабочих и служащих","- повышение квалификации рабочих и служащих","- периодическая проверка знаний рабочих и служащих")&IF(AND(D11="ПО",H11<>"")," ("&H11&")",""),IF(D11="ДПО"," "&IF(E11="ПК","- повышение квалификации",IF(E11="ПП","- профессиональная переподготовка","")),IF(D11="курсы"," - программа обучения",""))) -> Аппаратчик в производстве драгоценных металлов (8 ч.) - периодическая проверка знаний рабочих и служащих | L11: =IF(D11="ПО",IF(E11="ПП","Профессиональная переподготовка рабочих и служащих",IF(E11="ПО","Профессиональная подготовка рабочих и служащих",IF(E11="ПК","Повышение квалификации рабочих и служащих",IF(E11="ППЗ","Периодическая проверка знаний рабочих и служащих","")))),IF(D11="курсы","Программа обучения",IF(D11="ДПО",IF(E11="ПК","Повышение квалификации",IF(E11="ПП","Профессиональная переподготовка","")),""))) -> Периодическая проверка знаний рабочих и служащих | M11: 22. ПРОФЕССИОНАЛЬНОЕ ОБУЧЕНИЕ РАБОЧИХ | N11: 22
A12: БП-00002509 | B12: ОБР737 | C12: Аппаратчик в производстве металлических порошков | D12: ПО | E12: ПП | F12: =E12 -> ПП | G12: 144 | I12: =SUBSTITUTE(SUBSTITUTE(H12," разряд",""),"разряд","") | J12: =IF(D12="ПО","Профессиональное обучение",IF(D12="курсы","Программа обучения",IF(D12="ДПО",IF(E12="ПК","Повышение квалификации",IF(E12="ПП","Профессиональная переподготовка","")),""))) -> Профессиональное обучение | K12: =CONCATENATE(C12," (",G12," ч.)",)&IF(D12="ПО"," "&CHOOSE(MATCH(E12,{"ПП","ПО","ПК","ППЗ"},0),"- профессиональная переподготовка рабочих и служащих","- профессиональная подготовка рабочих и служащих","- повышение квалификации рабочих и служащих","- периодическая проверка знаний рабочих и служащих")&IF(AND(D12="ПО",H12<>"")," ("&H12&")",""),IF(D12="ДПО"," "&IF(E12="ПК","- повышение квалификации",IF(E12="ПП","- профессиональная переподготовка","")),IF(D12="курсы"," - программа обучения",""))) -> Аппаратчик в производстве металлических порошков (144 ч.) - профессиональная переподготовка рабочих и служащих | L12: =IF(D12="ПО",IF(E12="ПП","Профессиональная переподготовка рабочих и служащих",IF(E12="ПО","Профессиональная подготовка рабочих и служащих",IF(E12="ПК","Повышение квалификации рабочих и служащих",IF(E12="ППЗ","Периодическая проверка знаний рабочих и служащих","")))),IF(D12="курсы","Программа обучения",IF(D12="ДПО",IF(E12="ПК","Повышение квалификации",IF(E12="ПП","Профессиональная переподготовка","")),""))) -> Профессиональная переподготовка рабочих и служащих | M12: 22. ПРОФЕССИОНАЛЬНОЕ ОБУЧЕНИЕ РАБОЧИХ | N12: 22
A13: БП-00002508 | B13: ОБР736 | C13: Аппаратчик в производстве металлических порошков | D13: ПО | E13: ПО | F13: =E13 -> ПО | G13: 160 | I13: =SUBSTITUTE(SUBSTITUTE(H13," разряд",""),"разряд","") | J13: =IF(D13="ПО","Профессиональное обучение",IF(D13="курсы","Программа обучения",IF(D13="ДПО",IF(E13="ПК","Повышение квалификации",IF(E13="ПП","Профессиональная переподготовка","")),""))) -> Профессиональное обучение | K13: =CONCATENATE(C13," (",G13," ч.)",)&IF(D13="ПО"," "&CHOOSE(MATCH(E13,{"ПП","ПО","ПК","ППЗ"},0),"- профессиональная переподготовка рабочих и служащих","- профессиональная подготовка рабочих и служащих","- повышение квалификации рабочих и служащих","- периодическая проверка знаний рабочих и служащих")&IF(AND(D13="ПО",H13<>"")," ("&H13&")",""),IF(D13="ДПО"," "&IF(E13="ПК","- повышение квалификации",IF(E13="ПП","- профессиональная переподготовка","")),IF(D13="курсы"," - программа обучения",""))) -> Аппаратчик в производстве металлических порошков (160 ч.) - профессиональная подготовка рабочих и служащих | L13: =IF(D13="ПО",IF(E13="ПП","Профессиональная переподготовка рабочих и служащих",IF(E13="ПО","Профессиональная подготовка рабочих и служащих",IF(E13="ПК","Повышение квалификации рабочих и служащих",IF(E13="ППЗ","Периодическая проверка знаний рабочих и служащих","")))),IF(D13="курсы","Программа обучения",IF(D13="ДПО",IF(E13="ПК","Повышение квалификации",IF(E13="ПП","Профессиональная переподготовка","")),""))) -> Профессиональная подготовка рабочих и служащих | M13: 22. ПРОФЕССИОНАЛЬНОЕ ОБУЧЕНИЕ РАБОЧИХ | N13: 22
A14: БП-00002510 | B14: ОБР738 | C14: Аппаратчик в производстве металлических порошков | D14: ПО | E14: ПК | F14: =E14 -> ПК | G14: 72 | I14: =SUBSTITUTE(SUBSTITUTE(H14," разряд",""),"разряд","") | J14: =IF(D14="ПО","Профессиональное обучение",IF(D14="курсы","Программа обучения",IF(D14="ДПО",IF(E14="ПК","Повышение квалификации",IF(E14="ПП","Профессиональная переподготовка","")),""))) -> Профессиональное обучение | K14: =CONCATENATE(C14," (",G14," ч.)",)&IF(D14="ПО"," "&CHOOSE(MATCH(E14,{"ПП","ПО","ПК","ППЗ"},0),"- профессиональная переподготовка рабочих и служащих","- профессиональная подготовка рабочих и служащих","- повышение квалификации рабочих и служащих","- периодическая проверка знаний рабочих и служащих")&IF(AND(D14="ПО",H14<>"")," ("&H14&")",""),IF(D14="ДПО"," "&IF(E14="ПК","- повышение квалификации",IF(E14="ПП","- профессиональная переподготовка","")),IF(D14="курсы"," - программа обучения",""))) -> Аппаратчик в производстве металлических порошков (72 ч.) - повышение квалификации рабочих и служащих | L14: =IF(D14="ПО",IF(E14="ПП","Профессиональная переподготовка рабочих и служащих",IF(E14="ПО","Профессиональная подготовка рабочих и служащих",IF(E14="ПК","Повышение квалификации рабочих и служащих",IF(E14="ППЗ","Периодическая проверка знаний рабочих и служащих","")))),IF(D14="курсы","Программа обучения",IF(D14="ДПО",IF(E14="ПК","Повышение квалификации",IF(E14="ПП","Профессиональная переподготовка","")),""))) -> Повышение квалификации рабочих и служащих | M14: 22. ПРОФЕССИОНАЛЬНОЕ ОБУЧЕНИЕ РАБОЧИХ | N14: 22
A15: БП-00002511 | B15: ОБР739 | C15: Аппаратчик в производстве металлических порошков | D15: ПО | E15: ППЗ | F15: =E15 -> ППЗ | G15: 8 | I15: =SUBSTITUTE(SUBSTITUTE(H15," разряд",""),"разряд","") | J15: =IF(D15="ПО","Профессиональное обучение",IF(D15="курсы","Программа обучения",IF(D15="ДПО",IF(E15="ПК","Повышение квалификации",IF(E15="ПП","Профессиональная переподготовка","")),""))) -> Профессиональное обучение | K15: =CONCATENATE(C15," (",G15," ч.)",)&IF(D15="ПО"," "&CHOOSE(MATCH(E15,{"ПП","ПО","ПК","ППЗ"},0),"- профессиональная переподготовка рабочих и служащих","- профессиональная подготовка рабочих и служащих","- повышение квалификации рабочих и служащих","- периодическая проверка знаний рабочих и служащих")&IF(AND(D15="ПО",H15<>"")," ("&H15&")",""),IF(D15="ДПО"," "&IF(E15="ПК","- повышение квалификации",IF(E15="ПП","- профессиональная переподготовка","")),IF(D15="курсы"," - программа обучения",""))) -> Аппаратчик в производстве металлических порошков (8 ч.) - периодическая проверка знаний рабочих и служащих | L15: =IF(D15="ПО",IF(E15="ПП","Профессиональная переподготовка рабочих и служащих",IF(E15="ПО","Профессиональная подготовка рабочих и служащих",IF(E15="ПК","Повышение квалификации рабочих и служащих",IF(E15="ППЗ","Периодическая проверка знаний рабочих и служащих","")))),IF(D15="курсы","Программа обучения",IF(D15="ДПО",IF(E15="ПК","Повышение квалификации",IF(E15="ПП","Профессиональная переподготовка","")),""))) -> Периодическая проверка знаний рабочих и служащих | M15: 22. ПРОФЕССИОНАЛЬНОЕ ОБУЧЕНИЕ РАБОЧИХ | N15: 22
A16: БП-00002514 | B16: ОБР741 | C16: Аппаратчик воздухоразделения | D16: ПО | E16: ПП | F16: =E16 -> ПП | G16: 144 | I16: =SUBSTITUTE(SUBSTITUTE(H16," разряд",""),"разряд","") | J16: =IF(D16="ПО","Профессиональное обучение",IF(D16="курсы","Программа обучения",IF(D16="ДПО",IF(E16="ПК","Повышение квалификации",IF(E16="ПП","Профессиональная переподготовка","")),""))) -> Профессиональное обучение | K16: =CONCATENATE(C16," (",G16," ч.)",)&IF(D16="ПО"," "&CHOOSE(MATCH(E16,{"ПП","ПО","ПК","ППЗ"},0),"- профессиональная переподготовка рабочих и служащих","- профессиональная подготовка рабочих и служащих","- повышение квалификации рабочих и служащих","- периодическая проверка знаний рабочих и служащих")&IF(AND(D16="ПО",H16<>"")," ("&H16&")",""),IF(D16="ДПО"," "&IF(E16="ПК","- повышение квалификации",IF(E16="ПП","- профессиональная переподготовка","")),IF(D16="курсы"," - программа обучения",""))) -> Аппаратчик воздухоразделения (144 ч.) - профессиональная переподготовка рабочих и служащих | L16: =IF(D16="ПО",IF(E16="ПП","Профессиональная переподготовка рабочих и служащих",IF(E16="ПО","Профессиональная подготовка рабочих и служащих",IF(E16="ПК","Повышение квалификации рабочих и служащих",IF(E16="ППЗ","Периодическая проверка знаний рабочих и служащих","")))),IF(D16="курсы","Программа обучения",IF(D16="ДПО",IF(E16="ПК","Повышение квалификации",IF(E16="ПП","Профессиональная переподготовка","")),""))) -> Профессиональная переподготовка рабочих и служащих | M16: 22. ПРОФЕССИОНАЛЬНОЕ ОБУЧЕНИЕ РАБОЧИХ | N16: 22
A17: БП-00002513 | B17: ОБР740 | C17: Аппаратчик воздухоразделения | D17: ПО | E17: ПО | F17: =E17 -> ПО | G17: 160 | I17: =SUBSTITUTE(SUBSTITUTE(H17," разряд",""),"разряд","") | J17: =IF(D17="ПО","Профессиональное обучение",IF(D17="курсы","Программа обучения",IF(D17="ДПО",IF(E17="ПК","Повышение квалификации",IF(E17="ПП","Профессиональная переподготовка","")),""))) -> Профессиональное обучение | K17: =CONCATENATE(C17," (",G17," ч.)",)&IF(D17="ПО"," "&CHOOSE(MATCH(E17,{"ПП","ПО","ПК","ППЗ"},0),"- профессиональная переподготовка рабочих и служащих","- профессиональная подготовка рабочих и служащих","- повышение квалификации рабочих и служащих","- периодическая проверка знаний рабочих и служащих")&IF(AND(D17="ПО",H17<>"")," ("&H17&")",""),IF(D17="ДПО"," "&IF(E17="ПК","- повышение квалификации",IF(E17="ПП","- профессиональная переподготовка","")),IF(D17="курсы"," - программа обучения",""))) -> Аппаратчик воздухоразделения (160 ч.) - профессиональная подготовка рабочих и служащих | L17: =IF(D17="ПО",IF(E17="ПП","Профессиональная переподготовка рабочих и служащих",IF(E17="ПО","Профессиональная подготовка рабочих и служащих",IF(E17="ПК","Повышение квалификации рабочих и служащих",IF(E17="ППЗ","Периодическая проверка знаний рабочих и служащих","")))),IF(D17="курсы","Программа обучения",IF(D17="ДПО",IF(E17="ПК","Повышение квалификации",IF(E17="ПП","Профессиональная переподготовка","")),""))) -> Профессиональная подготовка рабочих и служащих | M17: 22. ПРОФЕССИОНАЛЬНОЕ ОБУЧЕНИЕ РАБОЧИХ | N17: 22
A18: БП-00002515 | B18: ОБР742 | C18: Аппаратчик воздухоразделения | D18: ПО | E18: ПК | F18: =E18 -> ПК | G18: 72 | I18: =SUBSTITUTE(SUBSTITUTE(H18," разряд",""),"разряд","") | J18: =IF(D18="ПО","Профессиональное обучение",IF(D18="курсы","Программа обучения",IF(D18="ДПО",IF(E18="ПК","Повышение квалификации",IF(E18="ПП","Профессиональная переподготовка","")),""))) -> Профессиональное обучение | K18: =CONCATENATE(C18," (",G18," ч.)",)&IF(D18="ПО"," "&CHOOSE(MATCH(E18,{"ПП","ПО","ПК","ППЗ"},0),"- профессиональная переподготовка рабочих и служащих","- профессиональная подготовка рабочих и служащих","- повышение квалификации рабочих и служащих","- периодическая проверка знаний рабочих и служащих")&IF(AND(D18="ПО",H18<>"")," ("&H18&")",""),IF(D18="ДПО"," "&IF(E18="ПК","- повышение квалификации",IF(E18="ПП","- профессиональная переподготовка","")),IF(D18="курсы"," - программа обучения",""))) -> Аппаратчик воздухоразделения (72 ч.) - повышение квалификации рабочих и служащих | L18: =IF(D18="ПО",IF(E18="ПП","Профессиональная переподготовка рабочих и служащих",IF(E18="ПО","Профессиональная подготовка рабочих и служащих",IF(E18="ПК","Повышение квалификации рабочих и служащих",IF(E18="ППЗ","Периодическая проверка знаний рабочих и служащих","")))),IF(D18="курсы","Программа обучения",IF(D18="ДПО",IF(E18="ПК","Повышение квалификации",IF(E18="ПП","Профессиональная переподготовка","")),""))) -> Повышение квалификации рабочих и служащих | M18: 22. ПРОФЕССИОНАЛЬНОЕ ОБУЧЕНИЕ РАБОЧИХ | N18: 22
A19: БП-00002516 | B19: ОБР743 | C19: Аппаратчик воздухоразделения | D19: ПО | E19: ППЗ | F19: =E19 -> ППЗ | G19: 8 | I19: =SUBSTITUTE(SUBSTITUTE(H19," разряд",""),"разряд","") | J19: =IF(D19="ПО","Профессиональное обучение",IF(D19="курсы","Программа обучения",IF(D19="ДПО",IF(E19="ПК","Повышение квалификации",IF(E19="ПП","Профессиональная переподготовка","")),""))) -> Профессиональное обучение | K19: =CONCATENATE(C19," (",G19," ч.)",)&IF(D19="ПО"," "&CHOOSE(MATCH(E19,{"ПП","ПО","ПК","ППЗ"},0),"- профессиональная переподготовка рабочих и служащих","- профессиональная подготовка рабочих и служащих","- повышение квалификации рабочих и служащих","- периодическая проверка знаний рабочих и служащих")&IF(AND(D19="ПО",H19<>"")," ("&H19&")",""),IF(D19="ДПО"," "&IF(E19="ПК","- повышение квалификации",IF(E19="ПП","- профессиональная переподготовка","")),IF(D19="курсы"," - программа обучения",""))) -> Аппаратчик воздухоразделения (8 ч.) - периодическая проверка знаний рабочих и служащих | L19: =IF(D19="ПО",IF(E19="ПП","Профессиональная переподготовка рабочих и служащих",IF(E19="ПО","Профессиональная подготовка рабочих и служащих",IF(E19="ПК","Повышение квалификации рабочих и служащих",IF(E19="ППЗ","Периодическая проверка знаний рабочих и служащих","")))),IF(D19="курсы","Программа обучения",IF(D19="ДПО",IF(E19="ПК","Повышение квалификации",IF(E19="ПП","Профессиональная переподготовка","")),""))) -> Периодическая проверка знаний рабочих и служащих | M19: 22. ПРОФЕССИОНАЛЬНОЕ ОБУЧЕНИЕ РАБОЧИХ | N19: 22
A20: БП-00002519 | B20: ОБР745 | C20: Аппаратчик гашения извести | D20: ПО | E20: ПП | F20: =E20 -> ПП | G20: 144 | I20: =SUBSTITUTE(SUBSTITUTE(H20," разряд",""),"разряд","") | J20: =IF(D20="ПО","Профессиональное обучение",IF(D20="курсы","Программа обучения",IF(D20="ДПО",IF(E20="ПК","Повышение квалификации",IF(E20="ПП","Профессиональная переподготовка","")),""))) -> Профессиональное обучение | K20: =CONCATENATE(C20," (",G20," ч.)",)&IF(D20="ПО"," "&CHOOSE(MATCH(E20,{"ПП","ПО","ПК","ППЗ"},0),"- профессиональная переподготовка рабочих и служащих","- профессиональная подготовка рабочих и служащих","- повышение квалификации рабочих и служащих","- периодическая проверка знаний рабочих и служащих")&IF(AND(D20="ПО",H20<>"")," ("&H20&")",""),IF(D20="ДПО"," "&IF(E20="ПК","- повышение квалификации",IF(E20="ПП","- профессиональная переподготовка","")),IF(D20="курсы"," - программа обучения",""))) -> Аппаратчик гашения извести (144 ч.) - профессиональная переподготовка рабочих и служащих | L20: =IF(D20="ПО",IF(E20="ПП","Профессиональная переподготовка рабочих и служащих",IF(E20="ПО","Профессиональная подготовка рабочих и служащих",IF(E20="ПК","Повышение квалификации рабочих и служащих",IF(E20="ППЗ","Периодическая проверка знаний рабочих и служащих","")))),IF(D20="курсы","Программа обучения",IF(D20="ДПО",IF(E20="ПК","Повышение квалификации",IF(E20="ПП","Профессиональная переподготовка","")),""))) -> Профессиональная переподготовка рабочих и служащих | M20: 22. ПРОФЕССИОНАЛЬНОЕ ОБУЧЕНИЕ РАБОЧИХ | N20: 22
A21: БП-00002518 | B21: ОБР744 | C21: Аппаратчик гашения извести | D21: ПО | E21: ПО | F21: =E21 -> ПО | G21: 160 | I21: =SUBSTITUTE(SUBSTITUTE(H21," разряд",""),"разряд","") | J21: =IF(D21="ПО","Профессиональное обучение",IF(D21="курсы","Программа обучения",IF(D21="ДПО",IF(E21="ПК","Повышение квалификации",IF(E21="ПП","Профессиональная переподготовка","")),""))) -> Профессиональное обучение | K21: =CONCATENATE(C21," (",G21," ч.)",)&IF(D21="ПО"," "&CHOOSE(MATCH(E21,{"ПП","ПО","ПК","ППЗ"},0),"- профессиональная переподготовка рабочих и служащих","- профессиональная подготовка рабочих и служащих","- повышение квалификации рабочих и служащих","- периодическая проверка знаний рабочих и служащих")&IF(AND(D21="ПО",H21<>"")," ("&H21&")",""),IF(D21="ДПО"," "&IF(E21="ПК","- повышение квалификации",IF(E21="ПП","- профессиональная переподготовка","")),IF(D21="курсы"," - программа обучения",""))) -> Аппаратчик гашения извести (160 ч.) - профессиональная подготовка рабочих и служащих | L21: =IF(D21="ПО",IF(E21="ПП","Профессиональная переподготовка рабочих и служащих",IF(E21="ПО","Профессиональная подготовка рабочих и служащих",IF(E21="ПК","Повышение квалификации рабочих и служащих",IF(E21="ППЗ","Периодическая проверка знаний рабочих и служащих","")))),IF(D21="курсы","Программа обучения",IF(D21="ДПО",IF(E21="ПК","Повышение квалификации",IF(E21="ПП","Профессиональная переподготовка","")),""))) -> Профессиональная подготовка рабочих и служащих | M21: 22. ПРОФЕССИОНАЛЬНОЕ ОБУЧЕНИЕ РАБОЧИХ | N21: 22
A22: БП-00002520 | B22: ОБР746 | C22: Аппаратчик гашения извести | D22: ПО | E22: ПК | F22: =E22 -> ПК | G22: 72 | I22: =SUBSTITUTE(SUBSTITUTE(H22," разряд",""),"разряд","") | J22: =IF(D22="ПО","Профессиональное обучение",IF(D22="курсы","Программа обучения",IF(D22="ДПО",IF(E22="ПК","Повышение квалификации",IF(E22="ПП","Профессиональная переподготовка","")),""))) -> Профессиональное обучение | K22: =CONCATENATE(C22," (",G22," ч.)",)&IF(D22="ПО"," "&CHOOSE(MATCH(E22,{"ПП","ПО","ПК","ППЗ"},0),"- профессиональная переподготовка рабочих и служащих","- профессиональная подготовка рабочих и служащих","- повышение квалификации рабочих и служащих","- периодическая проверка знаний рабочих и служащих")&IF(AND(D22="ПО",H22<>"")," ("&H22&")",""),IF(D22="ДПО"," "&IF(E22="ПК","- повышение квалификации",IF(E22="ПП","- профессиональная переподготовка","")),IF(D22="курсы"," - программа обучения",""))) -> Аппаратчик гашения извести (72 ч.) - повышение квалификации рабочих и служащих | L22: =IF(D22="ПО",IF(E22="ПП","Профессиональная переподготовка рабочих и служащих",IF(E22="ПО","Профессиональная подготовка рабочих и служащих",IF(E22="ПК","Повышение квалификации рабочих и служащих",IF(E22="ППЗ","Периодическая проверка знаний рабочих и служащих","")))),IF(D22="курсы","Программа обучения",IF(D22="ДПО",IF(E22="ПК","Повышение квалификации",IF(E22="ПП","Профессиональная переподготовка","")),""))) -> Повышение квалификации рабочих и служащих | M22: 22. ПРОФЕССИОНАЛЬНОЕ ОБУЧЕНИЕ РАБОЧИХ | N22: 22
... A31: БП-00002531 | B31: ОБР755 | C31: Аппаратчик окисления | D31: ПО | E31: ППЗ | F31: =E31 -> ППЗ | G31: 8 | I31: =SUBSTITUTE(SUBSTITUTE(H31," разряд",""),"разряд","") | J31: =IF(D31="ПО","Профессиональное обучение",IF(D31="курсы","Программа обучения",IF(D31="ДПО",IF(E31="ПК","Повышение квалификации",IF(E31="ПП","Профессиональная переподготовка","")),""))) -> Профессиональное обучение | K31: =CONCATENATE(C31," (",G31," ч.)",)&IF(D31="ПО"," "&CHOOSE(MATCH(E31,{"ПП","ПО","ПК","ППЗ"},0),"- профессиональная переподготовка рабочих и служащих","- профессиональная подготовка рабочих и служащих","- повышение квалификации рабочих и служащих","- периодическая проверка знаний рабочих и служащих")&IF(AND(D31="ПО",H31<>"")," ("&H31&")",""),IF(D31="ДПО"," "&IF(E31="ПК","- повышение квалификации",IF(E31="ПП","- профессиональная переподготовка","")),IF(D31="курсы"," - программа обучения",""))) -> Аппаратчик окисления (8 ч.) - периодическая проверка знаний рабочих и служащих | L31: =IF(D31="ПО",IF(E31="ПП","Профессиональная переподготовка рабочих и служащих",IF(E31="ПО","Профессиональная подготовка рабочих и служащих",IF(E31="ПК","Повышение квалификации рабочих и служащих",IF(E31="ППЗ","Периодическая проверка знаний рабочих и служащих","")))),IF(D31="курсы","Программа обучения",IF(D31="ДПО",IF(E31="ПК","Повышение квалификации",IF(E31="ПП","Профессиональная переподготовка","")),""))) -> Периодическая проверка знаний рабочих и служащих | M31: 22. ПРОФЕССИОНАЛЬНОЕ ОБУЧЕНИЕ РАБОЧИХ | N31: 22
A32: БП-00002534 | B32: ОБР757 | C32: Аппаратчик очистки газа | D32: ПО | E32: ПП | F32: =E32 -> ПП | G32: 144 | H32: 2 разряд | I32: =SUBSTITUTE(SUBSTITUTE(H32," разряд",""),"разряд","") -> 2 | J32: =IF(D32="ПО","Профессиональное обучение",IF(D32="курсы","Программа обучения",IF(D32="ДПО",IF(E32="ПК","Повышение квалификации",IF(E32="ПП","Профессиональная переподготовка","")),""))) -> Профессиональное обучение | K32: =CONCATENATE(C32," (",G32," ч.)",)&IF(D32="ПО"," "&CHOOSE(MATCH(E32,{"ПП","ПО","ПК","ППЗ"},0),"- профессиональная переподготовка рабочих и служащих","- профессиональная подготовка рабочих и служащих","- повышение квалификации рабочих и служащих","- периодическая проверка знаний рабочих и служащих")&IF(AND(D32="ПО",H32<>"")," ("&H32&")",""),IF(D32="ДПО"," "&IF(E32="ПК","- повышение квалификации",IF(E32="ПП","- профессиональная переподготовка","")),IF(D32="курсы"," - программа обучения",""))) -> Аппаратчик очистки газа (144 ч.) - профессиональная переподготовка рабочих и служащих (2 разряд) | L32: =IF(D32="ПО",IF(E32="ПП","Профессиональная переподготовка рабочих и служащих",IF(E32="ПО","Профессиональная подготовка рабочих и служащих",IF(E32="ПК","Повышение квалификации рабочих и служащих",IF(E32="ППЗ","Периодическая проверка знаний рабочих и служащих","")))),IF(D32="курсы","Программа обучения",IF(D32="ДПО",IF(E32="ПК","Повышение квалификации",IF(E32="ПП","Профессиональная переподготовка","")),""))) -> Профессиональная переподготовка рабочих и служащих | M32: 22. ПРОФЕССИОНАЛЬНОЕ ОБУЧЕНИЕ РАБОЧИХ | N32: 22
A33: БП-00002533 | B33: ОБР756 | C33: Аппаратчик очистки газа | D33: ПО | E33: ПО | F33: =E33 -> ПО | G33: 160 | H33: 2 разряд | I33: =SUBSTITUTE(SUBSTITUTE(H33," разряд",""),"разряд","") -> 2 | J33: =IF(D33="ПО","Профессиональное обучение",IF(D33="курсы","Программа обучения",IF(D33="ДПО",IF(E33="ПК","Повышение квалификации",IF(E33="ПП","Профессиональная переподготовка","")),""))) -> Профессиональное обучение | K33: =CONCATENATE(C33," (",G33," ч.)",)&IF(D33="ПО"," "&CHOOSE(MATCH(E33,{"ПП","ПО","ПК","ППЗ"},0),"- профессиональная переподготовка рабочих и служащих","- профессиональная подготовка рабочих и служащих","- повышение квалификации рабочих и служащих","- периодическая проверка знаний рабочих и служащих")&IF(AND(D33="ПО",H33<>"")," ("&H33&")",""),IF(D33="ДПО"," "&IF(E33="ПК","- повышение квалификации",IF(E33="ПП","- профессиональная переподготовка","")),IF(D33="курсы"," - программа обучения",""))) -> Аппаратчик очистки газа (160 ч.) - профессиональная подготовка рабочих и служащих (2 разряд) | L33: =IF(D33="ПО",IF(E33="ПП","Профессиональная переподготовка рабочих и служащих",IF(E33="ПО","Профессиональная подготовка рабочих и служащих",IF(E33="ПК","Повышение квалификации рабочих и служащих",IF(E33="ППЗ","Периодическая проверка знаний рабочих и служащих","")))),IF(D33="курсы","Программа обучения",IF(D33="ДПО",IF(E33="ПК","Повышение квалификации",IF(E33="ПП","Профессиональная переподготовка","")),""))) -> Профессиональная подготовка рабочих и служащих | M33: 22. ПРОФЕССИОНАЛЬНОЕ ОБУЧЕНИЕ РАБОЧИХ | N33: 22
A34: БП-00002535 | B34: ОБР758 | C34: Аппаратчик очистки газа | D34: ПО | E34: ПК | F34: =E34 -> ПК | G34: 72 | H34: 3-6 разряд | I34: =SUBSTITUTE(SUBSTITUTE(H34," разряд",""),"разряд","") -> 3-6 | J34: =IF(D34="ПО","Профессиональное обучение",IF(D34="курсы","Программа обучения",IF(D34="ДПО",IF(E34="ПК","Повышение квалификации",IF(E34="ПП","Профессиональная переподготовка","")),""))) -> Профессиональное обучение | K34: =CONCATENATE(C34," (",G34," ч.)",)&IF(D34="ПО"," "&CHOOSE(MATCH(E34,{"ПП","ПО","ПК","ППЗ"},0),"- профессиональная переподготовка рабочих и служащих","- профессиональная подготовка рабочих и служащих","- повышение квалификации рабочих и служащих","- периодическая проверка знаний рабочих и служащих")&IF(AND(D34="ПО",H34<>"")," ("&H34&")",""),IF(D34="ДПО"," "&IF(E34="ПК","- повышение квалификации",IF(E34="ПП","- профессиональная переподготовка","")),IF(D34="курсы"," - программа обучения",""))) -> Аппаратчик очистки газа (72 ч.) - повышение квалификации рабочих и служащих (3-6 разряд) | L34: =IF(D34="ПО",IF(E34="ПП","Профессиональная переподготовка рабочих и служащих",IF(E34="ПО","Профессиональная подготовка рабочих и служащих",IF(E34="ПК","Повышение квалификации рабочих и служащих",IF(E34="ППЗ","Периодическая проверка знаний рабочих и служащих","")))),IF(D34="курсы","Программа обучения",IF(D34="ДПО",IF(E34="ПК","Повышение квалификации",IF(E34="ПП","Профессиональная переподготовка","")),""))) -> Повышение квалификации рабочих и служащих | M34: 22. ПРОФЕССИОНАЛЬНОЕ ОБУЧЕНИЕ РАБОЧИХ | N34: 22
A35: БП-00002536 | B35: ОБР759 | C35: Аппаратчик очистки газа | D35: ПО | E35: ППЗ | F35: =E35 -> ППЗ | G35: 8 | I35: =SUBSTITUTE(SUBSTITUTE(H35," разряд",""),"разряд","") | J35: =IF(D35="ПО","Профессиональное обучение",IF(D35="курсы","Программа обучения",IF(D35="ДПО",IF(E35="ПК","Повышение квалификации",IF(E35="ПП","Профессиональная переподготовка","")),""))) -> Профессиональное обучение | K35: =CONCATENATE(C35," (",G35," ч.)",)&IF(D35="ПО"," "&CHOOSE(MATCH(E35,{"ПП","ПО","ПК","ППЗ"},0),"- профессиональная переподготовка рабочих и служащих","- профессиональная подготовка рабочих и служащих","- повышение квалификации рабочих и служащих","- периодическая проверка знаний рабочих и служащих")&IF(AND(D35="ПО",H35<>"")," ("&H35&")",""),IF(D35="ДПО"," "&IF(E35="ПК","- повышение квалификации",IF(E35="ПП","- профессиональная переподготовка","")),IF(D35="курсы"," - программа обучения",""))) -> Аппаратчик очистки газа (8 ч.) - периодическая проверка знаний рабочих и служащих | L35: =IF(D35="ПО",IF(E35="ПП","Профессиональная переподготовка рабочих и служащих",IF(E35="ПО","Профессиональная подготовка рабочих и служащих",IF(E35="ПК","Повышение квалификации рабочих и служащих",IF(E35="ППЗ","Периодическая проверка знаний рабочих и служащих","")))),IF(D35="курсы","Программа обучения",IF(D35="ДПО",IF(E35="ПК","Повышение квалификации",IF(E35="ПП","Профессиональная переподготовка","")),""))) -> Периодическая проверка знаний рабочих и служащих | M35: 22. ПРОФЕССИОНАЛЬНОЕ ОБУЧЕНИЕ РАБОЧИХ | N35: 22
A36: БП-00002539 | B36: ОБР761 | C36: Аппаратчик перегонки | D36: ПО | E36: ПП | F36: =E36 -> ПП | G36: 144 | H36: 2 разряд | I36: =SUBSTITUTE(SUBSTITUTE(H36," разряд",""),"разряд","") -> 2 | J36: =IF(D36="ПО","Профессиональное обучение",IF(D36="курсы","Программа обучения",IF(D36="ДПО",IF(E36="ПК","Повышение квалификации",IF(E36="ПП","Профессиональная переподготовка","")),""))) -> Профессиональное обучение | K36: =CONCATENATE(C36," (",G36," ч.)",)&IF(D36="ПО"," "&CHOOSE(MATCH(E36,{"ПП","ПО","ПК","ППЗ"},0),"- профессиональная переподготовка рабочих и служащих","- профессиональная подготовка рабочих и служащих","- повышение квалификации рабочих и служащих","- периодическая проверка знаний рабочих и служащих")&IF(AND(D36="ПО",H36<>"")," ("&H36&")",""),IF(D36="ДПО"," "&IF(E36="ПК","- повышение квалификации",IF(E36="ПП","- профессиональная переподготовка","")),IF(D36="курсы"," - программа обучения",""))) -> Аппаратчик перегонки (144 ч.) - профессиональная переподготовка рабочих и служащих (2 разряд) | L36: =IF(D36="ПО",IF(E36="ПП","Профессиональная переподготовка рабочих и служащих",IF(E36="ПО","Профессиональная подготовка рабочих и служащих",IF(E36="ПК","Повышение квалификации рабочих и служащих",IF(E36="ППЗ","Периодическая проверка знаний рабочих и служащих","")))),IF(D36="курсы","Программа обучения",IF(D36="ДПО",IF(E36="ПК","Повышение квалификации",IF(E36="ПП","Профессиональная переподготовка","")),""))) -> Профессиональная переподготовка рабочих и служащих | M36: 22. ПРОФЕССИОНАЛЬНОЕ ОБУЧЕНИЕ РАБОЧИХ | N36: 22
A37: БП-00002538 | B37: ОБР760 | C37: Аппаратчик перегонки | D37: ПО | E37: ПО | F37: =E37 -> ПО | G37: 160 | H37: 2 разряд | I37: =SUBSTITUTE(SUBSTITUTE(H37," разряд",""),"разряд","") -> 2 | J37: =IF(D37="ПО","Профессиональное обучение",IF(D37="курсы","Программа обучения",IF(D37="ДПО",IF(E37="ПК","Повышение квалификации",IF(E37="ПП","Профессиональная переподготовка","")),""))) -> Профессиональное обучение | K37: =CONCATENATE(C37," (",G37," ч.)",)&IF(D37="ПО"," "&CHOOSE(MATCH(E37,{"ПП","ПО","ПК","ППЗ"},0),"- профессиональная переподготовка рабочих и служащих","- профессиональная подготовка рабочих и служащих","- повышение квалификации рабочих и служащих","- периодическая проверка знаний рабочих и служащих")&IF(AND(D37="ПО",H37<>"")," ("&H37&")",""),IF(D37="ДПО"," "&IF(E37="ПК","- повышение квалификации",IF(E37="ПП","- профессиональная переподготовка","")),IF(D37="курсы"," - программа обучения",""))) -> Аппаратчик перегонки (160 ч.) - профессиональная подготовка рабочих и служащих (2 разряд) | L37: =IF(D37="ПО",IF(E37="ПП","Профессиональная переподготовка рабочих и служащих",IF(E37="ПО","Профессиональная подготовка рабочих и служащих",IF(E37="ПК","Повышение квалификации рабочих и служащих",IF(E37="ППЗ","Периодическая проверка знаний рабочих и служащих","")))),IF(D37="курсы","Программа обучения",IF(D37="ДПО",IF(E37="ПК","Повышение квалификации",IF(E37="ПП","Профессиональная переподготовка","")),""))) -> Профессиональная подготовка рабочих и служащих | M37: 22. ПРОФЕССИОНАЛЬНОЕ ОБУЧЕНИЕ РАБОЧИХ | N37: 22
A38: БП-00002540 | B38: ОБР762 | C38: Аппаратчик перегонки | D38: ПО | E38: ПК | F38: =E38 -> ПК | G38: 72 | H38: 3-6 разряд | I38: =SUBSTITUTE(SUBSTITUTE(H38," разряд",""),"разряд","") -> 3-6 | J38: =IF(D38="ПО","Профессиональное обучение",IF(D38="курсы","Программа обучения",IF(D38="ДПО",IF(E38="ПК","Повышение квалификации",IF(E38="ПП","Профессиональная переподготовка","")),""))) -> Профессиональное обучение | K38: =CONCATENATE(C38," (",G38," ч.)",)&IF(D38="ПО"," "&CHOOSE(MATCH(E38,{"ПП","ПО","ПК","ППЗ"},0),"- профессиональная переподготовка рабочих и служащих","- профессиональная подготовка рабочих и служащих","- повышение квалификации рабочих и служащих","- периодическая проверка знаний рабочих и служащих")&IF(AND(D38="ПО",H38<>"")," ("&H38&")",""),IF(D38="ДПО"," "&IF(E38="ПК","- повышение квалификации",IF(E38="ПП","- профессиональная переподготовка","")),IF(D38="курсы"," - программа обучения",""))) -> Аппаратчик перегонки (72 ч.) - повышение квалификации рабочих и служащих (3-6 разряд) | L38: =IF(D38="ПО",IF(E38="ПП","Профессиональная переподготовка рабочих и служащих",IF(E38="ПО","Профессиональная подготовка рабочих и служащих",IF(E38="ПК","Повышение квалификации рабочих и служащих",IF(E38="ППЗ","Периодическая проверка знаний рабочих и служащих","")))),IF(D38="курсы","Программа обучения",IF(D38="ДПО",IF(E38="ПК","Повышение квалификации",IF(E38="ПП","Профессиональная переподготовка","")),""))) -> Повышение квалификации рабочих и служащих | M38: 22. ПРОФЕССИОНАЛЬНОЕ ОБУЧЕНИЕ РАБОЧИХ | N38: 22
A39: БП-00002541 | B39: ОБР763 | C39: Аппаратчик перегонки | D39: ПО | E39: ППЗ | F39: =E39 -> ППЗ | G39: 8 | I39: =SUBSTITUTE(SUBSTITUTE(H39," разряд",""),"разряд","") | J39: =IF(D39="ПО","Профессиональное обучение",IF(D39="курсы","Программа обучения",IF(D39="ДПО",IF(E39="ПК","Повышение квалификации",IF(E39="ПП","Профессиональная переподготовка","")),""))) -> Профессиональное обучение | K39: =CONCATENATE(C39," (",G39," ч.)",)&IF(D39="ПО"," "&CHOOSE(MATCH(E39,{"ПП","ПО","ПК","ППЗ"},0),"- профессиональная переподготовка рабочих и служащих","- профессиональная подготовка рабочих и служащих","- повышение квалификации рабочих и служащих","- периодическая проверка знаний рабочих и служащих")&IF(AND(D39="ПО",H39<>"")," ("&H39&")",""),IF(D39="ДПО"," "&IF(E39="ПК","- повышение квалификации",IF(E39="ПП","- профессиональная переподготовка","")),IF(D39="курсы"," - программа обучения",""))) -> Аппаратчик перегонки (8 ч.) - периодическая проверка знаний рабочих и служащих | L39: =IF(D39="ПО",IF(E39="ПП","Профессиональная переподготовка рабочих и служащих",IF(E39="ПО","Профессиональная подготовка рабочих и служащих",IF(E39="ПК","Повышение квалификации рабочих и служащих",IF(E39="ППЗ","Периодическая проверка знаний рабочих и служащих","")))),IF(D39="курсы","Программа обучения",IF(D39="ДПО",IF(E39="ПК","Повышение квалификации",IF(E39="ПП","Профессиональная переподготовка","")),""))) -> Периодическая проверка знаний рабочих и служащих | M39: 22. ПРОФЕССИОНАЛЬНОЕ ОБУЧЕНИЕ РАБОЧИХ | N39: 22
A40: БП-00002544 | B40: ОБР765 | C40: Аппаратчик по сбору и обогащению шлама | D40: ПО | E40: ПП | F40: =E40 -> ПП | G40: 144 | I40: =SUBSTITUTE(SUBSTITUTE(H40," разряд",""),"разряд","") | J40: =IF(D40="ПО","Профессиональное обучение",IF(D40="курсы","Программа обучения",IF(D40="ДПО",IF(E40="ПК","Повышение квалификации",IF(E40="ПП","Профессиональная переподготовка","")),""))) -> Профессиональное обучение | K40: =CONCATENATE(C40," (",G40," ч.)",)&IF(D40="ПО"," "&CHOOSE(MATCH(E40,{"ПП","ПО","ПК","ППЗ"},0),"- профессиональная переподготовка рабочих и служащих","- профессиональная подготовка рабочих и служащих","- повышение квалификации рабочих и служащих","- периодическая проверка знаний рабочих и служащих")&IF(AND(D40="ПО",H40<>"")," ("&H40&")",""),IF(D40="ДПО"," "&IF(E40="ПК","- повышение квалификации",IF(E40="ПП","- профессиональная переподготовка","")),IF(D40="курсы"," - программа обучения",""))) -> Аппаратчик по сбору и обогащению шлама (144 ч.) - профессиональная переподготовка рабочих и служащих | L40: =IF(D40="ПО",IF(E40="ПП","Профессиональная переподготовка рабочих и служащих",IF(E40="ПО","Профессиональная подготовка рабочих и служащих",IF(E40="ПК","Повышение квалификации рабочих и служащих",IF(E40="ППЗ","Периодическая проверка знаний рабочих и служащих","")))),IF(D40="курсы","Программа обучения",IF(D40="ДПО",IF(E40="ПК","Повышение квалификации",IF(E40="ПП","Профессиональная переподготовка","")),""))) -> Профессиональная переподготовка рабочих и служащих | M40: 22. ПРОФЕССИОНАЛЬНОЕ ОБУЧЕНИЕ РАБОЧИХ | N40: 22
A41: БП-00002543 | B41: ОБР764 | C41: Аппаратчик по сбору и обогащению шлама | D41: ПО | E41: ПО | F41: =E41 -> ПО | G41: 160 | I41: =SUBSTITUTE(SUBSTITUTE(H41," разряд",""),"разряд","") | J41: =IF(D41="ПО","Профессиональное обучение",IF(D41="курсы","Программа обучения",IF(D41="ДПО",IF(E41="ПК","Повышение квалификации",IF(E41="ПП","Профессиональная переподготовка","")),""))) -> Профессиональное обучение | K41: =CONCATENATE(C41," (",G41," ч.)",)&IF(D41="ПО"," "&CHOOSE(MATCH(E41,{"ПП","ПО","ПК","ППЗ"},0),"- профессиональная переподготовка рабочих и служащих","- профессиональная подготовка рабочих и служащих","- повышение квалификации рабочих и служащих","- периодическая проверка знаний рабочих и служащих")&IF(AND(D41="ПО",H41<>"")," ("&H41&")",""),IF(D41="ДПО"," "&IF(E41="ПК","- повышение квалификации",IF(E41="ПП","- профессиональная переподготовка","")),IF(D41="курсы"," - программа обучения",""))) -> Аппаратчик по сбору и обогащению шлама (160 ч.) - профессиональная подготовка рабочих и служащих | L41: =IF(D41="ПО",IF(E41="ПП","Профессиональная переподготовка рабочих и служащих",IF(E41="ПО","Профессиональная подготовка рабочих и служащих",IF(E41="ПК","Повышение квалификации рабочих и служащих",IF(E41="ППЗ","Периодическая проверка знаний рабочих и служащих","")))),IF(D41="курсы","Программа обучения",IF(D41="ДПО",IF(E41="ПК","Повышение квалификации",IF(E41="ПП","Профессиональная переподготовка","")),""))) -> Профессиональная подготовка рабочих и служащих | M41: 22. ПРОФЕССИОНАЛЬНОЕ ОБУЧЕНИЕ РАБОЧИХ | N41: 22
A42: БП-00002545 | B42: ОБР766 | C42: Аппаратчик по сбору и обогащению шлама | D42: ПО | E42: ПК | F42: =E42 -> ПК | G42: 72 | I42: =SUBSTITUTE(SUBSTITUTE(H42," разряд",""),"разряд","") | J42: =IF(D42="ПО","Профессиональное обучение",IF(D42="курсы","Программа обучения",IF(D42="ДПО",IF(E42="ПК","Повышение квалификации",IF(E42="ПП","Профессиональная переподготовка","")),""))) -> Профессиональное обучение | K42: =CONCATENATE(C42," (",G42," ч.)",)&IF(D42="ПО"," "&CHOOSE(MATCH(E42,{"ПП","ПО","ПК","ППЗ"},0),"- профессиональная переподготовка рабочих и служащих","- профессиональная подготовка рабочих и служащих","- повышение квалификации рабочих и служащих","- периодическая проверка знаний рабочих и служащих")&IF(AND(D42="ПО",H42<>"")," ("&H42&")",""),IF(D42="ДПО"," "&IF(E42="ПК","- повышение квалификации",IF(E42="ПП","- профессиональная переподготовка","")),IF(D42="курсы"," - программа обучения",""))) -> Аппаратчик по сбору и обогащению шлама (72 ч.) - повышение квалификации рабочих и служащих | L42: =IF(D42="ПО",IF(E42="ПП","Профессиональная переподготовка рабочих и служащих",IF(E42="ПО","Профессиональная подготовка рабочих и служащих",IF(E42="ПК","Повышение квалификации рабочих и служащих",IF(E42="ППЗ","Периодическая проверка знаний рабочих и служащих","")))),IF(D42="курсы","Программа обучения",IF(D42="ДПО",IF(E42="ПК","Повышение квалификации",IF(E42="ПП","Профессиональная переподготовка","")),""))) -> Повышение квалификации рабочих и служащих | M42: 22. ПРОФЕССИОНАЛЬНОЕ ОБУЧЕНИЕ РАБОЧИХ | N42: 22
A43: БП-00002546 | B43: ОБР767 | C43: Аппаратчик по сбору и обогащению шлама | D43: ПО | E43: ППЗ | F43: =E43 -> ППЗ | G43: 8 | I43: =SUBSTITUTE(SUBSTITUTE(H43," разряд",""),"разряд","") | J43: =IF(D43="ПО","Профессиональное обучение",IF(D43="курсы","Программа обучения",IF(D43="ДПО",IF(E43="ПК","Повышение квалификации",IF(E43="ПП","Профессиональная переподготовка","")),""))) -> Профессиональное обучение | K43: =CONCATENATE(C43," (",G43," ч.)",)&IF(D43="ПО"," "&CHOOSE(MATCH(E43,{"ПП","ПО","ПК","ППЗ"},0),"- профессиональная переподготовка рабочих и служащих","- профессиональная подготовка рабочих и служащих","- повышение квалификации рабочих и служащих","- периодическая проверка знаний рабочих и служащих")&IF(AND(D43="ПО",H43<>"")," ("&H43&")",""),IF(D43="ДПО"," "&IF(E43="ПК","- повышение квалификации",IF(E43="ПП","- профессиональная переподготовка","")),IF(D43="курсы"," - программа обучения",""))) -> Аппаратчик по сбору и обогащению шлама (8 ч.) - периодическая проверка знаний рабочих и служащих | L43: =IF(D43="ПО",IF(E43="ПП","Профессиональная переподготовка рабочих и служащих",IF(E43="ПО","Профессиональная подготовка рабочих и служащих",IF(E43="ПК","Повышение квалификации рабочих и служащих",IF(E43="ППЗ","Периодическая проверка знаний рабочих и служащих","")))),IF(D43="курсы","Программа обучения",IF(D43="ДПО",IF(E43="ПК","Повышение квалификации",IF(E43="ПП","Профессиональная переподготовка","")),""))) -> Периодическая проверка знаний рабочих и служащих | M43: 22. ПРОФЕССИОНАЛЬНОЕ ОБУЧЕНИЕ РАБОЧИХ | N43: 22
A44: БП-00002549 | B44: ОБР769 | C44: Аппаратчик подготовки сырья и отпуска полуфабрикатов и продукции | D44: ПО | E44: ПП | F44: =E44 -> ПП | G44: 144 | I44: =SUBSTITUTE(SUBSTITUTE(H44," разряд",""),"разряд","") | J44: =IF(D44="ПО","Профессиональное обучение",IF(D44="курсы","Программа обучения",IF(D44="ДПО",IF(E44="ПК","Повышение квалификации",IF(E44="ПП","Профессиональная переподготовка","")),""))) -> Профессиональное обучение | K44: =CONCATENATE(C44," (",G44," ч.)",)&IF(D44="ПО"," "&CHOOSE(MATCH(E44,{"ПП","ПО","ПК","ППЗ"},0),"- профессиональная переподготовка рабочих и служащих","- профессиональная подготовка рабочих и служащих","- повышение квалификации рабочих и служащих","- периодическая проверка знаний рабочих и служащих")&IF(AND(D44="ПО",H44<>"")," ("&H44&")",""),IF(D44="ДПО"," "&IF(E44="ПК","- повышение квалификации",IF(E44="ПП","- профессиональная переподготовка","")),IF(D44="курсы"," - программа обучения",""))) -> Аппаратчик подготовки сырья и отпуска полуфабрикатов и продукции (144 ч.) - профессиональная переподготовка рабочих и служащих | L44: =IF(D44="ПО",IF(E44="ПП","Профессиональная переподготовка рабочих и служащих",IF(E44="ПО","Профессиональная подготовка рабочих и служащих",IF(E44="ПК","Повышение квалификации рабочих и служащих",IF(E44="ППЗ","Периодическая проверка знаний рабочих и служащих","")))),IF(D44="курсы","Программа обучения",IF(D44="ДПО",IF(E44="ПК","Повышение квалификации",IF(E44="ПП","Профессиональная переподготовка","")),""))) -> Профессиональная переподготовка рабочих и служащих | M44: 22. ПРОФЕССИОНАЛЬНОЕ ОБУЧЕНИЕ РАБОЧИХ | N44: 22
A45: БП-00002548 | B45: ОБР768 | C45: Аппаратчик подготовки сырья и отпуска полуфабрикатов и продукции | D45: ПО | E45: ПО | F45: =E45 -> ПО | G45: 160 | I45: =SUBSTITUTE(SUBSTITUTE(H45," разряд",""),"разряд","") | J45: =IF(D45="ПО","Профессиональное обучение",IF(D45="курсы","Программа обучения",IF(D45="ДПО",IF(E45="ПК","Повышение квалификации",IF(E45="ПП","Профессиональная переподготовка","")),""))) -> Профессиональное обучение | K45: =CONCATENATE(C45," (",G45," ч.)",)&IF(D45="ПО"," "&CHOOSE(MATCH(E45,{"ПП","ПО","ПК","ППЗ"},0),"- профессиональная переподготовка рабочих и служащих","- профессиональная подготовка рабочих и служащих","- повышение квалификации рабочих и служащих","- периодическая проверка знаний рабочих и служащих")&IF(AND(D45="ПО",H45<>"")," ("&H45&")",""),IF(D45="ДПО"," "&IF(E45="ПК","- повышение квалификации",IF(E45="ПП","- профессиональная переподготовка","")),IF(D45="курсы"," - программа обучения",""))) -> Аппаратчик подготовки сырья и отпуска полуфабрикатов и продукции (160 ч.) - профессиональная подготовка рабочих и служащих | L45: =IF(D45="ПО",IF(E45="ПП","Профессиональная переподготовка рабочих и служащих",IF(E45="ПО","Профессиональная подготовка рабочих и служащих",IF(E45="ПК","Повышение квалификации рабочих и служащих",IF(E45="ППЗ","Периодическая проверка знаний рабочих и служащих","")))),IF(D45="курсы","Программа обучения",IF(D45="ДПО",IF(E45="ПК","Повышение квалификации",IF(E45="ПП","Профессиональная переподготовка","")),""))) -> Профессиональная подготовка рабочих и служащих | M45: 22. ПРОФЕССИОНАЛЬНОЕ ОБУЧЕНИЕ РАБОЧИХ | N45: 22
A46: БП-00002550 | B46: ОБР770 | C46: Аппаратчик подготовки сырья и отпуска полуфабрикатов и продукции | D46: ПО | E46: ПК | F46: =E46 -> ПК | G46: 72 | I46: =SUBSTITUTE(SUBSTITUTE(H46," разряд",""),"разряд","") | J46: =IF(D46="ПО","Профессиональное обучение",IF(D46="курсы","Программа обучения",IF(D46="ДПО",IF(E46="ПК","Повышение квалификации",IF(E46="ПП","Профессиональная переподготовка","")),""))) -> Профессиональное обучение | K46: =CONCATENATE(C46," (",G46," ч.)",)&IF(D46="ПО"," "&CHOOSE(MATCH(E46,{"ПП","ПО","ПК","ППЗ"},0),"- профессиональная переподготовка рабочих и служащих","- профессиональная подготовка рабочих и служащих","- повышение квалификации рабочих и служащих","- периодическая проверка знаний рабочих и служащих")&IF(AND(D46="ПО",H46<>"")," ("&H46&")",""),IF(D46="ДПО"," "&IF(E46="ПК","- повышение квалификации",IF(E46="ПП","- профессиональная переподготовка","")),IF(D46="курсы"," - программа обучения",""))) -> Аппаратчик подготовки сырья и отпуска полуфабрикатов и продукции (72 ч.) - повышение квалификации рабочих и служащих | L46: =IF(D46="ПО",IF(E46="ПП","Профессиональная переподготовка рабочих и служащих",IF(E46="ПО","Профессиональная подготовка рабочих и служащих",IF(E46="ПК","Повышение квалификации рабочих и служащих",IF(E46="ППЗ","Периодическая проверка знаний рабочих и служащих","")))),IF(D46="курсы","Программа обучения",IF(D46="ДПО",IF(E46="ПК","Повышение квалификации",IF(E46="ПП","Профессиональная переподготовка","")),""))) -> Повышение квалификации рабочих и служащих | M46: 22. ПРОФЕССИОНАЛЬНОЕ ОБУЧЕНИЕ РАБОЧИХ | N46: 22
A47: БП-00002551 | B47: ОБР771 | C47: Аппаратчик подготовки сырья и отпуска полуфабрикатов и продукции | D47: ПО | E47: ППЗ | F47: =E47 -> ППЗ | G47: 8 | I47: =SUBSTITUTE(SUBSTITUTE(H47," разряд",""),"разряд","") | J47: =IF(D47="ПО","Профессиональное обучение",IF(D47="курсы","Программа обучения",IF(D47="ДПО",IF(E47="ПК","Повышение квалификации",IF(E47="ПП","Профессиональная переподготовка","")),""))) -> Профессиональное обучение | K47: =CONCATENATE(C47," (",G47," ч.)",)&IF(D47="ПО"," "&CHOOSE(MATCH(E47,{"ПП","ПО","ПК","ППЗ"},0),"- профессиональная переподготовка рабочих и служащих","- профессиональная подготовка рабочих и служащих","- повышение квалификации рабочих и служащих","- периодическая проверка знаний рабочих и служащих")&IF(AND(D47="ПО",H47<>"")," ("&H47&")",""),IF(D47="ДПО"," "&IF(E47="ПК","- повышение квалификации",IF(E47="ПП","- профессиональная переподготовка","")),IF(D47="курсы"," - программа обучения",""))) -> Аппаратчик подготовки сырья и отпуска полуфабрикатов и продукции (8 ч.) - периодическая проверка знаний рабочих и служащих | L47: =IF(D47="ПО",IF(E47="ПП","Профессиональная переподготовка рабочих и служащих",IF(E47="ПО","Профессиональная подготовка рабочих и служащих",IF(E47="ПК","Повышение квалификации рабочих и служащих",IF(E47="ППЗ","Периодическая проверка знаний рабочих и служащих","")))),IF(D47="курсы","Программа обучения",IF(D47="ДПО",IF(E47="ПК","Повышение квалификации",IF(E47="ПП","Профессиональная переподготовка","")),""))) -> Периодическая проверка знаний рабочих и служащих | M47: 22. ПРОФЕССИОНАЛЬНОЕ ОБУЧЕНИЕ РАБОЧИХ | N47: 22
A48: БП-00002554 | B48: ОБР773 | C48: Аппаратчик приготовления химических растворов | D48: ПО | E48: ПП | F48: =E48 -> ПП | G48: 144 | H48: 2 разряд | I48: =SUBSTITUTE(SUBSTITUTE(H48," разряд",""),"разряд","") -> 2 | J48: =IF(D48="ПО","Профессиональное обучение",IF(D48="курсы","Программа обучения",IF(D48="ДПО",IF(E48="ПК","Повышение квалификации",IF(E48="ПП","Профессиональная переподготовка","")),""))) -> Профессиональное обучение | K48: =CONCATENATE(C48," (",G48," ч.)",)&IF(D48="ПО"," "&CHOOSE(MATCH(E48,{"ПП","ПО","ПК","ППЗ"},0),"- профессиональная переподготовка рабочих и служащих","- профессиональная подготовка рабочих и служащих","- повышение квалификации рабочих и служащих","- периодическая проверка знаний рабочих и служащих")&IF(AND(D48="ПО",H48<>"")," ("&H48&")",""),IF(D48="ДПО"," "&IF(E48="ПК","- повышение квалификации",IF(E48="ПП","- профессиональная переподготовка","")),IF(D48="курсы"," - программа обучения",""))) -> Аппаратчик приготовления химических растворов (144 ч.) - профессиональная переподготовка рабочих и служащих (2 разряд) | L48: =IF(D48="ПО",IF(E48="ПП","Профессиональная переподготовка рабочих и служащих",IF(E48="ПО","Профессиональная подготовка рабочих и служащих",IF(E48="ПК","Повышение квалификации рабочих и служащих",IF(E48="ППЗ","Периодическая проверка знаний рабочих и служащих","")))),IF(D48="курсы","Программа обучения",IF(D48="ДПО",IF(E48="ПК","Повышение квалификации",IF(E48="ПП","Профессиональная переподготовка","")),""))) -> Профессиональная переподготовка рабочих и служащих | M48: 22. ПРОФЕССИОНАЛЬНОЕ ОБУЧЕНИЕ РАБОЧИХ | N48: 22
A49: БП-00002553 | B49: ОБР772 | C49: Аппаратчик приготовления химических растворов | D49: ПО | E49: ПО | F49: =E49 -> ПО | G49: 160 | H49: 2 разряд | I49: =SUBSTITUTE(SUBSTITUTE(H49," разряд",""),"разряд","") -> 2 | J49: =IF(D49="ПО","Профессиональное обучение",IF(D49="курсы","Программа обучения",IF(D49="ДПО",IF(E49="ПК","Повышение квалификации",IF(E49="ПП","Профессиональная переподготовка","")),""))) -> Профессиональное обучение | K49: =CONCATENATE(C49," (",G49," ч.)",)&IF(D49="ПО"," "&CHOOSE(MATCH(E49,{"ПП","ПО","ПК","ППЗ"},0),"- профессиональная переподготовка рабочих и служащих","- профессиональная подготовка рабочих и служащих","- повышение квалификации рабочих и служащих","- периодическая проверка знаний рабочих и служащих")&IF(AND(D49="ПО",H49<>"")," ("&H49&")",""),IF(D49="ДПО"," "&IF(E49="ПК","- повышение квалификации",IF(E49="ПП","- профессиональная переподготовка","")),IF(D49="курсы"," - программа обучения",""))) -> Аппаратчик приготовления химических растворов (160 ч.) - профессиональная подготовка рабочих и служащих (2 разряд) | L49: =IF(D49="ПО",IF(E49="ПП","Профессиональная переподготовка рабочих и служащих",IF(E49="ПО","Профессиональная подготовка рабочих и служащих",IF(E49="ПК","Повышение квалификации рабочих и служащих",IF(E49="ППЗ","Периодическая проверка знаний рабочих и служащих","")))),IF(D49="курсы","Программа обучения",IF(D49="ДПО",IF(E49="ПК","Повышение квалификации",IF(E49="ПП","Профессиональная переподготовка","")),""))) -> Профессиональная подготовка рабочих и служащих | M49: 22. ПРОФЕССИОНАЛЬНОЕ ОБУЧЕНИЕ РАБОЧИХ | N49: 22
A50: БП-00002555 | B50: ОБР774 | C50: Аппаратчик приготовления химических растворов | D50: ПО | E50: ПК | F50: =E50 -> ПК | G50: 72 | H50: 3-4 разряд | I50: =SUBSTITUTE(SUBSTITUTE(H50," разряд",""),"разряд","") -> 3-4 | J50: =IF(D50="ПО","Профессиональное обучение",IF(D50="курсы","Программа обучения",IF(D50="ДПО",IF(E50="ПК","Повышение квалификации",IF(E50="ПП","Профессиональная переподготовка","")),""))) -> Профессиональное обучение | K50: =CONCATENATE(C50," (",G50," ч.)",)&IF(D50="ПО"," "&CHOOSE(MATCH(E50,{"ПП","ПО","ПК","ППЗ"},0),"- профессиональная переподготовка рабочих и служащих","- профессиональная подготовка рабочих и служащих","- повышение квалификации рабочих и служащих","- периодическая проверка знаний рабочих и служащих")&IF(AND(D50="ПО",H50<>"")," ("&H50&")",""),IF(D50="ДПО"," "&IF(E50="ПК","- повышение квалификации",IF(E50="ПП","- профессиональная переподготовка","")),IF(D50="курсы"," - программа обучения",""))) -> Аппаратчик приготовления химических растворов (72 ч.) - повышение квалификации рабочих и служащих (3-4 разряд) | L50: =IF(D50="ПО",IF(E50="ПП","Профессиональная переподготовка рабочих и служащих",IF(E50="ПО","Профессиональная подготовка рабочих и служащих",IF(E50="ПК","Повышение квалификации рабочих и служащих",IF(E50="ППЗ","Периодическая проверка знаний рабочих и служащих","")))),IF(D50="курсы","Программа обучения",IF(D50="ДПО",IF(E50="ПК","Повышение квалификации",IF(E50="ПП","Профессиональная переподготовка","")),""))) -> Повышение квалификации рабочих и служащих | M50: 22. ПРОФЕССИОНАЛЬНОЕ ОБУЧЕНИЕ РАБОЧИХ | N50: 22
A51: БП-00002556 | B51: ОБР775 | C51: Аппаратчик приготовления химических растворов | D51: ПО | E51: ППЗ | F51: =E51 -> ППЗ | G51: 8 | I51: =SUBSTITUTE(SUBSTITUTE(H51," разряд",""),"разряд","") | J51: =IF(D51="ПО","Профессиональное обучение",IF(D51="курсы","Программа обучения",IF(D51="ДПО",IF(E51="ПК","Повышение квалификации",IF(E51="ПП","Профессиональная переподготовка","")),""))) -> Профессиональное обучение | K51: =CONCATENATE(C51," (",G51," ч.)",)&IF(D51="ПО"," "&CHOOSE(MATCH(E51,{"ПП","ПО","ПК","ППЗ"},0),"- профессиональная переподготовка рабочих и служащих","- профессиональная подготовка рабочих и служащих","- повышение квалификации рабочих и служащих","- периодическая проверка знаний рабочих и служащих")&IF(AND(D51="ПО",H51<>"")," ("&H51&")",""),IF(D51="ДПО"," "&IF(E51="ПК","- повышение квалификации",IF(E51="ПП","- профессиональная переподготовка","")),IF(D51="курсы"," - программа обучения",""))) -> Аппаратчик приготовления химических растворов (8 ч.) - периодическая проверка знаний рабочих и служащих | L51: =IF(D51="ПО",IF(E51="ПП","Профессиональная переподготовка рабочих и служащих",IF(E51="ПО","Профессиональная подготовка рабочих и служащих",IF(E51="ПК","Повышение квалификации рабочих и служащих",IF(E51="ППЗ","Периодическая проверка знаний рабочих и служащих","")))),IF(D51="курсы","Программа обучения",IF(D51="ДПО",IF(E51="ПК","Повышение квалификации",IF(E51="ПП","Профессиональная переподготовка","")),""))) -> Периодическая проверка знаний рабочих и служащих | M51: 22. ПРОФЕССИОНАЛЬНОЕ ОБУЧЕНИЕ РАБОЧИХ | N51: 22
A52: БП-00002559 | B52: ОБР777 | C52: Аппаратчик производства контактной серной кислоты | D52: ПО | E52: ПП | F52: =E52 -> ПП | G52: 144 | I52: =SUBSTITUTE(SUBSTITUTE(H52," разряд",""),"разряд","") | J52: =IF(D52="ПО","Профессиональное обучение",IF(D52="курсы","Программа обучения",IF(D52="ДПО",IF(E52="ПК","Повышение квалификации",IF(E52="ПП","Профессиональная переподготовка","")),""))) -> Профессиональное обучение | K52: =CONCATENATE(C52," (",G52," ч.)",)&IF(D52="ПО"," "&CHOOSE(MATCH(E52,{"ПП","ПО","ПК","ППЗ"},0),"- профессиональная переподготовка рабочих и служащих","- профессиональная подготовка рабочих и служащих","- повышение квалификации рабочих и служащих","- периодическая проверка знаний рабочих и служащих")&IF(AND(D52="ПО",H52<>"")," ("&H52&")",""),IF(D52="ДПО"," "&IF(E52="ПК","- повышение квалификации",IF(E52="ПП","- профессиональная переподготовка","")),IF(D52="курсы"," - программа обучения",""))) -> Аппаратчик производства контактной серной кислоты (144 ч.) - профессиональная переподготовка рабочих и служащих | L52: =IF(D52="ПО",IF(E52="ПП","Профессиональная переподготовка рабочих и служащих",IF(E52="ПО","Профессиональная подготовка рабочих и служащих",IF(E52="ПК","Повышение квалификации рабочих и служащих",IF(E52="ППЗ","Периодическая проверка знаний рабочих и служащих","")))),IF(D52="курсы","Программа обучения",IF(D52="ДПО",IF(E52="ПК","Повышение квалификации",IF(E52="ПП","Профессиональная переподготовка","")),""))) -> Профессиональная переподготовка рабочих и служащих | M52: 22. ПРОФЕССИОНАЛЬНОЕ ОБУЧЕНИЕ РАБОЧИХ | N52: 22
A53: БП-00002558 | B53: ОБР776 | C53: Аппаратчик производства контактной серной кислоты | D53: ПО | E53: ПО | F53: =E53 -> ПО | G53: 160 | I53: =SUBSTITUTE(SUBSTITUTE(H53," разряд",""),"разряд","") | J53: =IF(D53="ПО","Профессиональное обучение",IF(D53="курсы","Программа обучения",IF(D53="ДПО",IF(E53="ПК","Повышение квалификации",IF(E53="ПП","Профессиональная переподготовка","")),""))) -> Профессиональное обучение | K53: =CONCATENATE(C53," (",G53," ч.)",)&IF(D53="ПО"," "&CHOOSE(MATCH(E53,{"ПП","ПО","ПК","ППЗ"},0),"- профессиональная переподготовка рабочих и служащих","- профессиональная подготовка рабочих и служащих","- повышение квалификации рабочих и служащих","- периодическая проверка знаний рабочих и служащих")&IF(AND(D53="ПО",H53<>"")," ("&H53&")",""),IF(D53="ДПО"," "&IF(E53="ПК","- повышение квалификации",IF(E53="ПП","- профессиональная переподготовка","")),IF(D53="курсы"," - программа обучения",""))) -> Аппаратчик производства контактной серной кислоты (160 ч.) - профессиональная подготовка рабочих и служащих | L53: =IF(D53="ПО",IF(E53="ПП","Профессиональная переподготовка рабочих и служащих",IF(E53="ПО","Профессиональная подготовка рабочих и служащих",IF(E53="ПК","Повышение квалификации рабочих и служащих",IF(E53="ППЗ","Периодическая проверка знаний рабочих и служащих","")))),IF(D53="курсы","Программа обучения",IF(D53="ДПО",IF(E53="ПК","Повышение квалификации",IF(E53="ПП","Профессиональная переподготовка","")),""))) -> Профессиональная подготовка рабочих и служащих | M53: 22. ПРОФЕССИОНАЛЬНОЕ ОБУЧЕНИЕ РАБОЧИХ | N53: 22
A54: БП-00002560 | B54: ОБР778 | C54: Аппаратчик производства контактной серной кислоты | D54: ПО | E54: ПК | F54: =E54 -> ПК | G54: 72 | I54: =SUBSTITUTE(SUBSTITUTE(H54," разряд",""),"разряд","") | J54: =IF(D54="ПО","Профессиональное обучение",IF(D54="курсы","Программа обучения",IF(D54="ДПО",IF(E54="ПК","Повышение квалификации",IF(E54="ПП","Профессиональная переподготовка","")),""))) -> Профессиональное обучение | K54: =CONCATENATE(C54," (",G54," ч.)",)&IF(D54="ПО"," "&CHOOSE(MATCH(E54,{"ПП","ПО","ПК","ППЗ"},0),"- профессиональная переподготовка рабочих и служащих","- профессиональная подготовка рабочих и служащих","- повышение квалификации рабочих и служащих","- периодическая проверка знаний рабочих и служащих")&IF(AND(D54="ПО",H54<>"")," ("&H54&")",""),IF(D54="ДПО"," "&IF(E54="ПК","- повышение квалификации",IF(E54="ПП","- профессиональная переподготовка","")),IF(D54="курсы"," - программа обучения",""))) -> Аппаратчик производства контактной серной кислоты (72 ч.) - повышение квалификации рабочих и служащих | L54: =IF(D54="ПО",IF(E54="ПП","Профессиональная переподготовка рабочих и служащих",IF(E54="ПО","Профессиональная подготовка рабочих и служащих",IF(E54="ПК","Повышение квалификации рабочих и служащих",IF(E54="ППЗ","Периодическая проверка знаний рабочих и служащих","")))),IF(D54="курсы","Программа обучения",IF(D54="ДПО",IF(E54="ПК","Повышение квалификации",IF(E54="ПП","Профессиональная переподготовка","")),""))) -> Повышение квалификации рабочих и служащих | M54: 22. ПРОФЕССИОНАЛЬНОЕ ОБУЧЕНИЕ РАБОЧИХ | N54: 22
A55: БП-00002561 | B55: ОБР779 | C55: Аппаратчик производства контактной серной кислоты | D55: ПО | E55: ППЗ | F55: =E55 -> ППЗ | G55: 8 | I55: =SUBSTITUTE(SUBSTITUTE(H55," разряд",""),"разряд","") | J55: =IF(D55="ПО","Профессиональное обучение",IF(D55="курсы","Программа обучения",IF(D55="ДПО",IF(E55="ПК","Повышение квалификации",IF(E55="ПП","Профессиональная переподготовка","")),""))) -> Профессиональное обучение | K55: =CONCATENATE(C55," (",G55," ч.)",)&IF(D55="ПО"," "&CHOOSE(MATCH(E55,{"ПП","ПО","ПК","ППЗ"},0),"- профессиональная переподготовка рабочих и служащих","- профессиональная подготовка рабочих и служащих","- повышение квалификации рабочих и служащих","- периодическая проверка знаний рабочих и служащих")&IF(AND(D55="ПО",H55<>"")," ("&H55&")",""),IF(D55="ДПО"," "&IF(E55="ПК","- повышение квалификации",IF(E55="ПП","- профессиональная переподготовка","")),IF(D55="курсы"," - программа обучения",""))) -> Аппаратчик производства контактной серной кислоты (8 ч.) - периодическая проверка знаний рабочих и служащих | L55: =IF(D55="ПО",IF(E55="ПП","Профессиональная переподготовка рабочих и служащих",IF(E55="ПО","Профессиональная подготовка рабочих и служащих",IF(E55="ПК","Повышение квалификации рабочих и служащих",IF(E55="ППЗ","Периодическая проверка знаний рабочих и служащих","")))),IF(D55="курсы","Программа обучения",IF(D55="ДПО",IF(E55="ПК","Повышение квалификации",IF(E55="ПП","Профессиональная переподготовка","")),""))) -> Периодическая проверка знаний рабочих и служащих | M55: 22. ПРОФЕССИОНАЛЬНОЕ ОБУЧЕНИЕ РАБОЧИХ | N55: 22
A56: БП-00001608 | B56: ОБР164 | C56: Аппаратчик сжигания | D56: ПО | E56: ПП | F56: =E56 -> ПП | G56: 144 | H56: 3 разряд | I56: =SUBSTITUTE(SUBSTITUTE(H56," разряд",""),"разряд","") -> 3 | J56: =IF(D56="ПО","Профессиональное обучение",IF(D56="курсы","Программа обучения",IF(D56="ДПО",IF(E56="ПК","Повышение квалификации",IF(E56="ПП","Профессиональная переподготовка","")),""))) -> Профессиональное обучение | K56: =CONCATENATE(C56," (",G56," ч.)",)&IF(D56="ПО"," "&CHOOSE(MATCH(E56,{"ПП","ПО","ПК","ППЗ"},0),"- профессиональная переподготовка рабочих и служащих","- профессиональная подготовка рабочих и служащих","- повышение квалификации рабочих и служащих","- периодическая проверка знаний рабочих и служащих")&IF(AND(D56="ПО",H56<>"")," ("&H56&")",""),IF(D56="ДПО"," "&IF(E56="ПК","- повышение квалификации",IF(E56="ПП","- профессиональная переподготовка","")),IF(D56="курсы"," - программа обучения",""))) -> Аппаратчик сжигания (144 ч.) - профессиональная переподготовка рабочих и служащих (3 разряд) | L56: =IF(D56="ПО",IF(E56="ПП","Профессиональная переподготовка рабочих и служащих",IF(E56="ПО","Профессиональная подготовка рабочих и служащих",IF(E56="ПК","Повышение квалификации рабочих и служащих",IF(E56="ППЗ","Периодическая проверка знаний рабочих и служащих","")))),IF(D56="курсы","Программа обучения",IF(D56="ДПО",IF(E56="ПК","Повышение квалификации",IF(E56="ПП","Профессиональная переподготовка","")),""))) -> Профессиональная переподготовка рабочих и служащих | M56: 22. ПРОФЕССИОНАЛЬНОЕ ОБУЧЕНИЕ РАБОЧИХ | N56: 22
A57: БП-00000185 | B57: ОБР364 | C57: Аппаратчик сжигания | D57: ПО | E57: ПО | F57: =E57 -> ПО | G57: 160 | H57: 3 разряд | I57: =SUBSTITUTE(SUBSTITUTE(H57," разряд",""),"разряд","") -> 3 | J57: =IF(D57="ПО","Профессиональное обучение",IF(D57="курсы","Программа обучения",IF(D57="ДПО",IF(E57="ПК","Повышение квалификации",IF(E57="ПП","Профессиональная переподготовка","")),""))) -> Профессиональное обучение | K57: =CONCATENATE(C57," (",G57," ч.)",)&IF(D57="ПО"," "&CHOOSE(MATCH(E57,{"ПП","ПО","ПК","ППЗ"},0),"- профессиональная переподготовка рабочих и служащих","- профессиональная подготовка рабочих и служащих","- повышение квалификации рабочих и служащих","- периодическая проверка знаний рабочих и служащих")&IF(AND(D57="ПО",H57<>"")," ("&H57&")",""),IF(D57="ДПО"," "&IF(E57="ПК","- повышение квалификации",IF(E57="ПП","- профессиональная переподготовка","")),IF(D57="курсы"," - программа обучения",""))) -> Аппаратчик сжигания (160 ч.) - профессиональная подготовка рабочих и служащих (3 разряд) | L57: =IF(D57="ПО",IF(E57="ПП","Профессиональная переподготовка рабочих и служащих",IF(E57="ПО","Профессиональная подготовка рабочих и служащих",IF(E57="ПК","Повышение квалификации рабочих и служащих",IF(E57="ППЗ","Периодическая проверка знаний рабочих и служащих","")))),IF(D57="курсы","Программа обучения",IF(D57="ДПО",IF(E57="ПК","Повышение квалификации",IF(E57="ПП","Профессиональная переподготовка","")),""))) -> Профессиональная подготовка рабочих и служащих | M57: 22. ПРОФЕССИОНАЛЬНОЕ ОБУЧЕНИЕ РАБОЧИХ | N57: 22
A58: БП-00001609 | B58: ОБР365 | C58: Аппаратчик сжигания | D58: ПО | E58: ПК | F58: =E58 -> ПК | G58: 72 | H58: 4-5 разряд | I58: =SUBSTITUTE(SUBSTITUTE(H58," разряд",""),"разряд","") -> 4-5 | J58: =IF(D58="ПО","Профессиональное обучение",IF(D58="курсы","Программа обучения",IF(D58="ДПО",IF(E58="ПК","Повышение квалификации",IF(E58="ПП","Профессиональная переподготовка","")),""))) -> Профессиональное обучение | K58: =CONCATENATE(C58," (",G58," ч.)",)&IF(D58="ПО"," "&CHOOSE(MATCH(E58,{"ПП","ПО","ПК","ППЗ"},0),"- профессиональная переподготовка рабочих и служащих","- профессиональная подготовка рабочих и служащих","- повышение квалификации рабочих и служащих","- периодическая проверка знаний рабочих и служащих")&IF(AND(D58="ПО",H58<>"")," ("&H58&")",""),IF(D58="ДПО"," "&IF(E58="ПК","- повышение квалификации",IF(E58="ПП","- профессиональная переподготовка","")),IF(D58="курсы"," - программа обучения",""))) -> Аппаратчик сжигания (72 ч.) - повышение квалификации рабочих и служащих (4-5 разряд) | L58: =IF(D58="ПО",IF(E58="ПП","Профессиональная переподготовка рабочих и служащих",IF(E58="ПО","Профессиональная подготовка рабочих и служащих",IF(E58="ПК","Повышение квалификации рабочих и служащих",IF(E58="ППЗ","Периодическая проверка знаний рабочих и служащих","")))),IF(D58="курсы","Программа обучения",IF(D58="ДПО",IF(E58="ПК","Повышение квалификации",IF(E58="ПП","Профессиональная переподготовка","")),""))) -> Повышение квалификации рабочих и служащих | M58: 22. ПРОФЕССИОНАЛЬНОЕ ОБУЧЕНИЕ РАБОЧИХ | N58: 22
A59: БП-00001610 | B59: ОБР366 | C59: Аппаратчик сжигания | D59: ПО | E59: ППЗ | F59: =E59 -> ППЗ | G59: 8 | I59: =SUBSTITUTE(SUBSTITUTE(H59," разряд",""),"разряд","") | J59: =IF(D59="ПО","Профессиональное обучение",IF(D59="курсы","Программа обучения",IF(D59="ДПО",IF(E59="ПК","Повышение квалификации",IF(E59="ПП","Профессиональная переподготовка","")),""))) -> Профессиональное обучение | K59: =CONCATENATE(C59," (",G59," ч.)",)&IF(D59="ПО"," "&CHOOSE(MATCH(E59,{"ПП","ПО","ПК","ППЗ"},0),"- профессиональная переподготовка рабочих и служащих","- профессиональная подготовка рабочих и служащих","- повышение квалификации рабочих и служащих","- периодическая проверка знаний рабочих и служащих")&IF(AND(D59="ПО",H59<>"")," ("&H59&")",""),IF(D59="ДПО"," "&IF(E59="ПК","- повышение квалификации",IF(E59="ПП","- профессиональная переподготовка","")),IF(D59="курсы"," - программа обучения",""))) -> Аппаратчик сжигания (8 ч.) - периодическая проверка знаний рабочих и служащих | L59: =IF(D59="ПО",IF(E59="ПП","Профессиональная переподготовка рабочих и служащих",IF(E59="ПО","Профессиональная подготовка рабочих и служащих",IF(E59="ПК","Повышение квалификации рабочих и служащих",IF(E59="ППЗ","Периодическая проверка знаний рабочих и служащих","")))),IF(D59="курсы","Программа обучения",IF(D59="ДПО",IF(E59="ПК","Повышение квалификации",IF(E59="ПП","Профессиональная переподготовка","")),""))) -> Периодическая проверка знаний рабочих и служащих | M59: 22. ПРОФЕССИОНАЛЬНОЕ ОБУЧЕНИЕ РАБОЧИХ | N59: 22
A60: БП-00002564 | B60: ОБР781 | C60: Аппаратчик синтеза | D60: ПО | E60: ПП | F60: =E60 -> ПП | G60: 144 | H60: 2 разряд | I60: =SUBSTITUTE(SUBSTITUTE(H60," разряд",""),"разряд","") -> 2 | J60: =IF(D60="ПО","Профессиональное обучение",IF(D60="курсы","Программа обучения",IF(D60="ДПО",IF(E60="ПК","Повышение квалификации",IF(E60="ПП","Профессиональная переподготовка","")),""))) -> Профессиональное обучение | K60: =CONCATENATE(C60," (",G60," ч.)",)&IF(D60="ПО"," "&CHOOSE(MATCH(E60,{"ПП","ПО","ПК","ППЗ"},0),"- профессиональная переподготовка рабочих и служащих","- профессиональная подготовка рабочих и служащих","- повышение квалификации рабочих и служащих","- периодическая проверка знаний рабочих и служащих")&IF(AND(D60="ПО",H60<>"")," ("&H60&")",""),IF(D60="ДПО"," "&IF(E60="ПК","- повышение квалификации",IF(E60="ПП","- профессиональная переподготовка","")),IF(D60="курсы"," - программа обучения",""))) -> Аппаратчик синтеза (144 ч.) - профессиональная переподготовка рабочих и служащих (2 разряд) | L60: =IF(D60="ПО",IF(E60="ПП","Профессиональная переподготовка рабочих и служащих",IF(E60="ПО","Профессиональная подготовка рабочих и служащих",IF(E60="ПК","Повышение квалификации рабочих и служащих",IF(E60="ППЗ","Периодическая проверка знаний рабочих и служащих","")))),IF(D60="курсы","Программа обучения",IF(D60="ДПО",IF(E60="ПК","Повышение квалификации",IF(E60="ПП","Профессиональная переподготовка","")),""))) -> Профессиональная переподготовка рабочих и служащих | M60: 22. ПРОФЕССИОНАЛЬНОЕ ОБУЧЕНИЕ РАБОЧИХ | N60: 22
A61: БП-00002563 | B61: ОБР780 | C61: Аппаратчик синтеза | D61: ПО | E61: ПО | F61: =E61 -> ПО | G61: 160 | H61: 2 разряд | I61: =SUBSTITUTE(SUBSTITUTE(H61," разряд",""),"разряд","") -> 2 | J61: =IF(D61="ПО","Профессиональное обучение",IF(D61="курсы","Программа обучения",IF(D61="ДПО",IF(E61="ПК","Повышение квалификации",IF(E61="ПП","Профессиональная переподготовка","")),""))) -> Профессиональное обучение | K61: =CONCATENATE(C61," (",G61," ч.)",)&IF(D61="ПО"," "&CHOOSE(MATCH(E61,{"ПП","ПО","ПК","ППЗ"},0),"- профессиональная переподготовка рабочих и служащих","- профессиональная подготовка рабочих и служащих","- повышение квалификации рабочих и служащих","- периодическая проверка знаний рабочих и служащих")&IF(AND(D61="ПО",H61<>"")," ("&H61&")",""),IF(D61="ДПО"," "&IF(E61="ПК","- повышение квалификации",IF(E61="ПП","- профессиональная переподготовка","")),IF(D61="курсы"," - программа обучения",""))) -> Аппаратчик синтеза (160 ч.) - профессиональная подготовка рабочих и служащих (2 разряд) | L61: =IF(D61="ПО",IF(E61="ПП","Профессиональная переподготовка рабочих и служащих",IF(E61="ПО","Профессиональная подготовка рабочих и служащих",IF(E61="ПК","Повышение квалификации рабочих и служащих",IF(E61="ППЗ","Периодическая проверка знаний рабочих и служащих","")))),IF(D61="курсы","Программа обучения",IF(D61="ДПО",IF(E61="ПК","Повышение квалификации",IF(E61="ПП","Профессиональная переподготовка","")),""))) -> Профессиональная подготовка рабочих и служащих | M61: 22. ПРОФЕССИОНАЛЬНОЕ ОБУЧЕНИЕ РАБОЧИХ | N61: 22
A62: БП-00002565 | B62: ОБР782 | C62: Аппаратчик синтеза | D62: ПО | E62: ПК | F62: =E62 -> ПК | G62: 72 | H62: 3-7 разряд | I62: =SUBSTITUTE(SUBSTITUTE(H62," разряд",""),"разряд","") -> 3-7 | J62: =IF(D62="ПО","Профессиональное обучение",IF(D62="курсы","Программа обучения",IF(D62="ДПО",IF(E62="ПК","Повышение квалификации",IF(E62="ПП","Профессиональная переподготовка","")),""))) -> Профессиональное обучение | K62: =CONCATENATE(C62," (",G62," ч.)",)&IF(D62="ПО"," "&CHOOSE(MATCH(E62,{"ПП","ПО","ПК","ППЗ"},0),"- профессиональная переподготовка рабочих и служащих","- профессиональная подготовка рабочих и служащих","- повышение квалификации рабочих и служащих","- периодическая проверка знаний рабочих и служащих")&IF(AND(D62="ПО",H62<>"")," ("&H62&")",""),IF(D62="ДПО"," "&IF(E62="ПК","- повышение квалификации",IF(E62="ПП","- профессиональная переподготовка","")),IF(D62="курсы"," - программа обучения",""))) -> Аппаратчик синтеза (72 ч.) - повышение квалификации рабочих и служащих (3-7 разряд) | L62: =IF(D62="ПО",IF(E62="ПП","Профессиональная переподготовка рабочих и служащих",IF(E62="ПО","Профессиональная подготовка рабочих и служащих",IF(E62="ПК","Повышение квалификации рабочих и служащих",IF(E62="ППЗ","Периодическая проверка знаний рабочих и служащих","")))),IF(D62="курсы","Программа обучения",IF(D62="ДПО",IF(E62="ПК","Повышение квалификации",IF(E62="ПП","Профессиональная переподготовка","")),""))) -> Повышение квалификации рабочих и служащих | M62: 22. ПРОФЕССИОНАЛЬНОЕ ОБУЧЕНИЕ РАБОЧИХ | N62: 22
A63: БП-00002566 | B63: ОБР783 | C63: Аппаратчик синтеза | D63: ПО | E63: ППЗ | F63: =E63 -> ППЗ | G63: 8 | I63: =SUBSTITUTE(SUBSTITUTE(H63," разряд",""),"разряд","") | J63: =IF(D63="ПО","Профессиональное обучение",IF(D63="курсы","Программа обучения",IF(D63="ДПО",IF(E63="ПК","Повышение квалификации",IF(E63="ПП","Профессиональная переподготовка","")),""))) -> Профессиональное обучение | K63: =CONCATENATE(C63," (",G63," ч.)",)&IF(D63="ПО"," "&CHOOSE(MATCH(E63,{"ПП","ПО","ПК","ППЗ"},0),"- профессиональная переподготовка рабочих и служащих","- профессиональная подготовка рабочих и служащих","- повышение квалификации рабочих и служащих","- периодическая проверка знаний рабочих и служащих")&IF(AND(D63="ПО",H63<>"")," ("&H63&")",""),IF(D63="ДПО"," "&IF(E63="ПК","- повышение квалификации",IF(E63="ПП","- профессиональная переподготовка","")),IF(D63="курсы"," - программа обучения",""))) -> Аппаратчик синтеза (8 ч.) - периодическая проверка знаний рабочих и служащих | L63: =IF(D63="ПО",IF(E63="ПП","Профессиональная переподготовка рабочих и служащих",IF(E63="ПО","Профессиональная подготовка рабочих и служащих",IF(E63="ПК","Повышение квалификации рабочих и служащих",IF(E63="ППЗ","Периодическая проверка знаний рабочих и служащих","")))),IF(D63="курсы","Программа обучения",IF(D63="ДПО",IF(E63="ПК","Повышение квалификации",IF(E63="ПП","Профессиональная переподготовка","")),""))) -> Периодическая проверка знаний рабочих и служащих | M63: 22. ПРОФЕССИОНАЛЬНОЕ ОБУЧЕНИЕ РАБОЧИХ | N63: 22
A64: БП-00002569 | B64: ОБР785 | C64: Аппаратчик смешивания | D64: ПО | E64: ПП | F64: =E64 -> ПП | G64: 144 | H64: 2 разряд | I64: =SUBSTITUTE(SUBSTITUTE(H64," разряд",""),"разряд","") -> 2 | J64: =IF(D64="ПО","Профессиональное обучение",IF(D64="курсы","Программа обучения",IF(D64="ДПО",IF(E64="ПК","Повышение квалификации",IF(E64="ПП","Профессиональная переподготовка","")),""))) -> Профессиональное обучение | K64: =CONCATENATE(C64," (",G64," ч.)",)&IF(D64="ПО"," "&CHOOSE(MATCH(E64,{"ПП","ПО","ПК","ППЗ"},0),"- профессиональная переподготовка рабочих и служащих","- профессиональная подготовка рабочих и служащих","- повышение квалификации рабочих и служащих","- периодическая проверка знаний рабочих и служащих")&IF(AND(D64="ПО",H64<>"")," ("&H64&")",""),IF(D64="ДПО"," "&IF(E64="ПК","- повышение квалификации",IF(E64="ПП","- профессиональная переподготовка","")),IF(D64="курсы"," - программа обучения",""))) -> Аппаратчик смешивания (144 ч.) - профессиональная переподготовка рабочих и служащих (2 разряд) | L64: =IF(D64="ПО",IF(E64="ПП","Профессиональная переподготовка рабочих и служащих",IF(E64="ПО","Профессиональная подготовка рабочих и служащих",IF(E64="ПК","Повышение квалификации рабочих и служащих",IF(E64="ППЗ","Периодическая проверка знаний рабочих и служащих","")))),IF(D64="курсы","Программа обучения",IF(D64="ДПО",IF(E64="ПК","Повышение квалификации",IF(E64="ПП","Профессиональная переподготовка","")),""))) -> Профессиональная переподготовка рабочих и служащих | M64: 22. ПРОФЕССИОНАЛЬНОЕ ОБУЧЕНИЕ РАБОЧИХ | N64: 22
A65: БП-00002568 | B65: ОБР784 | C65: Аппаратчик смешивания | D65: ПО | E65: ПО | F65: =E65 -> ПО | G65: 160 | H65: 2 разряд | I65: =SUBSTITUTE(SUBSTITUTE(H65," разряд",""),"разряд","") -> 2 | J65: =IF(D65="ПО","Профессиональное обучение",IF(D65="курсы","Программа обучения",IF(D65="ДПО",IF(E65="ПК","Повышение квалификации",IF(E65="ПП","Профессиональная переподготовка","")),""))) -> Профессиональное обучение | K65: =CONCATENATE(C65," (",G65," ч.)",)&IF(D65="ПО"," "&CHOOSE(MATCH(E65,{"ПП","ПО","ПК","ППЗ"},0),"- профессиональная переподготовка рабочих и служащих","- профессиональная подготовка рабочих и служащих","- повышение квалификации рабочих и служащих","- периодическая проверка знаний рабочих и служащих")&IF(AND(D65="ПО",H65<>"")," ("&H65&")",""),IF(D65="ДПО"," "&IF(E65="ПК","- повышение квалификации",IF(E65="ПП","- профессиональная переподготовка","")),IF(D65="курсы"," - программа обучения",""))) -> Аппаратчик смешивания (160 ч.) - профессиональная подготовка рабочих и служащих (2 разряд) | L65: =IF(D65="ПО",IF(E65="ПП","Профессиональная переподготовка рабочих и служащих",IF(E65="ПО","Профессиональная подготовка рабочих и служащих",IF(E65="ПК","Повышение квалификации рабочих и служащих",IF(E65="ППЗ","Периодическая проверка знаний рабочих и служащих","")))),IF(D65="курсы","Программа обучения",IF(D65="ДПО",IF(E65="ПК","Повышение квалификации",IF(E65="ПП","Профессиональная переподготовка","")),""))) -> Профессиональная подготовка рабочих и служащих | M65: 22. ПРОФЕССИОНАЛЬНОЕ ОБУЧЕНИЕ РАБОЧИХ | N65: 22
A66: БП-00002570 | B66: ОБР786 | C66: Аппаратчик смешивания | D66: ПО | E66: ПК | F66: =E66 -> ПК | G66: 72 | H66: 3-5 разряд | I66: =SUBSTITUTE(SUBSTITUTE(H66," разряд",""),"разряд","") -> 3-5 | J66: =IF(D66="ПО","Профессиональное обучение",IF(D66="курсы","Программа обучения",IF(D66="ДПО",IF(E66="ПК","Повышение квалификации",IF(E66="ПП","Профессиональная переподготовка","")),""))) -> Профессиональное обучение | K66: =CONCATENATE(C66," (",G66," ч.)",)&IF(D66="ПО"," "&CHOOSE(MATCH(E66,{"ПП","ПО","ПК","ППЗ"},0),"- профессиональная переподготовка рабочих и служащих","- профессиональная подготовка рабочих и служащих","- повышение квалификации рабочих и служащих","- периодическая проверка знаний рабочих и служащих")&IF(AND(D66="ПО",H66<>"")," ("&H66&")",""),IF(D66="ДПО"," "&IF(E66="ПК","- повышение квалификации",IF(E66="ПП","- профессиональная переподготовка","")),IF(D66="курсы"," - программа обучения",""))) -> Аппаратчик смешивания (72 ч.) - повышение квалификации рабочих и служащих (3-5 разряд) | L66: =IF(D66="ПО",IF(E66="ПП","Профессиональная переподготовка рабочих и служащих",IF(E66="ПО","Профессиональная подготовка рабочих и служащих",IF(E66="ПК","Повышение квалификации рабочих и служащих",IF(E66="ППЗ","Периодическая проверка знаний рабочих и служащих","")))),IF(D66="курсы","Программа обучения",IF(D66="ДПО",IF(E66="ПК","Повышение квалификации",IF(E66="ПП","Профессиональная переподготовка","")),""))) -> Повышение квалификации рабочих и служащих | M66: 22. ПРОФЕССИОНАЛЬНОЕ ОБУЧЕНИЕ РАБОЧИХ | N66: 22
A67: БП-00002571 | B67: ОБР787 | C67: Аппаратчик смешивания | D67: ПО | E67: ППЗ | F67: =E67 -> ППЗ | G67: 8 | I67: =SUBSTITUTE(SUBSTITUTE(H67," разряд",""),"разряд","") | J67: =IF(D67="ПО","Профессиональное обучение",IF(D67="курсы","Программа обучения",IF(D67="ДПО",IF(E67="ПК","Повышение квалификации",IF(E67="ПП","Профессиональная переподготовка","")),""))) -> Профессиональное обучение | K67: =CONCATENATE(C67," (",G67," ч.)",)&IF(D67="ПО"," "&CHOOSE(MATCH(E67,{"ПП","ПО","ПК","ППЗ"},0),"- профессиональная переподготовка рабочих и служащих","- профессиональная подготовка рабочих и служащих","- повышение квалификации рабочих и служащих","- периодическая проверка знаний рабочих и служащих")&IF(AND(D67="ПО",H67<>"")," ("&H67&")",""),IF(D67="ДПО"," "&IF(E67="ПК","- повышение квалификации",IF(E67="ПП","- профессиональная переподготовка","")),IF(D67="курсы"," - программа обучения",""))) -> Аппаратчик смешивания (8 ч.) - периодическая проверка знаний рабочих и служащих | L67: =IF(D67="ПО",IF(E67="ПП","Профессиональная переподготовка рабочих и служащих",IF(E67="ПО","Профессиональная подготовка рабочих и служащих",IF(E67="ПК","Повышение квалификации рабочих и служащих",IF(E67="ППЗ","Периодическая проверка знаний рабочих и служащих","")))),IF(D67="курсы","Программа обучения",IF(D67="ДПО",IF(E67="ПК","Повышение квалификации",IF(E67="ПП","Профессиональная переподготовка","")),""))) -> Периодическая проверка знаний рабочих и служащих | M67: 22. ПРОФЕССИОНАЛЬНОЕ ОБУЧЕНИЕ РАБОЧИХ | N67: 22
A68: БП-00002574 | B68: ОБР789 | C68: Аппаратчик химводоочистки | D68: ПО | E68: ПП | F68: =E68 -> ПП | G68: 144 | I68: =SUBSTITUTE(SUBSTITUTE(H68," разряд",""),"разряд","") | J68: =IF(D68="ПО","Профессиональное обучение",IF(D68="курсы","Программа обучения",IF(D68="ДПО",IF(E68="ПК","Повышение квалификации",IF(E68="ПП","Профессиональная переподготовка","")),""))) -> Профессиональное обучение | K68: =CONCATENATE(C68," (",G68," ч.)",)&IF(D68="ПО"," "&CHOOSE(MATCH(E68,{"ПП","ПО","ПК","ППЗ"},0),"- профессиональная переподготовка рабочих и служащих","- профессиональная подготовка рабочих и служащих","- повышение квалификации рабочих и служащих","- периодическая проверка знаний рабочих и служащих")&IF(AND(D68="ПО",H68<>"")," ("&H68&")",""),IF(D68="ДПО"," "&IF(E68="ПК","- повышение квалификации",IF(E68="ПП","- профессиональная переподготовка","")),IF(D68="курсы"," - программа обучения",""))) -> Аппаратчик химводоочистки (144 ч.) - профессиональная переподготовка рабочих и служащих | L68: =IF(D68="ПО",IF(E68="ПП","Профессиональная переподготовка рабочих и служащих",IF(E68="ПО","Профессиональная подготовка рабочих и служащих",IF(E68="ПК","Повышение квалификации рабочих и служащих",IF(E68="ППЗ","Периодическая проверка знаний рабочих и служащих","")))),IF(D68="курсы","Программа обучения",IF(D68="ДПО",IF(E68="ПК","Повышение квалификации",IF(E68="ПП","Профессиональная переподготовка","")),""))) -> Профессиональная переподготовка рабочих и служащих | M68: 22. ПРОФЕССИОНАЛЬНОЕ ОБУЧЕНИЕ РАБОЧИХ | N68: 22
A69: БП-00002573 | B69: ОБР788 | C69: Аппаратчик химводоочистки | D69: ПО | E69: ПО | F69: =E69 -> ПО | G69: 160 | I69: =SUBSTITUTE(SUBSTITUTE(H69," разряд",""),"разряд","") | J69: =IF(D69="ПО","Профессиональное обучение",IF(D69="курсы","Программа обучения",IF(D69="ДПО",IF(E69="ПК","Повышение квалификации",IF(E69="ПП","Профессиональная переподготовка","")),""))) -> Профессиональное обучение | K69: =CONCATENATE(C69," (",G69," ч.)",)&IF(D69="ПО"," "&CHOOSE(MATCH(E69,{"ПП","ПО","ПК","ППЗ"},0),"- профессиональная переподготовка рабочих и служащих","- профессиональная подготовка рабочих и служащих","- повышение квалификации рабочих и служащих","- периодическая проверка знаний рабочих и служащих")&IF(AND(D69="ПО",H69<>"")," ("&H69&")",""),IF(D69="ДПО"," "&IF(E69="ПК","- повышение квалификации",IF(E69="ПП","- профессиональная переподготовка","")),IF(D69="курсы"," - программа обучения",""))) -> Аппаратчик химводоочистки (160 ч.) - профессиональная подготовка рабочих и служащих | L69: =IF(D69="ПО",IF(E69="ПП","Профессиональная переподготовка рабочих и служащих",IF(E69="ПО","Профессиональная подготовка рабочих и служащих",IF(E69="ПК","Повышение квалификации рабочих и служащих",IF(E69="ППЗ","Периодическая проверка знаний рабочих и служащих","")))),IF(D69="курсы","Программа обучения",IF(D69="ДПО",IF(E69="ПК","Повышение квалификации",IF(E69="ПП","Профессиональная переподготовка","")),""))) -> Профессиональная подготовка рабочих и служащих | M69: 22. ПРОФЕССИОНАЛЬНОЕ ОБУЧЕНИЕ РАБОЧИХ | N69: 22
A70: БП-00002575 | B70: ОБР790 | C70: Аппаратчик химводоочистки | D70: ПО | E70: ПК | F70: =E70 -> ПК | G70: 72 | I70: =SUBSTITUTE(SUBSTITUTE(H70," разряд",""),"разряд","") | J70: =IF(D70="ПО","Профессиональное обучение",IF(D70="курсы","Программа обучения",IF(D70="ДПО",IF(E70="ПК","Повышение квалификации",IF(E70="ПП","Профессиональная переподготовка","")),""))) -> Профессиональное обучение | K70: =CONCATENATE(C70," (",G70," ч.)",)&IF(D70="ПО"," "&CHOOSE(MATCH(E70,{"ПП","ПО","ПК","ППЗ"},0),"- профессиональная переподготовка рабочих и служащих","- профессиональная подготовка рабочих и служащих","- повышение квалификации рабочих и служащих","- периодическая проверка знаний рабочих и служащих")&IF(AND(D70="ПО",H70<>"")," ("&H70&")",""),IF(D70="ДПО"," "&IF(E70="ПК","- повышение квалификации",IF(E70="ПП","- профессиональная переподготовка","")),IF(D70="курсы"," - программа обучения",""))) -> Аппаратчик химводоочистки (72 ч.) - повышение квалификации рабочих и служащих | L70: =IF(D70="ПО",IF(E70="ПП","Профессиональная переподготовка рабочих и служащих",IF(E70="ПО","Профессиональная подготовка рабочих и служащих",IF(E70="ПК","Повышение квалификации рабочих и служащих",IF(E70="ППЗ","Периодическая проверка знаний рабочих и служащих","")))),IF(D70="курсы","Программа обучения",IF(D70="ДПО",IF(E70="ПК","Повышение квалификации",IF(E70="ПП","Профессиональная переподготовка","")),""))) -> Повышение квалификации рабочих и служащих | M70: 22. ПРОФЕССИОНАЛЬНОЕ ОБУЧЕНИЕ РАБОЧИХ | N70: 22
A71: БП-00002576 | B71: ОБР791 | C71: Аппаратчик химводоочистки | D71: ПО | E71: ППЗ | F71: =E71 -> ППЗ | G71: 8 | I71: =SUBSTITUTE(SUBSTITUTE(H71," разряд",""),"разряд","") | J71: =IF(D71="ПО","Профессиональное обучение",IF(D71="курсы","Программа обучения",IF(D71="ДПО",IF(E71="ПК","Повышение квалификации",IF(E71="ПП","Профессиональная переподготовка","")),""))) -> Профессиональное обучение | K71: =CONCATENATE(C71," (",G71," ч.)",)&IF(D71="ПО"," "&CHOOSE(MATCH(E71,{"ПП","ПО","ПК","ППЗ"},0),"- профессиональная переподготовка рабочих и служащих","- профессиональная подготовка рабочих и служащих","- повышение квалификации рабочих и служащих","- периодическая проверка знаний рабочих и служащих")&IF(AND(D71="ПО",H71<>"")," ("&H71&")",""),IF(D71="ДПО"," "&IF(E71="ПК","- повышение квалификации",IF(E71="ПП","- профессиональная переподготовка","")),IF(D71="курсы"," - программа обучения",""))) -> Аппаратчик химводоочистки (8 ч.) - периодическая проверка знаний рабочих и служащих | L71: =IF(D71="ПО",IF(E71="ПП","Профессиональная переподготовка рабочих и служащих",IF(E71="ПО","Профессиональная подготовка рабочих и служащих",IF(E71="ПК","Повышение квалификации рабочих и служащих",IF(E71="ППЗ","Периодическая проверка знаний рабочих и служащих","")))),IF(D71="курсы","Программа обучения",IF(D71="ДПО",IF(E71="ПК","Повышение квалификации",IF(E71="ПП","Профессиональная переподготовка","")),""))) -> Периодическая проверка знаний рабочих и служащих | M71: 22. ПРОФЕССИОНАЛЬНОЕ ОБУЧЕНИЕ РАБОЧИХ | N71: 22
A72: БП-00002905 | B72: ОБР1038 | C72: Аппаратчик-гидрометаллург | D72: ПО | E72: ПП | F72: =E72 -> ПП | G72: 144 | H72: 2-4 разряд | I72: =SUBSTITUTE(SUBSTITUTE(H72," разряд",""),"разряд","") -> 2-4 | J72: =IF(D72="ПО","Профессиональное обучение",IF(D72="курсы","Программа обучения",IF(D72="ДПО",IF(E72="ПК","Повышение квалификации",IF(E72="ПП","Профессиональная переподготовка","")),""))) -> Профессиональное обучение | K72: =CONCATENATE(C72," (",G72," ч.)",)&IF(D72="ПО"," "&CHOOSE(MATCH(E72,{"ПП","ПО","ПК","ППЗ"},0),"- профессиональная переподготовка рабочих и служащих","- профессиональная подготовка рабочих и служащих","- повышение квалификации рабочих и служащих","- периодическая проверка знаний рабочих и служащих")&IF(AND(D72="ПО",H72<>"")," ("&H72&")",""),IF(D72="ДПО"," "&IF(E72="ПК","- повышение квалификации",IF(E72="ПП","- профессиональная переподготовка","")),IF(D72="курсы"," - программа обучения",""))) -> Аппаратчик-гидрометаллург (144 ч.) - профессиональная переподготовка рабочих и служащих (2-4 разряд) | L72: =IF(D72="ПО",IF(E72="ПП","Профессиональная переподготовка рабочих и служащих",IF(E72="ПО","Профессиональная подготовка рабочих и служащих",IF(E72="ПК","Повышение квалификации рабочих и служащих",IF(E72="ППЗ","Периодическая проверка знаний рабочих и служащих","")))),IF(D72="курсы","Программа обучения",IF(D72="ДПО",IF(E72="ПК","Повышение квалификации",IF(E72="ПП","Профессиональная переподготовка","")),""))) -> Профессиональная переподготовка рабочих и служащих | M72: 22. ПРОФЕССИОНАЛЬНОЕ ОБУЧЕНИЕ РАБОЧИХ | N72: 22
A73: БП-00000929 | B73: ОБР165 | C73: Ассистент по оказанию технической помощи инвалидам и лицам с ограниченными возможностями здоровья | D73: ПО | E73: ПП | F73: =E73 -> ПП | G73: 144 | I73: =SUBSTITUTE(SUBSTITUTE(H73," разряд",""),"разряд","") | J73: =IF(D73="ПО","Профессиональное обучение",IF(D73="курсы","Программа обучения",IF(D73="ДПО",IF(E73="ПК","Повышение квалификации",IF(E73="ПП","Профессиональная переподготовка","")),""))) -> Профессиональное обучение | K73: =CONCATENATE(C73," (",G73," ч.)",)&IF(D73="ПО"," "&CHOOSE(MATCH(E73,{"ПП","ПО","ПК","ППЗ"},0),"- профессиональная переподготовка рабочих и служащих","- профессиональная подготовка рабочих и служащих","- повышение квалификации рабочих и служащих","- периодическая проверка знаний рабочих и служащих")&IF(AND(D73="ПО",H73<>"")," ("&H73&")",""),IF(D73="ДПО"," "&IF(E73="ПК","- повышение квалификации",IF(E73="ПП","- профессиональная переподготовка","")),IF(D73="курсы"," - программа обучения",""))) -> Ассистент по оказанию технической помощи инвалидам и лицам с ограниченными возможностями здоровья (144 ч.) - профессиональная переподготовка рабочих и служащих | L73: =IF(D73="ПО",IF(E73="ПП","Профессиональная переподготовка рабочих и служащих",IF(E73="ПО","Профессиональная подготовка рабочих и служащих",IF(E73="ПК","Повышение квалификации рабочих и служащих",IF(E73="ППЗ","Периодическая проверка знаний рабочих и служащих","")))),IF(D73="курсы","Программа обучения",IF(D73="ДПО",IF(E73="ПК","Повышение квалификации",IF(E73="ПП","Профессиональная переподготовка","")),""))) -> Профессиональная переподготовка рабочих и служащих | M73: 22. ПРОФЕССИОНАЛЬНОЕ ОБУЧЕНИЕ РАБОЧИХ | N73: 22
A74: БП-00001680 | B74: ОБР476 | C74: Ассистент по оказанию технической помощи инвалидам и лицам с ограниченными возможностями здоровья | D74: ПО | E74: ПО | F74: =E74 -> ПО | G74: 160 | I74: =SUBSTITUTE(SUBSTITUTE(H74," разряд",""),"разряд","") | J74: =IF(D74="ПО","Профессиональное обучение",IF(D74="курсы","Программа обучения",IF(D74="ДПО",IF(E74="ПК","Повышение квалификации",IF(E74="ПП","Профессиональная переподготовка","")),""))) -> Профессиональное обучение | K74: =CONCATENATE(C74," (",G74," ч.)",)&IF(D74="ПО"," "&CHOOSE(MATCH(E74,{"ПП","ПО","ПК","ППЗ"},0),"- профессиональная переподготовка рабочих и служащих","- профессиональная подготовка рабочих и служащих","- повышение квалификации рабочих и служащих","- периодическая проверка знаний рабочих и служащих")&IF(AND(D74="ПО",H74<>"")," ("&H74&")",""),IF(D74="ДПО"," "&IF(E74="ПК","- повышение квалификации",IF(E74="ПП","- профессиональная переподготовка","")),IF(D74="курсы"," - программа обучения",""))) -> Ассистент по оказанию технической помощи инвалидам и лицам с ограниченными возможностями здоровья (160 ч.) - профессиональная подготовка рабочих и служащих | L74: =IF(D74="ПО",IF(E74="ПП","Профессиональная переподготовка рабочих и служащих",IF(E74="ПО","Профессиональная подготовка рабочих и служащих",IF(E74="ПК","Повышение квалификации рабочих и служащих",IF(E74="ППЗ","Периодическая проверка знаний рабочих и служащих","")))),IF(D74="курсы","Программа обучения",IF(D74="ДПО",IF(E74="ПК","Повышение квалификации",IF(E74="ПП","Профессиональная переподготовка","")),""))) -> Профессиональная подготовка рабочих и служащих | M74: 22. ПРОФЕССИОНАЛЬНОЕ ОБУЧЕНИЕ РАБОЧИХ | N74: 22
A75: БП-00001681 | B75: ОБР477 | C75: Ассистент по оказанию технической помощи инвалидам и лицам с ограниченными возможностями здоровья | D75: ПО | E75: ПК | F75: =E75 -> ПК | G75: 72 | I75: =SUBSTITUTE(SUBSTITUTE(H75," разряд",""),"разряд","") | J75: =IF(D75="ПО","Профессиональное обучение",IF(D75="курсы","Программа обучения",IF(D75="ДПО",IF(E75="ПК","Повышение квалификации",IF(E75="ПП","Профессиональная переподготовка","")),""))) -> Профессиональное обучение | K75: =CONCATENATE(C75," (",G75," ч.)",)&IF(D75="ПО"," "&CHOOSE(MATCH(E75,{"ПП","ПО","ПК","ППЗ"},0),"- профессиональная переподготовка рабочих и служащих","- профессиональная подготовка рабочих и служащих","- повышение квалификации рабочих и служащих","- периодическая проверка знаний рабочих и служащих")&IF(AND(D75="ПО",H75<>"")," ("&H75&")",""),IF(D75="ДПО"," "&IF(E75="ПК","- повышение квалификации",IF(E75="ПП","- профессиональная переподготовка","")),IF(D75="курсы"," - программа обучения",""))) -> Ассистент по оказанию технической помощи инвалидам и лицам с ограниченными возможностями здоровья (72 ч.) - повышение квалификации рабочих и служащих | L75: =IF(D75="ПО",IF(E75="ПП","Профессиональная переподготовка рабочих и служащих",IF(E75="ПО","Профессиональная подготовка рабочих и служащих",IF(E75="ПК","Повышение квалификации рабочих и служащих",IF(E75="ППЗ","Периодическая проверка знаний рабочих и служащих","")))),IF(D75="курсы","Программа обучения",IF(D75="ДПО",IF(E75="ПК","Повышение квалификации",IF(E75="ПП","Профессиональная переподготовка","")),""))) -> Повышение квалификации рабочих и служащих | M75: 22. ПРОФЕССИОНАЛЬНОЕ ОБУЧЕНИЕ РАБОЧИХ | N75: 22
A76: БП-00001682 | B76: ОБР478 | C76: Ассистент по оказанию технической помощи инвалидам и лицам с ограниченными возможностями здоровья | D76: ПО | E76: ППЗ | F76: =E76 -> ППЗ | G76: 8 | I76: =SUBSTITUTE(SUBSTITUTE(H76," разряд",""),"разряд","") | J76: =IF(D76="ПО","Профессиональное обучение",IF(D76="курсы","Программа обучения",IF(D76="ДПО",IF(E76="ПК","Повышение квалификации",IF(E76="ПП","Профессиональная переподготовка","")),""))) -> Профессиональное обучение | K76: =CONCATENATE(C76," (",G76," ч.)",)&IF(D76="ПО"," "&CHOOSE(MATCH(E76,{"ПП","ПО","ПК","ППЗ"},0),"- профессиональная переподготовка рабочих и служащих","- профессиональная подготовка рабочих и служащих","- повышение квалификации рабочих и служащих","- периодическая проверка знаний рабочих и служащих")&IF(AND(D76="ПО",H76<>"")," ("&H76&")",""),IF(D76="ДПО"," "&IF(E76="ПК","- повышение квалификации",IF(E76="ПП","- профессиональная переподготовка","")),IF(D76="курсы"," - программа обучения",""))) -> Ассистент по оказанию технической помощи инвалидам и лицам с ограниченными возможностями здоровья (8 ч.) - периодическая проверка знаний рабочих и служащих | L76: =IF(D76="ПО",IF(E76="ПП","Профессиональная переподготовка рабочих и служащих",IF(E76="ПО","Профессиональная подготовка рабочих и служащих",IF(E76="ПК","Повышение квалификации рабочих и служащих",IF(E76="ППЗ","Периодическая проверка знаний рабочих и служащих","")))),IF(D76="курсы","Программа обучения",IF(D76="ДПО",IF(E76="ПК","Повышение квалификации",IF(E76="ПП","Профессиональная переподготовка","")),""))) -> Периодическая проверка знаний рабочих и служащих | M76: 22. ПРОФЕССИОНАЛЬНОЕ ОБУЧЕНИЕ РАБОЧИХ | N76: 22
A77: БП-00002579 | B77: ОБР793 | C77: Бассейнщик | D77: ПО | E77: ПП | F77: =E77 -> ПП | G77: 144 | I77: =SUBSTITUTE(SUBSTITUTE(H77," разряд",""),"разряд","") | J77: =IF(D77="ПО","Профессиональное обучение",IF(D77="курсы","Программа обучения",IF(D77="ДПО",IF(E77="ПК","Повышение квалификации",IF(E77="ПП","Профессиональная переподготовка","")),""))) -> Профессиональное обучение | K77: =CONCATENATE(C77," (",G77," ч.)",)&IF(D77="ПО"," "&CHOOSE(MATCH(E77,{"ПП","ПО","ПК","ППЗ"},0),"- профессиональная переподготовка рабочих и служащих","- профессиональная подготовка рабочих и служащих","- повышение квалификации рабочих и служащих","- периодическая проверка знаний рабочих и служащих")&IF(AND(D77="ПО",H77<>"")," ("&H77&")",""),IF(D77="ДПО"," "&IF(E77="ПК","- повышение квалификации",IF(E77="ПП","- профессиональная переподготовка","")),IF(D77="курсы"," - программа обучения",""))) -> Бассейнщик (144 ч.) - профессиональная переподготовка рабочих и служащих | L77: =IF(D77="ПО",IF(E77="ПП","Профессиональная переподготовка рабочих и служащих",IF(E77="ПО","Профессиональная подготовка рабочих и служащих",IF(E77="ПК","Повышение квалификации рабочих и служащих",IF(E77="ППЗ","Периодическая проверка знаний рабочих и служащих","")))),IF(D77="курсы","Программа обучения",IF(D77="ДПО",IF(E77="ПК","Повышение квалификации",IF(E77="ПП","Профессиональная переподготовка","")),""))) -> Профессиональная переподготовка рабочих и служащих | M77: 22. ПРОФЕССИОНАЛЬНОЕ ОБУЧЕНИЕ РАБОЧИХ | N77: 22
A78: БП-00002578 | B78: ОБР792 | C78: Бассейнщик | D78: ПО | E78: ПО | F78: =E78 -> ПО | G78: 160 | I78: =SUBSTITUTE(SUBSTITUTE(H78," разряд",""),"разряд","") | J78: =IF(D78="ПО","Профессиональное обучение",IF(D78="курсы","Программа обучения",IF(D78="ДПО",IF(E78="ПК","Повышение квалификации",IF(E78="ПП","Профессиональная переподготовка","")),""))) -> Профессиональное обучение | K78: =CONCATENATE(C78," (",G78," ч.)",)&IF(D78="ПО"," "&CHOOSE(MATCH(E78,{"ПП","ПО","ПК","ППЗ"},0),"- профессиональная переподготовка рабочих и служащих","- профессиональная подготовка рабочих и служащих","- повышение квалификации рабочих и служащих","- периодическая проверка знаний рабочих и служащих")&IF(AND(D78="ПО",H78<>"")," ("&H78&")",""),IF(D78="ДПО"," "&IF(E78="ПК","- повышение квалификации",IF(E78="ПП","- профессиональная переподготовка","")),IF(D78="курсы"," - программа обучения",""))) -> Бассейнщик (160 ч.) - профессиональная подготовка рабочих и служащих | L78: =IF(D78="ПО",IF(E78="ПП","Профессиональная переподготовка рабочих и служащих",IF(E78="ПО","Профессиональная подготовка рабочих и служащих",IF(E78="ПК","Повышение квалификации рабочих и служащих",IF(E78="ППЗ","Периодическая проверка знаний рабочих и служащих","")))),IF(D78="курсы","Программа обучения",IF(D78="ДПО",IF(E78="ПК","Повышение квалификации",IF(E78="ПП","Профессиональная переподготовка","")),""))) -> Профессиональная подготовка рабочих и служащих | M78: 22. ПРОФЕССИОНАЛЬНОЕ ОБУЧЕНИЕ РАБОЧИХ | N78: 22
A79: БП-00002580 | B79: ОБР794 | C79: Бассейнщик | D79: ПО | E79: ПК | F79: =E79 -> ПК | G79: 72 | I79: =SUBSTITUTE(SUBSTITUTE(H79," разряд",""),"разряд","") | J79: =IF(D79="ПО","Профессиональное обучение",IF(D79="курсы","Программа обучения",IF(D79="ДПО",IF(E79="ПК","Повышение квалификации",IF(E79="ПП","Профессиональная переподготовка","")),""))) -> Профессиональное обучение | K79: =CONCATENATE(C79," (",G79," ч.)",)&IF(D79="ПО"," "&CHOOSE(MATCH(E79,{"ПП","ПО","ПК","ППЗ"},0),"- профессиональная переподготовка рабочих и служащих","- профессиональная подготовка рабочих и служащих","- повышение квалификации рабочих и служащих","- периодическая проверка знаний рабочих и служащих")&IF(AND(D79="ПО",H79<>"")," ("&H79&")",""),IF(D79="ДПО"," "&IF(E79="ПК","- повышение квалификации",IF(E79="ПП","- профессиональная переподготовка","")),IF(D79="курсы"," - программа обучения",""))) -> Бассейнщик (72 ч.) - повышение квалификации рабочих и служащих | L79: =IF(D79="ПО",IF(E79="ПП","Профессиональная переподготовка рабочих и служащих",IF(E79="ПО","Профессиональная подготовка рабочих и служащих",IF(E79="ПК","Повышение квалификации рабочих и служащих",IF(E79="ППЗ","Периодическая проверка знаний рабочих и служащих","")))),IF(D79="курсы","Программа обучения",IF(D79="ДПО",IF(E79="ПК","Повышение квалификации",IF(E79="ПП","Профессиональная переподготовка","")),""))) -> Повышение квалификации рабочих и служащих | M79: 22. ПРОФЕССИОНАЛЬНОЕ ОБУЧЕНИЕ РАБОЧИХ | N79: 22
A80: БП-00002581 | B80: ОБР795 | C80: Бассейнщик | D80: ПО | E80: ППЗ | F80: =E80 -> ППЗ | G80: 8 | I80: =SUBSTITUTE(SUBSTITUTE(H80," разряд",""),"разряд","") | J80: =IF(D80="ПО","Профессиональное обучение",IF(D80="курсы","Программа обучения",IF(D80="ДПО",IF(E80="ПК","Повышение квалификации",IF(E80="ПП","Профессиональная переподготовка","")),""))) -> Профессиональное обучение | K80: =CONCATENATE(C80," (",G80," ч.)",)&IF(D80="ПО"," "&CHOOSE(MATCH(E80,{"ПП","ПО","ПК","ППЗ"},0),"- профессиональная переподготовка рабочих и служащих","- профессиональная подготовка рабочих и служащих","- повышение квалификации рабочих и служащих","- периодическая проверка знаний рабочих и служащих")&IF(AND(D80="ПО",H80<>"")," ("&H80&")",""),IF(D80="ДПО"," "&IF(E80="ПК","- повышение квалификации",IF(E80="ПП","- профессиональная переподготовка","")),IF(D80="курсы"," - программа обучения",""))) -> Бассейнщик (8 ч.) - периодическая проверка знаний рабочих и служащих | L80: =IF(D80="ПО",IF(E80="ПП","Профессиональная переподготовка рабочих и служащих",IF(E80="ПО","Профессиональная подготовка рабочих и служащих",IF(E80="ПК","Повышение квалификации рабочих и служащих",IF(E80="ППЗ","Периодическая проверка знаний рабочих и служащих","")))),IF(D80="курсы","Программа обучения",IF(D80="ДПО",IF(E80="ПК","Повышение квалификации",IF(E80="ПП","Профессиональная переподготовка","")),""))) -> Периодическая проверка знаний рабочих и служащих | M80: 22. ПРОФЕССИОНАЛЬНОЕ ОБУЧЕНИЕ РАБОЧИХ | N80: 22
A81: БП-00000746 | B81: ОБР166 | C81: Бетонщик | D81: ПО | E81: ПП | F81: =E81 -> ПП | G81: 200 | H81: 2-3 разряд | I81: =SUBSTITUTE(SUBSTITUTE(H81," разряд",""),"разряд","") -> 2-3 | J81: =IF(D81="ПО","Профессиональное обучение",IF(D81="курсы","Программа обучения",IF(D81="ДПО",IF(E81="ПК","Повышение квалификации",IF(E81="ПП","Профессиональная переподготовка","")),""))) -> Профессиональное обучение | K81: =CONCATENATE(C81," (",G81," ч.)",)&IF(D81="ПО"," "&CHOOSE(MATCH(E81,{"ПП","ПО","ПК","ППЗ"},0),"- профессиональная переподготовка рабочих и служащих","- профессиональная подготовка рабочих и служащих","- повышение квалификации рабочих и служащих","- периодическая проверка знаний рабочих и служащих")&IF(AND(D81="ПО",H81<>"")," ("&H81&")",""),IF(D81="ДПО"," "&IF(E81="ПК","- повышение квалификации",IF(E81="ПП","- профессиональная переподготовка","")),IF(D81="курсы"," - программа обучения",""))) -> Бетонщик (200 ч.) - профессиональная переподготовка рабочих и служащих (2-3 разряд) | L81: =IF(D81="ПО",IF(E81="ПП","Профессиональная переподготовка рабочих и служащих",IF(E81="ПО","Профессиональная подготовка рабочих и служащих",IF(E81="ПК","Повышение квалификации рабочих и служащих",IF(E81="ППЗ","Периодическая проверка знаний рабочих и служащих","")))),IF(D81="курсы","Программа обучения",IF(D81="ДПО",IF(E81="ПК","Повышение квалификации",IF(E81="ПП","Профессиональная переподготовка","")),""))) -> Профессиональная переподготовка рабочих и служащих | M81: 22. ПРОФЕССИОНАЛЬНОЕ ОБУЧЕНИЕ РАБОЧИХ | N81: 22
A82: БП-00001611 | B82: ОБР442 | C82: Бетонщик | D82: ПО | E82: ПО | F82: =E82 -> ПО | G82: 252 | H82: 2-3 разряд | I82: =SUBSTITUTE(SUBSTITUTE(H82," разряд",""),"разряд","") -> 2-3 | J82: =IF(D82="ПО","Профессиональное обучение",IF(D82="курсы","Программа обучения",IF(D82="ДПО",IF(E82="ПК","Повышение квалификации",IF(E82="ПП","Профессиональная переподготовка","")),""))) -> Профессиональное обучение | K82: =CONCATENATE(C82," (",G82," ч.)",)&IF(D82="ПО"," "&CHOOSE(MATCH(E82,{"ПП","ПО","ПК","ППЗ"},0),"- профессиональная переподготовка рабочих и служащих","- профессиональная подготовка рабочих и служащих","- повышение квалификации рабочих и служащих","- периодическая проверка знаний рабочих и служащих")&IF(AND(D82="ПО",H82<>"")," ("&H82&")",""),IF(D82="ДПО"," "&IF(E82="ПК","- повышение квалификации",IF(E82="ПП","- профессиональная переподготовка","")),IF(D82="курсы"," - программа обучения",""))) -> Бетонщик (252 ч.) - профессиональная подготовка рабочих и служащих (2-3 разряд) | L82: =IF(D82="ПО",IF(E82="ПП","Профессиональная переподготовка рабочих и служащих",IF(E82="ПО","Профессиональная подготовка рабочих и служащих",IF(E82="ПК","Повышение квалификации рабочих и служащих",IF(E82="ППЗ","Периодическая проверка знаний рабочих и служащих","")))),IF(D82="курсы","Программа обучения",IF(D82="ДПО",IF(E82="ПК","Повышение квалификации",IF(E82="ПП","Профессиональная переподготовка","")),""))) -> Профессиональная подготовка рабочих и служащих | M82: 22. ПРОФЕССИОНАЛЬНОЕ ОБУЧЕНИЕ РАБОЧИХ | N82: 22
A83: БП-00001613 | B83: ОБР444 | C83: Бетонщик | D83: ПО | E83: ППЗ | F83: =E83 -> ППЗ | G83: 8 | I83: =SUBSTITUTE(SUBSTITUTE(H83," разряд",""),"разряд","") | J83: =IF(D83="ПО","Профессиональное обучение",IF(D83="курсы","Программа обучения",IF(D83="ДПО",IF(E83="ПК","Повышение квалификации",IF(E83="ПП","Профессиональная переподготовка","")),""))) -> Профессиональное обучение | K83: =CONCATENATE(C83," (",G83," ч.)",)&IF(D83="ПО"," "&CHOOSE(MATCH(E83,{"ПП","ПО","ПК","ППЗ"},0),"- профессиональная переподготовка рабочих и служащих","- профессиональная подготовка рабочих и служащих","- повышение квалификации рабочих и служащих","- периодическая проверка знаний рабочих и служащих")&IF(AND(D83="ПО",H83<>"")," ("&H83&")",""),IF(D83="ДПО"," "&IF(E83="ПК","- повышение квалификации",IF(E83="ПП","- профессиональная переподготовка","")),IF(D83="курсы"," - программа обучения",""))) -> Бетонщик (8 ч.) - периодическая проверка знаний рабочих и служащих | L83: =IF(D83="ПО",IF(E83="ПП","Профессиональная переподготовка рабочих и служащих",IF(E83="ПО","Профессиональная подготовка рабочих и служащих",IF(E83="ПК","Повышение квалификации рабочих и служащих",IF(E83="ППЗ","Периодическая проверка знаний рабочих и служащих","")))),IF(D83="курсы","Программа обучения",IF(D83="ДПО",IF(E83="ПК","Повышение квалификации",IF(E83="ПП","Профессиональная переподготовка","")),""))) -> Периодическая проверка знаний рабочих и служащих | M83: 22. ПРОФЕССИОНАЛЬНОЕ ОБУЧЕНИЕ РАБОЧИХ | N83: 22
A84: БП-00001612 | B84: ОБР443 | C84: Бетонщик | D84: ПО | E84: ПК | F84: =E84 -> ПК | G84: 80 | H84: 4-5 разряд | I84: =SUBSTITUTE(SUBSTITUTE(H84," разряд",""),"разряд","") -> 4-5 | J84: =IF(D84="ПО","Профессиональное обучение",IF(D84="курсы","Программа обучения",IF(D84="ДПО",IF(E84="ПК","Повышение квалификации",IF(E84="ПП","Профессиональная переподготовка","")),""))) -> Профессиональное обучение | K84: =CONCATENATE(C84," (",G84," ч.)",)&IF(D84="ПО"," "&CHOOSE(MATCH(E84,{"ПП","ПО","ПК","ППЗ"},0),"- профессиональная переподготовка рабочих и служащих","- профессиональная подготовка рабочих и служащих","- повышение квалификации рабочих и служащих","- периодическая проверка знаний рабочих и служащих")&IF(AND(D84="ПО",H84<>"")," ("&H84&")",""),IF(D84="ДПО"," "&IF(E84="ПК","- повышение квалификации",IF(E84="ПП","- профессиональная переподготовка","")),IF(D84="курсы"," - программа обучения",""))) -> Бетонщик (80 ч.) - повышение квалификации рабочих и служащих (4-5 разряд) | L84: =IF(D84="ПО",IF(E84="ПП","Профессиональная переподготовка рабочих и служащих",IF(E84="ПО","Профессиональная подготовка рабочих и служащих",IF(E84="ПК","Повышение квалификации рабочих и служащих",IF(E84="ППЗ","Периодическая проверка знаний рабочих и служащих","")))),IF(D84="курсы","Программа обучения",IF(D84="ДПО",IF(E84="ПК","Повышение квалификации",IF(E84="ПП","Профессиональная переподготовка","")),""))) -> Повышение квалификации рабочих и служащих | M84: 22. ПРОФЕССИОНАЛЬНОЕ ОБУЧЕНИЕ РАБОЧИХ | N84: 22
A85: БП-00002929 | B85: ОБР1049 | C85: Бригадир (освобожденный) организаций железнодорожного транспорта | D85: ПО | E85: ПП | F85: =E85 -> ПП | G85: 144 | I85: =SUBSTITUTE(SUBSTITUTE(H85," разряд",""),"разряд","") | J85: =IF(D85="ПО","Профессиональное обучение",IF(D85="курсы","Программа обучения",IF(D85="ДПО",IF(E85="ПК","Повышение квалификации",IF(E85="ПП","Профессиональная переподготовка","")),""))) -> Профессиональное обучение | K85: =CONCATENATE(C85," (",G85," ч.)",)&IF(D85="ПО"," "&CHOOSE(MATCH(E85,{"ПП","ПО","ПК","ППЗ"},0),"- профессиональная переподготовка рабочих и служащих","- профессиональная подготовка рабочих и служащих","- повышение квалификации рабочих и служащих","- периодическая проверка знаний рабочих и служащих")&IF(AND(D85="ПО",H85<>"")," ("&H85&")",""),IF(D85="ДПО"," "&IF(E85="ПК","- повышение квалификации",IF(E85="ПП","- профессиональная переподготовка","")),IF(D85="курсы"," - программа обучения",""))) -> Бригадир (освобожденный) организаций железнодорожного транспорта (144 ч.) - профессиональная переподготовка рабочих и служащих | L85: =IF(D85="ПО",IF(E85="ПП","Профессиональная переподготовка рабочих и служащих",IF(E85="ПО","Профессиональная подготовка рабочих и служащих",IF(E85="ПК","Повышение квалификации рабочих и служащих",IF(E85="ППЗ","Периодическая проверка знаний рабочих и служащих","")))),IF(D85="курсы","Программа обучения",IF(D85="ДПО",IF(E85="ПК","Повышение квалификации",IF(E85="ПП","Профессиональная переподготовка","")),""))) -> Профессиональная переподготовка рабочих и служащих | M85: 22. ПРОФЕССИОНАЛЬНОЕ ОБУЧЕНИЕ РАБОЧИХ | N85: 22
A86: БП-00003551 | B86: ОБР1298 | C86: Бурильщик капитального ремонта скважин | D86: ПО | E86: ПП | F86: =E86 -> ПП | G86: 280 | I86: =SUBSTITUTE(SUBSTITUTE(H86," разряд",""),"разряд","") | J86: =IF(D86="ПО","Профессиональное обучение",IF(D86="курсы","Программа обучения",IF(D86="ДПО",IF(E86="ПК","Повышение квалификации",IF(E86="ПП","Профессиональная переподготовка","")),""))) -> Профессиональное обучение | K86: =CONCATENATE(C86," (",G86," ч.)",)&IF(D86="ПО"," "&CHOOSE(MATCH(E86,{"ПП","ПО","ПК","ППЗ"},0),"- профессиональная переподготовка рабочих и служащих","- профессиональная подготовка рабочих и служащих","- повышение квалификации рабочих и служащих","- периодическая проверка знаний рабочих и служащих")&IF(AND(D86="ПО",H86<>"")," ("&H86&")",""),IF(D86="ДПО"," "&IF(E86="ПК","- повышение квалификации",IF(E86="ПП","- профессиональная переподготовка","")),IF(D86="курсы"," - программа обучения",""))) -> Бурильщик капитального ремонта скважин (280 ч.) - профессиональная переподготовка рабочих и служащих | L86: =IF(D86="ПО",IF(E86="ПП","Профессиональная переподготовка рабочих и служащих",IF(E86="ПО","Профессиональная подготовка рабочих и служащих",IF(E86="ПК","Повышение квалификации рабочих и служащих",IF(E86="ППЗ","Периодическая проверка знаний рабочих и служащих","")))),IF(D86="курсы","Программа обучения",IF(D86="ДПО",IF(E86="ПК","Повышение квалификации",IF(E86="ПП","Профессиональная переподготовка","")),""))) -> Профессиональная переподготовка рабочих и служащих | M86: 22. ПРОФЕССИОНАЛЬНОЕ ОБУЧЕНИЕ РАБОЧИХ | N86: 22
A87: БП-00003552 | B87: ОБР1299 | C87: Бурильщик капитального ремонта скважин | D87: ПО | E87: ПК | F87: =E87 -> ПК | G87: 140 | I87: =SUBSTITUTE(SUBSTITUTE(H87," разряд",""),"разряд","") | J87: =IF(D87="ПО","Профессиональное обучение",IF(D87="курсы","Программа обучения",IF(D87="ДПО",IF(E87="ПК","Повышение квалификации",IF(E87="ПП","Профессиональная переподготовка","")),""))) -> Профессиональное обучение | K87: =CONCATENATE(C87," (",G87," ч.)",)&IF(D87="ПО"," "&CHOOSE(MATCH(E87,{"ПП","ПО","ПК","ППЗ"},0),"- профессиональная переподготовка рабочих и служащих","- профессиональная подготовка рабочих и служащих","- повышение квалификации рабочих и служащих","- периодическая проверка знаний рабочих и служащих")&IF(AND(D87="ПО",H87<>"")," ("&H87&")",""),IF(D87="ДПО"," "&IF(E87="ПК","- повышение квалификации",IF(E87="ПП","- профессиональная переподготовка","")),IF(D87="курсы"," - программа обучения",""))) -> Бурильщик капитального ремонта скважин (140 ч.) - повышение квалификации рабочих и служащих | L87: =IF(D87="ПО",IF(E87="ПП","Профессиональная переподготовка рабочих и служащих",IF(E87="ПО","Профессиональная подготовка рабочих и служащих",IF(E87="ПК","Повышение квалификации рабочих и служащих",IF(E87="ППЗ","Периодическая проверка знаний рабочих и служащих","")))),IF(D87="курсы","Программа обучения",IF(D87="ДПО",IF(E87="ПК","Повышение квалификации",IF(E87="ПП","Профессиональная переподготовка","")),""))) -> Повышение квалификации рабочих и служащих | M87: 22. ПРОФЕССИОНАЛЬНОЕ ОБУЧЕНИЕ РАБОЧИХ | N87: 22
A88: БП-00003546 | B88: ОБР1295 | C88: Помощник бурильщика капитального ремонта скважин | D88: ПО | E88: ПП | F88: =E88 -> ПП | G88: 280 | I88: =SUBSTITUTE(SUBSTITUTE(H88," разряд",""),"разряд","") | J88: =IF(D88="ПО","Профессиональное обучение",IF(D88="курсы","Программа обучения",IF(D88="ДПО",IF(E88="ПК","Повышение квалификации",IF(E88="ПП","Профессиональная переподготовка","")),""))) -> Профессиональное обучение | K88: =CONCATENATE(C88," (",G88," ч.)",)&IF(D88="ПО"," "&CHOOSE(MATCH(E88,{"ПП","ПО","ПК","ППЗ"},0),"- профессиональная переподготовка рабочих и служащих","- профессиональная подготовка рабочих и служащих","- повышение квалификации рабочих и служащих","- периодическая проверка знаний рабочих и служащих")&IF(AND(D88="ПО",H88<>"")," ("&H88&")",""),IF(D88="ДПО"," "&IF(E88="ПК","- повышение квалификации",IF(E88="ПП","- профессиональная переподготовка","")),IF(D88="курсы"," - программа обучения",""))) -> Помощник бурильщика капитального ремонта скважин (280 ч.) - профессиональная переподготовка рабочих и служащих | L88: =IF(D88="ПО",IF(E88="ПП","Профессиональная переподготовка рабочих и служащих",IF(E88="ПО","Профессиональная подготовка рабочих и служащих",IF(E88="ПК","Повышение квалификации рабочих и служащих",IF(E88="ППЗ","Периодическая проверка знаний рабочих и служащих","")))),IF(D88="курсы","Программа обучения",IF(D88="ДПО",IF(E88="ПК","Повышение квалификации",IF(E88="ПП","Профессиональная переподготовка","")),""))) -> Профессиональная переподготовка рабочих и служащих | M88: 22. ПРОФЕССИОНАЛЬНОЕ ОБУЧЕНИЕ РАБОЧИХ | N88: 22
A89: БП-00003547 | B89: ОБР1296 | C89: Помощник бурильщика капитального ремонта скважин | D89: ПО | E89: ПК | F89: =E89 -> ПК | G89: 140 | I89: =SUBSTITUTE(SUBSTITUTE(H89," разряд",""),"разряд","") | J89: =IF(D89="ПО","Профессиональное обучение",IF(D89="курсы","Программа обучения",IF(D89="ДПО",IF(E89="ПК","Повышение квалификации",IF(E89="ПП","Профессиональная переподготовка","")),""))) -> Профессиональное обучение | K89: =CONCATENATE(C89," (",G89," ч.)",)&IF(D89="ПО"," "&CHOOSE(MATCH(E89,{"ПП","ПО","ПК","ППЗ"},0),"- профессиональная переподготовка рабочих и служащих","- профессиональная подготовка рабочих и служащих","- повышение квалификации рабочих и служащих","- периодическая проверка знаний рабочих и служащих")&IF(AND(D89="ПО",H89<>"")," ("&H89&")",""),IF(D89="ДПО"," "&IF(E89="ПК","- повышение квалификации",IF(E89="ПП","- профессиональная переподготовка","")),IF(D89="курсы"," - программа обучения",""))) -> Помощник бурильщика капитального ремонта скважин (140 ч.) - повышение квалификации рабочих и служащих | L89: =IF(D89="ПО",IF(E89="ПП","Профессиональная переподготовка рабочих и служащих",IF(E89="ПО","Профессиональная подготовка рабочих и служащих",IF(E89="ПК","Повышение квалификации рабочих и служащих",IF(E89="ППЗ","Периодическая проверка знаний рабочих и служащих","")))),IF(D89="курсы","Программа обучения",IF(D89="ДПО",IF(E89="ПК","Повышение квалификации",IF(E89="ПП","Профессиональная переподготовка","")),""))) -> Повышение квалификации рабочих и служащих | M89: 22. ПРОФЕССИОНАЛЬНОЕ ОБУЧЕНИЕ РАБОЧИХ | N89: 22
A90: БП-00001157 | B90: ОБР649 | C90: Бурильщик эксплуатационного и разведочного бурения скважин на нефть и газ | D90: ПО | E90: ПП | F90: =E90 -> ПП | G90: 160 | I90: =SUBSTITUTE(SUBSTITUTE(H90," разряд",""),"разряд","") | J90: =IF(D90="ПО","Профессиональное обучение",IF(D90="курсы","Программа обучения",IF(D90="ДПО",IF(E90="ПК","Повышение квалификации",IF(E90="ПП","Профессиональная переподготовка","")),""))) -> Профессиональное обучение | K90: =CONCATENATE(C90," (",G90," ч.)",)&IF(D90="ПО"," "&CHOOSE(MATCH(E90,{"ПП","ПО","ПК","ППЗ"},0),"- профессиональная переподготовка рабочих и служащих","- профессиональная подготовка рабочих и служащих","- повышение квалификации рабочих и служащих","- периодическая проверка знаний рабочих и служащих")&IF(AND(D90="ПО",H90<>"")," ("&H90&")",""),IF(D90="ДПО"," "&IF(E90="ПК","- повышение квалификации",IF(E90="ПП","- профессиональная переподготовка","")),IF(D90="курсы"," - программа обучения",""))) -> Бурильщик эксплуатационного и разведочного бурения скважин на нефть и газ (160 ч.) - профессиональная переподготовка рабочих и служащих | L90: =IF(D90="ПО",IF(E90="ПП","Профессиональная переподготовка рабочих и служащих",IF(E90="ПО","Профессиональная подготовка рабочих и служащих",IF(E90="ПК","Повышение квалификации рабочих и служащих",IF(E90="ППЗ","Периодическая проверка знаний рабочих и служащих","")))),IF(D90="курсы","Программа обучения",IF(D90="ДПО",IF(E90="ПК","Повышение квалификации",IF(E90="ПП","Профессиональная переподготовка","")),""))) -> Профессиональная переподготовка рабочих и служащих | M90: 22. ПРОФЕССИОНАЛЬНОЕ ОБУЧЕНИЕ РАБОЧИХ | N90: 22
A91: БП-00001691 | B91: ОБР462 | C91: Бурильщик эксплуатационного и разведочного бурения скважин на нефть и газ | D91: ПО | E91: ППЗ | F91: =E91 -> ППЗ | G91: 8 | I91: =SUBSTITUTE(SUBSTITUTE(H91," разряд",""),"разряд","") | J91: =IF(D91="ПО","Профессиональное обучение",IF(D91="курсы","Программа обучения",IF(D91="ДПО",IF(E91="ПК","Повышение квалификации",IF(E91="ПП","Профессиональная переподготовка","")),""))) -> Профессиональное обучение | K91: =CONCATENATE(C91," (",G91," ч.)",)&IF(D91="ПО"," "&CHOOSE(MATCH(E91,{"ПП","ПО","ПК","ППЗ"},0),"- профессиональная переподготовка рабочих и служащих","- профессиональная подготовка рабочих и служащих","- повышение квалификации рабочих и служащих","- периодическая проверка знаний рабочих и служащих")&IF(AND(D91="ПО",H91<>"")," ("&H91&")",""),IF(D91="ДПО"," "&IF(E91="ПК","- повышение квалификации",IF(E91="ПП","- профессиональная переподготовка","")),IF(D91="курсы"," - программа обучения",""))) -> Бурильщик эксплуатационного и разведочного бурения скважин на нефть и газ (8 ч.) - периодическая проверка знаний рабочих и служащих | L91: =IF(D91="ПО",IF(E91="ПП","Профессиональная переподготовка рабочих и служащих",IF(E91="ПО","Профессиональная подготовка рабочих и служащих",IF(E91="ПК","Повышение квалификации рабочих и служащих",IF(E91="ППЗ","Периодическая проверка знаний рабочих и служащих","")))),IF(D91="курсы","Программа обучения",IF(D91="ДПО",IF(E91="ПК","Повышение квалификации",IF(E91="ПП","Профессиональная переподготовка","")),""))) -> Периодическая проверка знаний рабочих и служащих | M91: 22. ПРОФЕССИОНАЛЬНОЕ ОБУЧЕНИЕ РАБОЧИХ | N91: 22
A92: БП-00001053 | B92: ОБР167 | C92: Бурильщик эксплуатационного и разведочного бурения скважин на нефть и газ | D92: ПО | E92: ПК | F92: =E92 -> ПК | G92: 80 | H92: 7-8 разряд | I92: =SUBSTITUTE(SUBSTITUTE(H92," разряд",""),"разряд","") -> 7-8 | J92: =IF(D92="ПО","Профессиональное обучение",IF(D92="курсы","Программа обучения",IF(D92="ДПО",IF(E92="ПК","Повышение квалификации",IF(E92="ПП","Профессиональная переподготовка","")),""))) -> Профессиональное обучение | K92: =CONCATENATE(C92," (",G92," ч.)",)&IF(D92="ПО"," "&CHOOSE(MATCH(E92,{"ПП","ПО","ПК","ППЗ"},0),"- профессиональная переподготовка рабочих и служащих","- профессиональная подготовка рабочих и служащих","- повышение квалификации рабочих и служащих","- периодическая проверка знаний рабочих и служащих")&IF(AND(D92="ПО",H92<>"")," ("&H92&")",""),IF(D92="ДПО"," "&IF(E92="ПК","- повышение квалификации",IF(E92="ПП","- профессиональная переподготовка","")),IF(D92="курсы"," - программа обучения",""))) -> Бурильщик эксплуатационного и разведочного бурения скважин на нефть и газ (80 ч.) - повышение квалификации рабочих и служащих (7-8 разряд) | L92: =IF(D92="ПО",IF(E92="ПП","Профессиональная переподготовка рабочих и служащих",IF(E92="ПО","Профессиональная подготовка рабочих и служащих",IF(E92="ПК","Повышение квалификации рабочих и служащих",IF(E92="ППЗ","Периодическая проверка знаний рабочих и служащих","")))),IF(D92="курсы","Программа обучения",IF(D92="ДПО",IF(E92="ПК","Повышение квалификации",IF(E92="ПП","Профессиональная переподготовка","")),""))) -> Повышение квалификации рабочих и служащих | M92: 22. ПРОФЕССИОНАЛЬНОЕ ОБУЧЕНИЕ РАБОЧИХ | N92: 22
A93: БП-00002584 | B93: ОБР797 | C93: Вальцовщик профилегибочного агрегата | D93: ПО | E93: ПП | F93: =E93 -> ПП | G93: 144 | I93: =SUBSTITUTE(SUBSTITUTE(H93," разряд",""),"разряд","") | J93: =IF(D93="ПО","Профессиональное обучение",IF(D93="курсы","Программа обучения",IF(D93="ДПО",IF(E93="ПК","Повышение квалификации",IF(E93="ПП","Профессиональная переподготовка","")),""))) -> Профессиональное обучение | K93: =CONCATENATE(C93," (",G93," ч.)",)&IF(D93="ПО"," "&CHOOSE(MATCH(E93,{"ПП","ПО","ПК","ППЗ"},0),"- профессиональная переподготовка рабочих и служащих","- профессиональная подготовка рабочих и служащих","- повышение квалификации рабочих и служащих","- периодическая проверка знаний рабочих и служащих")&IF(AND(D93="ПО",H93<>"")," ("&H93&")",""),IF(D93="ДПО"," "&IF(E93="ПК","- повышение квалификации",IF(E93="ПП","- профессиональная переподготовка","")),IF(D93="курсы"," - программа обучения",""))) -> Вальцовщик профилегибочного агрегата (144 ч.) - профессиональная переподготовка рабочих и служащих | L93: =IF(D93="ПО",IF(E93="ПП","Профессиональная переподготовка рабочих и служащих",IF(E93="ПО","Профессиональная подготовка рабочих и служащих",IF(E93="ПК","Повышение квалификации рабочих и служащих",IF(E93="ППЗ","Периодическая проверка знаний рабочих и служащих","")))),IF(D93="курсы","Программа обучения",IF(D93="ДПО",IF(E93="ПК","Повышение квалификации",IF(E93="ПП","Профессиональная переподготовка","")),""))) -> Профессиональная переподготовка рабочих и служащих | M93: 22. ПРОФЕССИОНАЛЬНОЕ ОБУЧЕНИЕ РАБОЧИХ | N93: 22
A94: БП-00002583 | B94: ОБР796 | C94: Вальцовщик профилегибочного агрегата | D94: ПО | E94: ПО | F94: =E94 -> ПО | G94: 160 | I94: =SUBSTITUTE(SUBSTITUTE(H94," разряд",""),"разряд","") | J94: =IF(D94="ПО","Профессиональное обучение",IF(D94="курсы","Программа обучения",IF(D94="ДПО",IF(E94="ПК","Повышение квалификации",IF(E94="ПП","Профессиональная переподготовка","")),""))) -> Профессиональное обучение | K94: =CONCATENATE(C94," (",G94," ч.)",)&IF(D94="ПО"," "&CHOOSE(MATCH(E94,{"ПП","ПО","ПК","ППЗ"},0),"- профессиональная переподготовка рабочих и служащих","- профессиональная подготовка рабочих и служащих","- повышение квалификации рабочих и служащих","- периодическая проверка знаний рабочих и служащих")&IF(AND(D94="ПО",H94<>"")," ("&H94&")",""),IF(D94="ДПО"," "&IF(E94="ПК","- повышение квалификации",IF(E94="ПП","- профессиональная переподготовка","")),IF(D94="курсы"," - программа обучения",""))) -> Вальцовщик профилегибочного агрегата (160 ч.) - профессиональная подготовка рабочих и служащих | L94: =IF(D94="ПО",IF(E94="ПП","Профессиональная переподготовка рабочих и служащих",IF(E94="ПО","Профессиональная подготовка рабочих и служащих",IF(E94="ПК","Повышение квалификации рабочих и служащих",IF(E94="ППЗ","Периодическая проверка знаний рабочих и служащих","")))),IF(D94="курсы","Программа обучения",IF(D94="ДПО",IF(E94="ПК","Повышение квалификации",IF(E94="ПП","Профессиональная переподготовка","")),""))) -> Профессиональная подготовка рабочих и служащих | M94: 22. ПРОФЕССИОНАЛЬНОЕ ОБУЧЕНИЕ РАБОЧИХ | N94: 22
A95: БП-00002585 | B95: ОБР798 | C95: Вальцовщик профилегибочного агрегата | D95: ПО | E95: ПК | F95: =E95 -> ПК | G95: 72 | I95: =SUBSTITUTE(SUBSTITUTE(H95," разряд",""),"разряд","") | J95: =IF(D95="ПО","Профессиональное обучение",IF(D95="курсы","Программа обучения",IF(D95="ДПО",IF(E95="ПК","Повышение квалификации",IF(E95="ПП","Профессиональная переподготовка","")),""))) -> Профессиональное обучение | K95: =CONCATENATE(C95," (",G95," ч.)",)&IF(D95="ПО"," "&CHOOSE(MATCH(E95,{"ПП","ПО","ПК","ППЗ"},0),"- профессиональная переподготовка рабочих и служащих","- профессиональная подготовка рабочих и служащих","- повышение квалификации рабочих и служащих","- периодическая проверка знаний рабочих и служащих")&IF(AND(D95="ПО",H95<>"")," ("&H95&")",""),IF(D95="ДПО"," "&IF(E95="ПК","- повышение квалификации",IF(E95="ПП","- профессиональная переподготовка","")),IF(D95="курсы"," - программа обучения",""))) -> Вальцовщик профилегибочного агрегата (72 ч.) - повышение квалификации рабочих и служащих | L95: =IF(D95="ПО",IF(E95="ПП","Профессиональная переподготовка рабочих и служащих",IF(E95="ПО","Профессиональная подготовка рабочих и служащих",IF(E95="ПК","Повышение квалификации рабочих и служащих",IF(E95="ППЗ","Периодическая проверка знаний рабочих и служащих","")))),IF(D95="курсы","Программа обучения",IF(D95="ДПО",IF(E95="ПК","Повышение квалификации",IF(E95="ПП","Профессиональная переподготовка","")),""))) -> Повышение квалификации рабочих и служащих | M95: 22. ПРОФЕССИОНАЛЬНОЕ ОБУЧЕНИЕ РАБОЧИХ | N95: 22
A96: БП-00002586 | B96: ОБР799 | C96: Вальцовщик профилегибочного агрегата | D96: ПО | E96: ППЗ | F96: =E96 -> ППЗ | G96: 8 | I96: =SUBSTITUTE(SUBSTITUTE(H96," разряд",""),"разряд","") | J96: =IF(D96="ПО","Профессиональное обучение",IF(D96="курсы","Программа обучения",IF(D96="ДПО",IF(E96="ПК","Повышение квалификации",IF(E96="ПП","Профессиональная переподготовка","")),""))) -> Профессиональное обучение | K96: =CONCATENATE(C96," (",G96," ч.)",)&IF(D96="ПО"," "&CHOOSE(MATCH(E96,{"ПП","ПО","ПК","ППЗ"},0),"- профессиональная переподготовка рабочих и служащих","- профессиональная подготовка рабочих и служащих","- повышение квалификации рабочих и служащих","- периодическая проверка знаний рабочих и служащих")&IF(AND(D96="ПО",H96<>"")," ("&H96&")",""),IF(D96="ДПО"," "&IF(E96="ПК","- повышение квалификации",IF(E96="ПП","- профессиональная переподготовка","")),IF(D96="курсы"," - программа обучения",""))) -> Вальцовщик профилегибочного агрегата (8 ч.) - периодическая проверка знаний рабочих и служащих | L96: =IF(D96="ПО",IF(E96="ПП","Профессиональная переподготовка рабочих и служащих",IF(E96="ПО","Профессиональная подготовка рабочих и служащих",IF(E96="ПК","Повышение квалификации рабочих и служащих",IF(E96="ППЗ","Периодическая проверка знаний рабочих и служащих","")))),IF(D96="курсы","Программа обучения",IF(D96="ДПО",IF(E96="ПК","Повышение квалификации",IF(E96="ПП","Профессиональная переподготовка","")),""))) -> Периодическая проверка знаний рабочих и служащих | M96: 22. ПРОФЕССИОНАЛЬНОЕ ОБУЧЕНИЕ РАБОЧИХ | N96: 22
A97: БП-00000993 | B97: ОБР168 | C97: Вальщик леса | D97: ПО | E97: ПП | F97: =E97 -> ПП | G97: 144 | H97: 6 разряд | I97: =SUBSTITUTE(SUBSTITUTE(H97," разряд",""),"разряд","") -> 6 | J97: =IF(D97="ПО","Профессиональное обучение",IF(D97="курсы","Программа обучения",IF(D97="ДПО",IF(E97="ПК","Повышение квалификации",IF(E97="ПП","Профессиональная переподготовка","")),""))) -> Профессиональное обучение | K97: =CONCATENATE(C97," (",G97," ч.)",)&IF(D97="ПО"," "&CHOOSE(MATCH(E97,{"ПП","ПО","ПК","ППЗ"},0),"- профессиональная переподготовка рабочих и служащих","- профессиональная подготовка рабочих и служащих","- повышение квалификации рабочих и служащих","- периодическая проверка знаний рабочих и служащих")&IF(AND(D97="ПО",H97<>"")," ("&H97&")",""),IF(D97="ДПО"," "&IF(E97="ПК","- повышение квалификации",IF(E97="ПП","- профессиональная переподготовка","")),IF(D97="курсы"," - программа обучения",""))) -> Вальщик леса (144 ч.) - профессиональная переподготовка рабочих и служащих (6 разряд) | L97: =IF(D97="ПО",IF(E97="ПП","Профессиональная переподготовка рабочих и служащих",IF(E97="ПО","Профессиональная подготовка рабочих и служащих",IF(E97="ПК","Повышение квалификации рабочих и служащих",IF(E97="ППЗ","Периодическая проверка знаний рабочих и служащих","")))),IF(D97="курсы","Программа обучения",IF(D97="ДПО",IF(E97="ПК","Повышение квалификации",IF(E97="ПП","Профессиональная переподготовка","")),""))) -> Профессиональная переподготовка рабочих и служащих | M97: 22. ПРОФЕССИОНАЛЬНОЕ ОБУЧЕНИЕ РАБОЧИХ | N97: 22
A98: БП-00001692 | B98: ОБР488 | C98: Вальщик леса | D98: ПО | E98: ПО | F98: =E98 -> ПО | G98: 160 | H98: 6 разряд | I98: =SUBSTITUTE(SUBSTITUTE(H98," разряд",""),"разряд","") -> 6 | J98: =IF(D98="ПО","Профессиональное обучение",IF(D98="курсы","Программа обучения",IF(D98="ДПО",IF(E98="ПК","Повышение квалификации",IF(E98="ПП","Профессиональная переподготовка","")),""))) -> Профессиональное обучение | K98: =CONCATENATE(C98," (",G98," ч.)",)&IF(D98="ПО"," "&CHOOSE(MATCH(E98,{"ПП","ПО","ПК","ППЗ"},0),"- профессиональная переподготовка рабочих и служащих","- профессиональная подготовка рабочих и служащих","- повышение квалификации рабочих и служащих","- периодическая проверка знаний рабочих и служащих")&IF(AND(D98="ПО",H98<>"")," ("&H98&")",""),IF(D98="ДПО"," "&IF(E98="ПК","- повышение квалификации",IF(E98="ПП","- профессиональная переподготовка","")),IF(D98="курсы"," - программа обучения",""))) -> Вальщик леса (160 ч.) - профессиональная подготовка рабочих и служащих (6 разряд) | L98: =IF(D98="ПО",IF(E98="ПП","Профессиональная переподготовка рабочих и служащих",IF(E98="ПО","Профессиональная подготовка рабочих и служащих",IF(E98="ПК","Повышение квалификации рабочих и служащих",IF(E98="ППЗ","Периодическая проверка знаний рабочих и служащих","")))),IF(D98="курсы","Программа обучения",IF(D98="ДПО",IF(E98="ПК","Повышение квалификации",IF(E98="ПП","Профессиональная переподготовка","")),""))) -> Профессиональная подготовка рабочих и служащих | M98: 22. ПРОФЕССИОНАЛЬНОЕ ОБУЧЕНИЕ РАБОЧИХ | N98: 22
A99: БП-00001693 | B99: ОБР489 | C99: Вальщик леса | D99: ПО | E99: ПК | F99: =E99 -> ПК | G99: 72 | H99: 6 разряд | I99: =SUBSTITUTE(SUBSTITUTE(H99," разряд",""),"разряд","") -> 6 | J99: =IF(D99="ПО","Профессиональное обучение",IF(D99="курсы","Программа обучения",IF(D99="ДПО",IF(E99="ПК","Повышение квалификации",IF(E99="ПП","Профессиональная переподготовка","")),""))) -> Профессиональное обучение | K99: =CONCATENATE(C99," (",G99," ч.)",)&IF(D99="ПО"," "&CHOOSE(MATCH(E99,{"ПП","ПО","ПК","ППЗ"},0),"- профессиональная переподготовка рабочих и служащих","- профессиональная подготовка рабочих и служащих","- повышение квалификации рабочих и служащих","- периодическая проверка знаний рабочих и служащих")&IF(AND(D99="ПО",H99<>"")," ("&H99&")",""),IF(D99="ДПО"," "&IF(E99="ПК","- повышение квалификации",IF(E99="ПП","- профессиональная переподготовка","")),IF(D99="курсы"," - программа обучения",""))) -> Вальщик леса (72 ч.) - повышение квалификации рабочих и служащих (6 разряд) | L99: =IF(D99="ПО",IF(E99="ПП","Профессиональная переподготовка рабочих и служащих",IF(E99="ПО","Профессиональная подготовка рабочих и служащих",IF(E99="ПК","Повышение квалификации рабочих и служащих",IF(E99="ППЗ","Периодическая проверка знаний рабочих и служащих","")))),IF(D99="курсы","Программа обучения",IF(D99="ДПО",IF(E99="ПК","Повышение квалификации",IF(E99="ПП","Профессиональная переподготовка","")),""))) -> Повышение квалификации рабочих и служащих | M99: 22. ПРОФЕССИОНАЛЬНОЕ ОБУЧЕНИЕ РАБОЧИХ | N99: 22
A100: БП-00001694 | B100: ОБР490 | C100: Вальщик леса | D100: ПО | E100: ППЗ | F100: =E100 -> ППЗ | G100: 8 | I100: =SUBSTITUTE(SUBSTITUTE(H100," разряд",""),"разряд","") | J100: =IF(D100="ПО","Профессиональное обучение",IF(D100="курсы","Программа обучения",IF(D100="ДПО",IF(E100="ПК","Повышение квалификации",IF(E100="ПП","Профессиональная переподготовка","")),""))) -> Профессиональное обучение | K100: =CONCATENATE(C100," (",G100," ч.)",)&IF(D100="ПО"," "&CHOOSE(MATCH(E100,{"ПП","ПО","ПК","ППЗ"},0),"- профессиональная переподготовка рабочих и служащих","- профессиональная подготовка рабочих и служащих","- повышение квалификации рабочих и служащих","- периодическая проверка знаний рабочих и служащих")&IF(AND(D100="ПО",H100<>"")," ("&H100&")",""),IF(D100="ДПО"," "&IF(E100="ПК","- повышение квалификации",IF(E100="ПП","- профессиональная переподготовка","")),IF(D100="курсы"," - программа обучения",""))) -> Вальщик леса (8 ч.) - периодическая проверка знаний рабочих и служащих | L100: =IF(D100="ПО",IF(E100="ПП","Профессиональная переподготовка рабочих и служащих",IF(E100="ПО","Профессиональная подготовка рабочих и служащих",IF(E100="ПК","Повышение квалификации рабочих и служащих",IF(E100="ППЗ","Периодическая проверка знаний рабочих и служащих","")))),IF(D100="курсы","Программа обучения",IF(D100="ДПО",IF(E100="ПК","Повышение квалификации",IF(E100="ПП","Профессиональная переподготовка","")),""))) -> Периодическая проверка знаний рабочих и служащих | M100: 22. ПРОФЕССИОНАЛЬНОЕ ОБУЧЕНИЕ РАБОЧИХ | N100: 22
A101: БП-00003278 | B101: ОБР1171 | C101: Варщик асфальтовой массы | D101: ПО | E101: ПП | F101: =E101 -> ПП | G101: 144 | H101: 4-6 разряд | I101: =SUBSTITUTE(SUBSTITUTE(H101," разряд",""),"разряд","") -> 4-6 | J101: =IF(D101="ПО","Профессиональное обучение",IF(D101="курсы","Программа обучения",IF(D101="ДПО",IF(E101="ПК","Повышение квалификации",IF(E101="ПП","Профессиональная переподготовка","")),""))) -> Профессиональное обучение | K101: =CONCATENATE(C101," (",G101," ч.)",)&IF(D101="ПО"," "&CHOOSE(MATCH(E101,{"ПП","ПО","ПК","ППЗ"},0),"- профессиональная переподготовка рабочих и служащих","- профессиональная подготовка рабочих и служащих","- повышение квалификации рабочих и служащих","- периодическая проверка знаний рабочих и служащих")&IF(AND(D101="ПО",H101<>"")," ("&H101&")",""),IF(D101="ДПО"," "&IF(E101="ПК","- повышение квалификации",IF(E101="ПП","- профессиональная переподготовка","")),IF(D101="курсы"," - программа обучения",""))) -> Варщик асфальтовой массы (144 ч.) - профессиональная переподготовка рабочих и служащих (4-6 разряд) | L101: =IF(D101="ПО",IF(E101="ПП","Профессиональная переподготовка рабочих и служащих",IF(E101="ПО","Профессиональная подготовка рабочих и служащих",IF(E101="ПК","Повышение квалификации рабочих и служащих",IF(E101="ППЗ","Периодическая проверка знаний рабочих и служащих","")))),IF(D101="курсы","Программа обучения",IF(D101="ДПО",IF(E101="ПК","Повышение квалификации",IF(E101="ПП","Профессиональная переподготовка","")),""))) -> Профессиональная переподготовка рабочих и служащих | M101: 22. ПРОФЕССИОНАЛЬНОЕ ОБУЧЕНИЕ РАБОЧИХ | N101: 22
A102: БП-00002589 | B102: ОБР801 | C102: Варщик стекла | D102: ПО | E102: ПП | F102: =E102 -> ПП | G102: 144 | H102: 2 разряд | I102: =SUBSTITUTE(SUBSTITUTE(H102," разряд",""),"разряд","") -> 2 | J102: =IF(D102="ПО","Профессиональное обучение",IF(D102="курсы","Программа обучения",IF(D102="ДПО",IF(E102="ПК","Повышение квалификации",IF(E102="ПП","Профессиональная переподготовка","")),""))) -> Профессиональное обучение | K102: =CONCATENATE(C102," (",G102," ч.)",)&IF(D102="ПО"," "&CHOOSE(MATCH(E102,{"ПП","ПО","ПК","ППЗ"},0),"- профессиональная переподготовка рабочих и служащих","- профессиональная подготовка рабочих и служащих","- повышение квалификации рабочих и служащих","- периодическая проверка знаний рабочих и служащих")&IF(AND(D102="ПО",H102<>"")," ("&H102&")",""),IF(D102="ДПО"," "&IF(E102="ПК","- повышение квалификации",IF(E102="ПП","- профессиональная переподготовка","")),IF(D102="курсы"," - программа обучения",""))) -> Варщик стекла (144 ч.) - профессиональная переподготовка рабочих и служащих (2 разряд) | L102: =IF(D102="ПО",IF(E102="ПП","Профессиональная переподготовка рабочих и служащих",IF(E102="ПО","Профессиональная подготовка рабочих и служащих",IF(E102="ПК","Повышение квалификации рабочих и служащих",IF(E102="ППЗ","Периодическая проверка знаний рабочих и служащих","")))),IF(D102="курсы","Программа обучения",IF(D102="ДПО",IF(E102="ПК","Повышение квалификации",IF(E102="ПП","Профессиональная переподготовка","")),""))) -> Профессиональная переподготовка рабочих и служащих | M102: 22. ПРОФЕССИОНАЛЬНОЕ ОБУЧЕНИЕ РАБОЧИХ | N102: 22
A103: БП-00002588 | B103: ОБР800 | C103: Варщик стекла | D103: ПО | E103: ПО | F103: =E103 -> ПО | G103: 160 | H103: 2 разряд | I103: =SUBSTITUTE(SUBSTITUTE(H103," разряд",""),"разряд","") -> 2 | J103: =IF(D103="ПО","Профессиональное обучение",IF(D103="курсы","Программа обучения",IF(D103="ДПО",IF(E103="ПК","Повышение квалификации",IF(E103="ПП","Профессиональная переподготовка","")),""))) -> Профессиональное обучение | K103: =CONCATENATE(C103," (",G103," ч.)",)&IF(D103="ПО"," "&CHOOSE(MATCH(E103,{"ПП","ПО","ПК","ППЗ"},0),"- профессиональная переподготовка рабочих и служащих","- профессиональная подготовка рабочих и служащих","- повышение квалификации рабочих и служащих","- периодическая проверка знаний рабочих и служащих")&IF(AND(D103="ПО",H103<>"")," ("&H103&")",""),IF(D103="ДПО"," "&IF(E103="ПК","- повышение квалификации",IF(E103="ПП","- профессиональная переподготовка","")),IF(D103="курсы"," - программа обучения",""))) -> Варщик стекла (160 ч.) - профессиональная подготовка рабочих и служащих (2 разряд) | L103: =IF(D103="ПО",IF(E103="ПП","Профессиональная переподготовка рабочих и служащих",IF(E103="ПО","Профессиональная подготовка рабочих и служащих",IF(E103="ПК","Повышение квалификации рабочих и служащих",IF(E103="ППЗ","Периодическая проверка знаний рабочих и служащих","")))),IF(D103="курсы","Программа обучения",IF(D103="ДПО",IF(E103="ПК","Повышение квалификации",IF(E103="ПП","Профессиональная переподготовка","")),""))) -> Профессиональная подготовка рабочих и служащих | M103: 22. ПРОФЕССИОНАЛЬНОЕ ОБУЧЕНИЕ РАБОЧИХ | N103: 22
A104: БП-00002590 | B104: ОБР802 | C104: Варщик стекла | D104: ПО | E104: ПК | F104: =E104 -> ПК | G104: 72 | H104: 3 разряд | I104: =SUBSTITUTE(SUBSTITUTE(H104," разряд",""),"разряд","") -> 3 | J104: =IF(D104="ПО","Профессиональное обучение",IF(D104="курсы","Программа обучения",IF(D104="ДПО",IF(E104="ПК","Повышение квалификации",IF(E104="ПП","Профессиональная переподготовка","")),""))) -> Профессиональное обучение | K104: =CONCATENATE(C104," (",G104," ч.)",)&IF(D104="ПО"," "&CHOOSE(MATCH(E104,{"ПП","ПО","ПК","ППЗ"},0),"- профессиональная переподготовка рабочих и служащих","- профессиональная подготовка рабочих и служащих","- повышение квалификации рабочих и служащих","- периодическая проверка знаний рабочих и служащих")&IF(AND(D104="ПО",H104<>"")," ("&H104&")",""),IF(D104="ДПО"," "&IF(E104="ПК","- повышение квалификации",IF(E104="ПП","- профессиональная переподготовка","")),IF(D104="курсы"," - программа обучения",""))) -> Варщик стекла (72 ч.) - повышение квалификации рабочих и служащих (3 разряд) | L104: =IF(D104="ПО",IF(E104="ПП","Профессиональная переподготовка рабочих и служащих",IF(E104="ПО","Профессиональная подготовка рабочих и служащих",IF(E104="ПК","Повышение квалификации рабочих и служащих",IF(E104="ППЗ","Периодическая проверка знаний рабочих и служащих","")))),IF(D104="курсы","Программа обучения",IF(D104="ДПО",IF(E104="ПК","Повышение квалификации",IF(E104="ПП","Профессиональная переподготовка","")),""))) -> Повышение квалификации рабочих и служащих | M104: 22. ПРОФЕССИОНАЛЬНОЕ ОБУЧЕНИЕ РАБОЧИХ | N104: 22
A105: БП-00002591 | B105: ОБР803 | C105: Варщик стекла | D105: ПО | E105: ППЗ | F105: =E105 -> ППЗ | G105: 8 | I105: =SUBSTITUTE(SUBSTITUTE(H105," разряд",""),"разряд","") | J105: =IF(D105="ПО","Профессиональное обучение",IF(D105="курсы","Программа обучения",IF(D105="ДПО",IF(E105="ПК","Повышение квалификации",IF(E105="ПП","Профессиональная переподготовка","")),""))) -> Профессиональное обучение | K105: =CONCATENATE(C105," (",G105," ч.)",)&IF(D105="ПО"," "&CHOOSE(MATCH(E105,{"ПП","ПО","ПК","ППЗ"},0),"- профессиональная переподготовка рабочих и служащих","- профессиональная подготовка рабочих и служащих","- повышение квалификации рабочих и служащих","- периодическая проверка знаний рабочих и служащих")&IF(AND(D105="ПО",H105<>"")," ("&H105&")",""),IF(D105="ДПО"," "&IF(E105="ПК","- повышение квалификации",IF(E105="ПП","- профессиональная переподготовка","")),IF(D105="курсы"," - программа обучения",""))) -> Варщик стекла (8 ч.) - периодическая проверка знаний рабочих и служащих | L105: =IF(D105="ПО",IF(E105="ПП","Профессиональная переподготовка рабочих и служащих",IF(E105="ПО","Профессиональная подготовка рабочих и служащих",IF(E105="ПК","Повышение квалификации рабочих и служащих",IF(E105="ППЗ","Периодическая проверка знаний рабочих и служащих","")))),IF(D105="курсы","Программа обучения",IF(D105="ДПО",IF(E105="ПК","Повышение квалификации",IF(E105="ПП","Профессиональная переподготовка","")),""))) -> Периодическая проверка знаний рабочих и служащих | M105: 22. ПРОФЕССИОНАЛЬНОЕ ОБУЧЕНИЕ РАБОЧИХ | N105: 22
A106: БП-00003265 | B106: ОБР1166 | C106: Взрывник (с правом производства взрывных работ на открытых горных разработках) | D106: ПО | E106: ПП | F106: =E106 -> ПП | G106: 144 | I106: =SUBSTITUTE(SUBSTITUTE(H106," разряд",""),"разряд","") | J106: =IF(D106="ПО","Профессиональное обучение",IF(D106="курсы","Программа обучения",IF(D106="ДПО",IF(E106="ПК","Повышение квалификации",IF(E106="ПП","Профессиональная переподготовка","")),""))) -> Профессиональное обучение | K106: =CONCATENATE(C106," (",G106," ч.)",)&IF(D106="ПО"," "&CHOOSE(MATCH(E106,{"ПП","ПО","ПК","ППЗ"},0),"- профессиональная переподготовка рабочих и служащих","- профессиональная подготовка рабочих и служащих","- повышение квалификации рабочих и служащих","- периодическая проверка знаний рабочих и служащих")&IF(AND(D106="ПО",H106<>"")," ("&H106&")",""),IF(D106="ДПО"," "&IF(E106="ПК","- повышение квалификации",IF(E106="ПП","- профессиональная переподготовка","")),IF(D106="курсы"," - программа обучения",""))) -> Взрывник (с правом производства взрывных работ на открытых горных разработках) (144 ч.) - профессиональная переподготовка рабочих и служащих | L106: =IF(D106="ПО",IF(E106="ПП","Профессиональная переподготовка рабочих и служащих",IF(E106="ПО","Профессиональная подготовка рабочих и служащих",IF(E106="ПК","Повышение квалификации рабочих и служащих",IF(E106="ППЗ","Периодическая проверка знаний рабочих и служащих","")))),IF(D106="курсы","Программа обучения",IF(D106="ДПО",IF(E106="ПК","Повышение квалификации",IF(E106="ПП","Профессиональная переподготовка","")),""))) -> Профессиональная переподготовка рабочих и служащих | M106: 22. ПРОФЕССИОНАЛЬНОЕ ОБУЧЕНИЕ РАБОЧИХ | N106: 22
A107: БП-00002594 | B107: ОБР805 | C107: Водитель вездехода | D107: ПО | E107: ПП | F107: =E107 -> ПП | G107: 144 | I107: =SUBSTITUTE(SUBSTITUTE(H107," разряд",""),"разряд","") | J107: =IF(D107="ПО","Профессиональное обучение",IF(D107="курсы","Программа обучения",IF(D107="ДПО",IF(E107="ПК","Повышение квалификации",IF(E107="ПП","Профессиональная переподготовка","")),""))) -> Профессиональное обучение | K107: =CONCATENATE(C107," (",G107," ч.)",)&IF(D107="ПО"," "&CHOOSE(MATCH(E107,{"ПП","ПО","ПК","ППЗ"},0),"- профессиональная переподготовка рабочих и служащих","- профессиональная подготовка рабочих и служащих","- повышение квалификации рабочих и служащих","- периодическая проверка знаний рабочих и служащих")&IF(AND(D107="ПО",H107<>"")," ("&H107&")",""),IF(D107="ДПО"," "&IF(E107="ПК","- повышение квалификации",IF(E107="ПП","- профессиональная переподготовка","")),IF(D107="курсы"," - программа обучения",""))) -> Водитель вездехода (144 ч.) - профессиональная переподготовка рабочих и служащих | L107: =IF(D107="ПО",IF(E107="ПП","Профессиональная переподготовка рабочих и служащих",IF(E107="ПО","Профессиональная подготовка рабочих и служащих",IF(E107="ПК","Повышение квалификации рабочих и служащих",IF(E107="ППЗ","Периодическая проверка знаний рабочих и служащих","")))),IF(D107="курсы","Программа обучения",IF(D107="ДПО",IF(E107="ПК","Повышение квалификации",IF(E107="ПП","Профессиональная переподготовка","")),""))) -> Профессиональная переподготовка рабочих и служащих | M107: 22. ПРОФЕССИОНАЛЬНОЕ ОБУЧЕНИЕ РАБОЧИХ | N107: 22
A108: БП-00002593 | B108: ОБР804 | C108: Водитель вездехода | D108: ПО | E108: ПО | F108: =E108 -> ПО | G108: 160 | I108: =SUBSTITUTE(SUBSTITUTE(H108," разряд",""),"разряд","") | J108: =IF(D108="ПО","Профессиональное обучение",IF(D108="курсы","Программа обучения",IF(D108="ДПО",IF(E108="ПК","Повышение квалификации",IF(E108="ПП","Профессиональная переподготовка","")),""))) -> Профессиональное обучение | K108: =CONCATENATE(C108," (",G108," ч.)",)&IF(D108="ПО"," "&CHOOSE(MATCH(E108,{"ПП","ПО","ПК","ППЗ"},0),"- профессиональная переподготовка рабочих и служащих","- профессиональная подготовка рабочих и служащих","- повышение квалификации рабочих и служащих","- периодическая проверка знаний рабочих и служащих")&IF(AND(D108="ПО",H108<>"")," ("&H108&")",""),IF(D108="ДПО"," "&IF(E108="ПК","- повышение квалификации",IF(E108="ПП","- профессиональная переподготовка","")),IF(D108="курсы"," - программа обучения",""))) -> Водитель вездехода (160 ч.) - профессиональная подготовка рабочих и служащих | L108: =IF(D108="ПО",IF(E108="ПП","Профессиональная переподготовка рабочих и служащих",IF(E108="ПО","Профессиональная подготовка рабочих и служащих",IF(E108="ПК","Повышение квалификации рабочих и служащих",IF(E108="ППЗ","Периодическая проверка знаний рабочих и служащих","")))),IF(D108="курсы","Программа обучения",IF(D108="ДПО",IF(E108="ПК","Повышение квалификации",IF(E108="ПП","Профессиональная переподготовка","")),""))) -> Профессиональная подготовка рабочих и служащих | M108: 22. ПРОФЕССИОНАЛЬНОЕ ОБУЧЕНИЕ РАБОЧИХ | N108: 22
A109: БП-00002595 | B109: ОБР806 | C109: Водитель вездехода | D109: ПО | E109: ПК | F109: =E109 -> ПК | G109: 72 | I109: =SUBSTITUTE(SUBSTITUTE(H109," разряд",""),"разряд","") | J109: =IF(D109="ПО","Профессиональное обучение",IF(D109="курсы","Программа обучения",IF(D109="ДПО",IF(E109="ПК","Повышение квалификации",IF(E109="ПП","Профессиональная переподготовка","")),""))) -> Профессиональное обучение | K109: =CONCATENATE(C109," (",G109," ч.)",)&IF(D109="ПО"," "&CHOOSE(MATCH(E109,{"ПП","ПО","ПК","ППЗ"},0),"- профессиональная переподготовка рабочих и служащих","- профессиональная подготовка рабочих и служащих","- повышение квалификации рабочих и служащих","- периодическая проверка знаний рабочих и служащих")&IF(AND(D109="ПО",H109<>"")," ("&H109&")",""),IF(D109="ДПО"," "&IF(E109="ПК","- повышение квалификации",IF(E109="ПП","- профессиональная переподготовка","")),IF(D109="курсы"," - программа обучения",""))) -> Водитель вездехода (72 ч.) - повышение квалификации рабочих и служащих | L109: =IF(D109="ПО",IF(E109="ПП","Профессиональная переподготовка рабочих и служащих",IF(E109="ПО","Профессиональная подготовка рабочих и служащих",IF(E109="ПК","Повышение квалификации рабочих и служащих",IF(E109="ППЗ","Периодическая проверка знаний рабочих и служащих","")))),IF(D109="курсы","Программа обучения",IF(D109="ДПО",IF(E109="ПК","Повышение квалификации",IF(E109="ПП","Профессиональная переподготовка","")),""))) -> Повышение квалификации рабочих и служащих | M109: 22. ПРОФЕССИОНАЛЬНОЕ ОБУЧЕНИЕ РАБОЧИХ | N109: 22
...
