Workbook
Name Квалиф: [1]Проверки!$L$2:$L$5596
Name повышение_квалификации: OFFSET('Справочник программ'!#REF!, 0, 0, COUNTIF('Справочник программ'!$J:$J, "повышение квалификации"), 1)
Name Программа: OFFSET('Справочник программ'!D1048574,MATCH(Заявка!XFB1,'Справочник программ'!D1048574:D943,0),1,COUNTIF('Справочник программ'!D1048574:D943,Заявка!XFB1),1)
Name программа_обучения: OFFSET('Справочник программ'!#REF!, 0, 0, COUNTIF('Справочник программ'!$J:$J, "программа обучения (курс)"), 1)
Name профессиональная_переподготовка: OFFSET('Справочник программ'!#REF!, 0, 0, COUNTIF('Справочник программ'!$J:$J, "профессиональная переподготовка"), 1)
Name профессиональное_обучение: OFFSET('Справочник программ'!#REF!, 0, 0, COUNTIF('Справочник программ'!$J:$J, "профессиональное обучение"), 1)

Sheet Заявка
F1: ООО Учебный Центр МИР «ЭНЕРГИЯ» 660098, г. Красноярск, ул. Молокова, 14, 3 этаж ИНН: 2460247561, Лицензия № Л035-01211-24/00241801 8 (391) 219-14-44
D2: ЗАЯВКА НА ОБУЧЕНИЕ "РАБОЧИЕ ПРОФЕССИИ" | J2: mail@worldenergy24.ru
A3: Общие сведения о Компании (все поля обязательны для заполнения): ↓
A4: Наименование организации:
A5: ИНН организации:
A6: КПП организации:
A7: ФИО ответственного исполнителя для связи:
A8: Контактный телефон ответственного исполнителя:
A9: e-mail для отправки доступа на обучение:
A10: Почтовый адрес для отправки оригиналов документов:
A12: 1. Заполните данные в каждом столбце 2. Выберите программу обучения на зеленой вкладке "Справочник программ" и скопируйте значение из колонки "Код 1С" напротив наименования программы 3. Вернитесь на вкладку "Заполнение заявки" и вставьте значение в колонку "Укажите код программы из справочника"
A14: № | B14: ФИО (полностью) | C14: Дата рождения | D14: СНИЛС в формате ххх-ххх-ххх хх | E14: Должность | F14: Разряд ДО обучения | G14: Необходимый разряд / класс | H14: Выберите квалификацию сварщика | I14: Укажите код программы из справочника | J14: Название программы и вид обучения (сформируется автоматически) | K14: Столбец1 | L14: Столбец2 | M14: Столбец3 | N14: Столбец4 | O14: Столбец5 | P14: Вид обучения (сформируется автоматически) | Q14: Возможные разряды | R14: Виды группы допуска (выбор) | S14: Вид образования | T14: Столбец6
A15: 1 | J15: =IFERROR(VLOOKUP(Таблица3[[#This Row],[Укажите код программы из справочника]],'Справочник программ'!A:L,11,0), "") | P15: =IFERROR(VLOOKUP(I15,'Справочник программ'!A:L,10,0), "") | Q15: =IFERROR(VLOOKUP(I15,'Справочник программ'!A:K,9,0), "") | R15: Высота / ОЗП - 1 группа | S15: СПО | T15: БП-00000208
A16: 2 | J16: =IFERROR(VLOOKUP(Таблица3[[#This Row],[Укажите код программы из справочника]],'Справочник программ'!A:L,11,0), "") | P16: =IFERROR(VLOOKUP(I16,'Справочник программ'!A:L,10,0), "") | Q16: =IFERROR(VLOOKUP(I16,'Справочник программ'!A:K,9,0), "") | R16: Высота / ОЗП - 2 группа | S16: ВО | T16: БП-00001419
A17: 3 | J17: =IFERROR(VLOOKUP(Таблица3[[#This Row],[Укажите код программы из справочника]],'Справочник программ'!A:L,11,0), "") | P17: =IFERROR(VLOOKUP(I17,'Справочник программ'!A:L,10,0), "") | Q17: =IFERROR(VLOOKUP(I17,'Справочник программ'!A:K,9,0), "") | R17: Высота / ОЗП - 3 группа | T17: БП-00000941
A18: 4 | J18: =IFERROR(VLOOKUP(Таблица3[[#This Row],[Укажите код программы из справочника]],'Справочник программ'!A:L,11,0), "") | P18: =IFERROR(VLOOKUP(I18,'Справочник программ'!A:L,10,0), "") | Q18: =IFERROR(VLOOKUP(I18,'Справочник программ'!A:K,9,0), "") | R18: Электробез. 2 гр. до 1000 В ЭБ
A19: 5 | J19: =IFERROR(VLOOKUP(Таблица3[[#This Row],[Укажите код программы из справочника]],'Справочник программ'!A:L,11,0), "") | P19: =IFERROR(VLOOKUP(I19,'Справочник программ'!A:L,10,0), "") | Q19: =IFERROR(VLOOKUP(I19,'Справочник программ'!A:K,9,0), "") | R19: Электробез. 2 гр. до и свыше 1000 В
A20: 6 | J20: =IFERROR(VLOOKUP(Таблица3[[#This Row],[Укажите код программы из справочника]],'Справочник программ'!A:L,11,0), "") | P20: =IFERROR(VLOOKUP(I20,'Справочник программ'!A:L,10,0), "") | Q20: =IFERROR(VLOOKUP(I20,'Справочник программ'!A:K,9,0), "") | R20: Электробез. 3 гр. до 1000 В
A21: 7 | J21: =IFERROR(VLOOKUP(Таблица3[[#This Row],[Укажите код программы из справочника]],'Справочник программ'!A:L,11,0), "") | P21: =IFERROR(VLOOKUP(I21,'Справочник программ'!A:L,10,0), "") | Q21: =IFERROR(VLOOKUP(I21,'Справочник программ'!A:K,9,0), "") | R21: Электробез. 3 гр. до и свыше 1000 В
A22: 8 | J22: =IFERROR(VLOOKUP(Таблица3[[#This Row],[Укажите код программы из справочника]],'Справочник программ'!A:L,11,0), "") | P22: =IFERROR(VLOOKUP(I22,'Справочник программ'!A:L,10,0), "") | Q22: =IFERROR(VLOOKUP(I22,'Справочник программ'!A:K,9,0), "") | R22: Электробез. 4 гр. до 1000 В
A23: 9 | J23: =IFERROR(VLOOKUP(Таблица3[[#This Row],[Укажите код программы из справочника]],'Справочник программ'!A:L,11,0), "") | P23: =IFERROR(VLOOKUP(I23,'Справочник программ'!A:L,10,0), "") | Q23: =IFERROR(VLOOKUP(I23,'Справочник программ'!A:K,9,0), "") | R23: Электробез. 4 гр. до и свыше 1000 В
A24: 10 | J24: =IFERROR(VLOOKUP(Таблица3[[#This Row],[Укажите код программы из справочника]],'Справочник программ'!A:L,11,0), "") | P24: =IFERROR(VLOOKUP(I24,'Справочник программ'!A:L,10,0), "") | Q24: =IFERROR(VLOOKUP(I24,'Справочник программ'!A:K,9,0), "") | R24: Электробез. 5 гр. до 1000 В
A25: 11 | J25: =IFERROR(VLOOKUP(Таблица3[[#This Row],[Укажите код программы из справочника]],'Справочник программ'!A:L,11,0), "") | P25: =IFERROR(VLOOKUP(I25,'Справочник программ'!A:L,10,0), "") | Q25: =IFERROR(VLOOKUP(I25,'Справочник программ'!A:K,9,0), "") | R25: Электробез. 5 гр. до и свыше 1000 В
A26: 12 | J26: =IFERROR(VLOOKUP(Таблица3[[#This Row],[Укажите код программы из справочника]],'Справочник программ'!A:L,11,0), "") | P26: =IFERROR(VLOOKUP(I26,'Справочник программ'!A:L,10,0), "") | Q26: =IFERROR(VLOOKUP(I26,'Справочник программ'!A:K,9,0), "") | R26: Газосварщик
A27: 13 | J27: =IFERROR(VLOOKUP(Таблица3[[#This Row],[Укажите код программы из справочника]],'Справочник программ'!A:L,11,0), "") | P27: =IFERROR(VLOOKUP(I27,'Справочник программ'!A:L,10,0), "") | Q27: =IFERROR(VLOOKUP(I27,'Справочник программ'!A:K,9,0), "") | R27: Электрогазосварщик
A28: 14 | J28: =IFERROR(VLOOKUP(Таблица3[[#This Row],[Укажите код программы из справочника]],'Справочник программ'!A:L,11,0), "") | P28: =IFERROR(VLOOKUP(I28,'Справочник программ'!A:L,10,0), "") | Q28: =IFERROR(VLOOKUP(I28,'Справочник программ'!A:K,9,0), "") | R28: Электросварщик на автоматических и полуавтоматических машинах
A29: 15 | J29: =IFERROR(VLOOKUP(Таблица3[[#This Row],[Укажите код программы из справочника]],'Справочник программ'!A:L,11,0), "") | P29: =IFERROR(VLOOKUP(I29,'Справочник программ'!A:L,10,0), "") | Q29: =IFERROR(VLOOKUP(I29,'Справочник программ'!A:K,9,0), "") | R29: Электросварщик ручной сварки
A30: 16 | J30: =IFERROR(VLOOKUP(Таблица3[[#This Row],[Укажите код программы из справочника]],'Справочник программ'!A:L,11,0), "") | P30: =IFERROR(VLOOKUP(I30,'Справочник программ'!A:L,10,0), "") | Q30: =IFERROR(VLOOKUP(I30,'Справочник программ'!A:K,9,0), "")
A31: 17 | J31: =IFERROR(VLOOKUP(Таблица3[[#This Row],[Укажите код программы из справочника]],'Справочник программ'!A:L,11,0), "") | P31: =IFERROR(VLOOKUP(I31,'Справочник программ'!A:L,10,0), "") | Q31: =IFERROR(VLOOKUP(I31,'Справочник программ'!A:K,9,0), "")
A32: 18 | J32: =IFERROR(VLOOKUP(Таблица3[[#This Row],[Укажите код программы из справочника]],'Справочник программ'!A:L,11,0), "") | P32: =IFERROR(VLOOKUP(I32,'Справочник программ'!A:L,10,0), "") | Q32: =IFERROR(VLOOKUP(I32,'Справочник программ'!A:K,9,0), "")
A33: 19 | J33: =IFERROR(VLOOKUP(Таблица3[[#This Row],[Укажите код программы из справочника]],'Справочник программ'!A:L,11,0), "") | P33: =IFERROR(VLOOKUP(I33,'Справочник программ'!A:L,10,0), "") | Q33: =IFERROR(VLOOKUP(I33,'Справочник программ'!A:K,9,0), "")
A34: 20 | J34: =IFERROR(VLOOKUP(Таблица3[[#This Row],[Укажите код программы из справочника]],'Справочник программ'!A:L,11,0), "") | P34: =IFERROR(VLOOKUP(I34,'Справочник программ'!A:L,10,0), "") | Q34: =IFERROR(VLOOKUP(I34,'Справочник программ'!A:K,9,0), "")
A35: 21 | J35: =IFERROR(VLOOKUP(Таблица3[[#This Row],[Укажите код программы из справочника]],'Справочник программ'!A:L,11,0), "") | P35: =IFERROR(VLOOKUP(I35,'Справочник программ'!A:L,10,0), "") | Q35: =IFERROR(VLOOKUP(I35,'Справочник программ'!A:K,9,0), "")
A36: 22 | J36: =IFERROR(VLOOKUP(Таблица3[[#This Row],[Укажите код программы из справочника]],'Справочник программ'!A:L,11,0), "") | P36: =IFERROR(VLOOKUP(I36,'Справочник программ'!A:L,10,0), "") | Q36: =IFERROR(VLOOKUP(I36,'Справочник программ'!A:K,9,0), "")
A37: 23 | J37: =IFERROR(VLOOKUP(Таблица3[[#This Row],[Укажите код программы из справочника]],'Справочник программ'!A:L,11,0), "") | P37: =IFERROR(VLOOKUP(I37,'Справочник программ'!A:L,10,0), "") | Q37: =IFERROR(VLOOKUP(I37,'Справочник программ'!A:K,9,0), "")
A38: 24 | J38: =IFERROR(VLOOKUP(Таблица3[[#This Row],[Укажите код программы из справочника]],'Справочник программ'!A:L,11,0), "") | P38: =IFERROR(VLOOKUP(I38,'Справочник программ'!A:L,10,0), "") | Q38: =IFERROR(VLOOKUP(I38,'Справочник программ'!A:K,9,0), "")
A39: 25 | J39: =IFERROR(VLOOKUP(Таблица3[[#This Row],[Укажите код программы из справочника]],'Справочник программ'!A:L,11,0), "") | P39: =IFERROR(VLOOKUP(I39,'Справочник программ'!A:L,10,0), "") | Q39: =IFERROR(VLOOKUP(I39,'Справочник программ'!A:K,9,0), "")
A40: 26 | J40: =IFERROR(VLOOKUP(Таблица3[[#This Row],[Укажите код программы из справочника]],'Справочник программ'!A:L,11,0), "") | P40: =IFERROR(VLOOKUP(I40,'Справочник программ'!A:L,10,0), "") | Q40: =IFERROR(VLOOKUP(I40,'Справочник программ'!A:K,9,0), "")
A41: 27 | J41: =IFERROR(VLOOKUP(Таблица3[[#This Row],[Укажите код программы из справочника]],'Справочник программ'!A:L,11,0), "") | P41: =IFERROR(VLOOKUP(I41,'Справочник программ'!A:L,10,0), "") | Q41: =IFERROR(VLOOKUP(I41,'Справочник программ'!A:K,9,0), "")
... A64: 50 | J64: =IFERROR(VLOOKUP(Таблица3[[#This Row],[Укажите код программы из справочника]],'Справочник программ'!A:L,11,0), "") | P64: =IFERROR(VLOOKUP(I64,'Справочник программ'!A:L,10,0), "") | Q64: =IFERROR(VLOOKUP(I64,'Справочник программ'!A:K,9,0), "")

Sheet Справочник программ
A1: Скопируйте номер выбранный Вами программы из столбца "Код 1С" на лист "Заявка"
A3: Код 1С | B3: Артикул 1С | C3: ПРОГРАММА | D3: ПО/ДПО | E3: ВИД | G3: Часы | H3: Разряд | I3: РАЗРЯД (табл. Метод) | J3: вид программы (табл. Метод) | K3: Название + часы + разряд для ПО | L3: Вид программы | M3: направление | N3: Для сортировки направления
A4: ПРОФЕССИОНАЛЬНОЕ ОБУЧЕНИЕ РАБОЧИХ | M4: 22. ПРОФЕССИОНАЛЬНОЕ ОБУЧЕНИЕ РАБОЧИХ | N4: 22
A5: БП-00000248 | B5: ОБР162 | C5: Аккумуляторщик | D5: ПО | E5: ПК | F5: =E5 -> ПК | G5: 56 | H5: 3-5 разряд | I5: =SUBSTITUTE(SUBSTITUTE(H5," разряд",""),"разряд","") -> 3-5 | J5: =IF(D5="ПО","Профессиональное обучение",IF(D5="курсы","Программа обучения",IF(D5="ДПО",IF(E5="ПК","Повышение квалификации",IF(E5="ПП","Профессиональная переподготовка","")),""))) -> Профессиональное обучение | K5: =CONCATENATE(C5," (",G5," ч.)",)&IF(D5="ПО"," "&CHOOSE(MATCH(E5,{"ПП","ПО","ПК","ППЗ"},0),"- профессиональная переподготовка рабочих и служащих","- профессиональная подготовка рабочих и служащих","- повышение квалификации рабочих и служащих","- периодическая проверка знаний рабочих и служащих")&IF(AND(D5="ПО",H5<>"")," ("&H5&")",""),IF(D5="ДПО"," "&IF(E5="ПК","- повышение квалификации",IF(E5="ПП","- профессиональная переподготовка","")),IF(D5="курсы"," - программа обучения",""))) -> Аккумуляторщик (56 ч.) - повышение квалификации рабочих и служащих (3-5 разряд) | L5: =IF(D5="ПО",IF(E5="ПП","Профессиональная переподготовка рабочих и служащих",IF(E5="ПО","Профессиональная подготовка рабочих и служащих",IF(E5="ПК","Повышение квалификации рабочих и служащих",IF(E5="ППЗ","Периодическая проверка знаний рабочих и служащих","")))),IF(D5="курсы","Программа обучения",IF(D5="ДПО",IF(E5="ПК","Повышение квалификации",IF(E5="ПП","Профессиональная переподготовка","")),""))) -> Повышение квалификации рабочих и служащих | M5: 22. ПРОФЕССИОНАЛЬНОЕ ОБУЧЕНИЕ РАБОЧИХ | N5: 22
A6: БП-00000404 | B6: ОБР160 | C6: Аккумуляторщик | D6: ПО | E6: ППЗ | F6: =E6 -> ППЗ | G6: 8 | I6: =SUBSTITUTE(SUBSTITUTE(H6," разряд",""),"разряд","") | J6: =IF(D6="ПО","Профессиональное обучение",IF(D6="курсы","Программа обучения",IF(D6="ДПО",IF(E6="ПК","Повышение квалификации",IF(E6="ПП","Профессиональная переподготовка","")),""))) -> Профессиональное обучение | K6: =CONCATENATE(C6," (",G6," ч.)",)&IF(D6="ПО"," "&CHOOSE(MATCH(E6,{"ПП","ПО","ПК","ППЗ"},0),"- профессиональная переподготовка рабочих и служащих","- профессиональная подготовка рабочих и служащих","- повышение квалификации рабочих и служащих","- периодическая проверка знаний рабочих и служащих")&IF(AND(D6="ПО",H6<>"")," ("&H6&")",""),IF(D6="ДПО"," "&IF(E6="ПК","- повышение квалификации",IF(E6="ПП","- профессиональная переподготовка","")),IF(D6="курсы"," - программа обучения",""))) -> Аккумуляторщик (8 ч.) - периодическая проверка знаний рабочих и служащих | L6: =IF(D6="ПО",IF(E6="ПП","Профессиональная переподготовка рабочих и служащих",IF(E6="ПО","Профессиональная подготовка рабочих и служащих",IF(E6="ПК","Повышение квалификации рабочих и служащих",IF(E6="ППЗ","Периодическая проверка знаний рабочих и служащих","")))),IF(D6="курсы","Программа обучения",IF(D6="ДПО",IF(E6="ПК","Повышение квалификации",IF(E6="ПП","Профессиональная переподготовка","")),""))) -> Периодическая проверка знаний рабочих и служащих | M6: 22. ПРОФЕССИОНАЛЬНОЕ ОБУЧЕНИЕ РАБОЧИХ | N6: 22
A7: 00000000406 | B7: ОБР163 | C7: Аккумуляторщик | D7: ПО | E7: ПП | F7: =E7 -> ПП | G7: 86 | H7: 1-3 разряд | I7: =SUBSTITUTE(SUBSTITUTE(H7," разряд",""),"разряд","") -> 1-3 | J7: =IF(D7="ПО","Профессиональное обучение",IF(D7="курсы","Программа обучения",IF(D7="ДПО",IF(E7="ПК","Повышение квалификации",IF(E7="ПП","Профессиональная переподготовка","")),""))) -> Профессиональное обучение | K7: =CONCATENATE(C7," (",G7," ч.)",)&IF(D7="ПО"," "&CHOOSE(MATCH(E7,{"ПП","ПО","ПК","ППЗ"},0),"- профессиональная переподготовка рабочих и служащих","- профессиональная подготовка рабочих и служащих","- повышение квалификации рабочих и служащих","- периодическая проверка знаний рабочих и служащих")&IF(AND(D7="ПО",H7<>"")," ("&H7&")",""),IF(D7="ДПО"," "&IF(E7="ПК","- повышение квалификации",IF(E7="ПП","- профессиональная переподготовка","")),IF(D7="курсы"," - программа обучения",""))) -> Аккумуляторщик (86 ч.) - профессиональная переподготовка рабочих и служащих (1-3 разряд) | L7: =IF(D7="ПО",IF(E7="ПП","Профессиональная переподготовка рабочих и служащих",IF(E7="ПО","Профессиональная подготовка рабочих и служащих",IF(E7="ПК","Повышение квалификации рабочих и служащих",IF(E7="ППЗ","Периодическая проверка знаний рабочих и служащих","")))),IF(D7="курсы","Программа обучения",IF(D7="ДПО",IF(E7="ПК","Повышение квалификации",IF(E7="ПП","Профессиональная переподготовка","")),""))) -> Профессиональная переподготовка рабочих и служащих | M7: 22. ПРОФЕССИОНАЛЬНОЕ ОБУЧЕНИЕ РАБОЧИХ | N7: 22
A8: БП-00002504 | B8: ОБР733 | C8: Аппаратчик в производстве драгоценных металлов | D8: ПО | E8: ПП | F8: =E8 -> ПП | G8: 144 | H8: 3-4 разряд | I8: =SUBSTITUTE(SUBSTITUTE(H8," разряд",""),"разряд","") -> 3-4 | J8: =IF(D8="ПО","Профессиональное обучение",IF(D8="курсы","Программа обучения",IF(D8="ДПО",IF(E8="ПК","Повышение квалификации",IF(E8="ПП","Профессиональная переподготовка","")),""))) -> Профессиональное обучение | K8: =CONCATENATE(C8," (",G8," ч.)",)&IF(D8="ПО"," "&CHOOSE(MATCH(E8,{"ПП","ПО","ПК","ППЗ"},0),"- профессиональная переподготовка рабочих и служащих","- профессиональная подготовка рабочих и служащих","- повышение квалификации рабочих и служащих","- периодическая проверка знаний рабочих и служащих")&IF(AND(D8="ПО",H8<>"")," ("&H8&")",""),IF(D8="ДПО"," "&IF(E8="ПК","- повышение квалификации",IF(E8="ПП","- профессиональная переподготовка","")),IF(D8="курсы"," - программа обучения",""))) -> Аппаратчик в производстве драгоценных металлов (144 ч.) - профессиональная переподготовка рабочих и служащих (3-4 разряд) | L8: =IF(D8="ПО",IF(E8="ПП","Профессиональная переподготовка рабочих и служащих",IF(E8="ПО","Профессиональная подготовка рабочих и служащих",IF(E8="ПК","Повышение квалификации рабочих и служащих",IF(E8="ППЗ","Периодическая проверка знаний рабочих и служащих","")))),IF(D8="курсы","Программа обучения",IF(D8="ДПО",IF(E8="ПК","Повышение квалификации",IF(E8="ПП","Профессиональная переподготовка","")),""))) -> Профессиональная переподготовка рабочих и служащих | M8: 22. ПРОФЕССИОНАЛЬНОЕ ОБУЧЕНИЕ РАБОЧИХ | N8: 22
A9: БП-00002503 | B9: ОБР732 | C9: Аппаратчик в производстве драгоценных металлов | D9: ПО | E9: ПО | F9: =E9 -> ПО | G9: 160 | H9: 3-4 разряд | I9: =SUBSTITUTE(SUBSTITUTE(H9," разряд",""),"разряд","") -> 3-4 | J9: =IF(D9="ПО","Профессиональное обучение",IF(D9="курсы","Программа обучения",IF(D9="ДПО",IF(E9="ПК","Повышение квалификации",IF(E9="ПП","Профессиональная переподготовка","")),""))) -> Профессиональное обучение | K9: =CONCATENATE(C9," (",G9," ч.)",)&IF(D9="ПО"," "&CHOOSE(MATCH(E9,{"ПП","ПО","ПК","ППЗ"},0),"- профессиональная переподготовка рабочих и служащих","- профессиональная подготовка рабочих и служащих","- повышение квалификации рабочих и служащих","- периодическая проверка знаний рабочих и служащих")&IF(AND(D9="ПО",H9<>"")," ("&H9&")",""),IF(D9="ДПО"," "&IF(E9="ПК","- повышение квалификации",IF(E9="ПП","- профессиональная переподготовка","")),IF(D9="курсы"," - программа обучения",""))) -> Аппаратчик в производстве драгоценных металлов (160 ч.) - профессиональная подготовка рабочих и служащих (3-4 разряд) | L9: =IF(D9="ПО",IF(E9="ПП","Профессиональная переподготовка рабочих и служащих",IF(E9="ПО","Профессиональная подготовка рабочих и служащих",IF(E9="ПК","Повышение квалификации рабочих и служащих",IF(E9="ППЗ","Периодическая проверка знаний рабочих и служащих","")))),IF(D9="курсы","Программа обучения",IF(D9="ДПО",IF(E9="ПК","Повышение квалификации",IF(E9="ПП","Профессиональная переподготовка","")),""))) -> Профессиональная подготовка рабочих и служащих | M9: 22. ПРОФЕССИОНАЛЬНОЕ ОБУЧЕНИЕ РАБОЧИХ | N9: 22
A10: БП-00002505 | B10: ОБР734 | C10: Аппаратчик в производстве драгоценных металлов | D10: ПО | E10: ПК | F10: =E10 -> ПК | G10: 72 | H10: 5-6 разряд | I10: =SUBSTITUTE(SUBSTITUTE(H10," разряд",""),"разряд","") -> 5-6 | J10: =IF(D10="ПО","Профессиональное обучение",IF(D10="курсы","Программа обучения",IF(D10="ДПО",IF(E10="ПК","Повышение квалификации",IF(E10="ПП","Профессиональная переподготовка","")),""))) -> Профессиональное обучение | K10: =CONCATENATE(C10," (",G10," ч.)",)&IF(D10="ПО"," "&CHOOSE(MATCH(E10,{"ПП","ПО","ПК","ППЗ"},0),"- профессиональная переподготовка рабочих и служащих","- профессиональная подготовка рабочих и служащих","- повышение квалификации рабочих и служащих","- периодическая проверка знаний рабочих и служащих")&IF(AND(D10="ПО",H10<>"")," ("&H10&")",""),IF(D10="ДПО"," "&IF(E10="ПК","- повышение квалификации",IF(E10="ПП","- профессиональная переподготовка","")),IF(D10="курсы"," - программа обучения",""))) -> Аппаратчик в производстве драгоценных металлов (72 ч.) - повышение квалификации рабочих и служащих (5-6 разряд) | L10: =IF(D10="ПО",IF(E10="ПП","Профессиональная переподготовка рабочих и служащих",IF(E10="ПО","Профессиональная подготовка рабочих и служащих",IF(E10="ПК","Повышение квалификации рабочих и служащих",IF(E10="ППЗ","Периодическая проверка знаний рабочих и служащих","")))),IF(D10="курсы","Программа обучения",IF(D10="ДПО",IF(E10="ПК","Повышение квалификации",IF(E10="ПП","Профессиональная переподготовка","")),""))) -> Повышение квалификации рабочих и служащих | M10: 22. ПРОФЕССИОНАЛЬНОЕ ОБУЧЕНИЕ РАБОЧИХ | N10: 22
A11: БП-00002506 | B11: ОБР735 | C11: Аппаратчик в производстве драгоценных металлов | D11: ПО | E11: ППЗ | F11: =E11 -> ППЗ | G11: 8 | I11: =SUBSTITUTE(SUBSTITUTE(H11," разряд",""),"разряд","") | J11: =IF(D11="ПО","Профессиональное обучение",IF(D11="курсы","Программа обучения",IF(D11="ДПО",IF(E11="ПК","Повышение квалификации",IF(E11="ПП","Профессиональная переподготовка","")),""))) -> Профессиональное обучение | K11: =CONCATENATE(C11," (",G11," ч.)",)&IF(D11="ПО"," "&CHOOSE(MATCH(E11,{"ПП","ПО","ПК","ППЗ"},0),"- профессиональная переподготовка рабочих и служащих","- профессиональная подготовка рабочих и служащих","- повышение квалификации рабочих и служащих","- периодическая проверка знаний рабочих и служащих")&IF(AND(D11="ПО",H11<>"")," ("&H11&")",""),IF(D11="ДПО"," "&IF(E11="ПК","- повышение квалификации",IF(E11="ПП","- профессиональная переподготовка","")),IF(D11="курсы"," - программа обучения",""))) -> Аппаратчик в производстве драгоценных металлов (8 ч.) - периодическая проверка знаний рабочих и служащих | L11: =IF(D11="ПО",IF(E11="ПП","Профессиональная переподготовка рабочих и служащих",IF(E11="ПО","Профессиональная подготовка рабочих и служащих",IF(E11="ПК","Повышение квалификации рабочих и служащих",IF(E11="ППЗ","Периодическая проверка знаний рабочих и служащих","")))),IF(D11="курсы","Программа обучения",IF(D11="ДПО",IF(E11="ПК","Повышение квалификации",IF(E11="ПП","Профессиональная переподготовка","")),""))) -> Периодическая проверка знаний рабочих и служащих | M11: 22. ПРОФЕССИОНАЛЬНОЕ ОБУЧЕНИЕ РАБОЧИХ | N11: 22
A12: БП-00002509 | B12: ОБР737 | C12: Аппаратчик в производстве металлических порошков | D12: ПО | E12: ПП | F12: =E12 -> ПП | G12: 144 | I12: =SUBSTITUTE(SUBSTITUTE(H12," разряд",""),"разряд","") | J12: =IF(D12="ПО","Профессиональное обучение",IF(D12="курсы","Программа обучения",IF(D12="ДПО",IF(E12="ПК","Повышение квалификации",IF(E12="ПП","Профессиональная переподготовка","")),""))) -> Профессиональное обучение | K12: =CONCATENATE(C12," (",G12," ч.)",)&IF(D12="ПО"," "&CHOOSE(MATCH(E12,{"ПП","ПО","ПК","ППЗ"},0),"- профессиональная переподготовка рабочих и служащих","- профессиональная подготовка рабочих и служащих","- повышение квалификации рабочих и служащих","- периодическая проверка знаний рабочих и служащих")&IF(AND(D12="ПО",H12<>"")," ("&H12&")",""),IF(D12="ДПО"," "&IF(E12="ПК","- повышение квалификации",IF(E12="ПП","- профессиональная переподготовка","")),IF(D12="курсы"," - программа обучения",""))) -> Аппаратчик в производстве металлических порошков (144 ч.) - профессиональная переподготовка рабочих и служащих | L12: =IF(D12="ПО",IF(E12="ПП","Профессиональная переподготовка рабочих и служащих",IF(E12="ПО","Профессиональная подготовка рабочих и служащих",IF(E12="ПК","Повышение квалификации рабочих и служащих",IF(E12="ППЗ","Периодическая проверка знаний рабочих и служащих","")))),IF(D12="курсы","Программа обучения",IF(D12="ДПО",IF(E12="ПК","Повышение квалификации",IF(E12="ПП","Профессиональная переподготовка","")),""))) -> Профессиональная переподготовка рабочих и служащих | M12: 22. ПРОФЕССИОНАЛЬНОЕ ОБУЧЕНИЕ РАБОЧИХ | N12: 22
A13: БП-00002508 | B13: ОБР736 | C13: Аппаратчик в производстве металлических порошков | D13: ПО | E13: ПО | F13: =E13 -> ПО | G13: 160 | I13: =SUBSTITUTE(SUBSTITUTE(H13," разряд",""),"разряд","") | J13: =IF(D13="ПО","Профессиональное обучение",IF(D13="курсы","Программа обучения",IF(D13="ДПО",IF(E13="ПК","Повышение квалификации",IF(E13="ПП","Профессиональная переподготовка","")),""))) -> Профессиональное обучение | K13: =CONCATENATE(C13," (",G13," ч.)",)&IF(D13="ПО"," "&CHOOSE(MATCH(E13,{"ПП","ПО","ПК","ППЗ"},0),"- профессиональная переподготовка рабочих и служащих","- профессиональная подготовка рабочих и служащих","- повышение квалификации рабочих и служащих","- периодическая проверка знаний рабочих и служащих")&IF(AND(D13="ПО",H13<>"")," ("&H13&")",""),IF(D13="ДПО"," "&IF(E13="ПК","- повышение квалификации",IF(E13="ПП","- профессиональная переподготовка","")),IF(D13="курсы"," - программа обучения",""))) -> Аппаратчик в производстве металлических порошков (160 ч.) - профессиональная подготовка рабочих и служащих | L13: =IF(D13="ПО",IF(E13="ПП","Профессиональная переподготовка рабочих и служащих",IF(E13="ПО","Профессиональная подготовка рабочих и служащих",IF(E13="ПК","Повышение квалификации рабочих и служащих",IF(E13="ППЗ","Периодическая проверка знаний рабочих и служащих","")))),IF(D13="курсы","Программа обучения",IF(D13="ДПО",IF(E13="ПК","Повышение квалификации",IF(E13="ПП","Профессиональная переподготовка","")),""))) -> Профессиональная подготовка рабочих и служащих | M13: 22. ПРОФЕССИОНАЛЬНОЕ ОБУЧЕНИЕ РАБОЧИХ | N13: 22
A14: БП-00002510 | B14: ОБР738 | C14: Аппаратчик в производстве металлических порошков | D14: ПО | E14: ПК | F14: =E14 -> ПК | G14: 72 | I14: =SUBSTITUTE(SUBSTITUTE(H14," разряд",""),"разряд","") | J14: =IF(D14="ПО","Профессиональное обучение",IF(D14="курсы","Программа обучения",IF(D14="ДПО",IF(E14="ПК","Повышение квалификации",IF(E14="ПП","Профессиональная переподготовка","")),""))) -> Профессиональное обучение | K14: =CONCATENATE(C14," (",G14," ч.)",)&IF(D14="ПО"," "&CHOOSE(MATCH(E14,{"ПП","ПО","ПК","ППЗ"},0),"- профессиональная переподготовка рабочих и служащих","- профессиональная подготовка рабочих и служащих","- повышение квалификации рабочих и служащих","- периодическая проверка знаний рабочих и служащих")&IF(AND(D14="ПО",H14<>"")," ("&H14&")",""),IF(D14="ДПО"," "&IF(E14="ПК","- повышение квалификации",IF(E14="ПП","- профессиональная переподготовка","")),IF(D14="курсы"," - программа обучения",""))) -> Аппаратчик в производстве металлических порошков (72 ч.) - повышение квалификации рабочих и служащих | L14: =IF(D14="ПО",IF(E14="ПП","Профессиональная переподготовка рабочих и служащих",IF(E14="ПО","Профессиональная подготовка рабочих и служащих",IF(E14="ПК","Повышение квалификации рабочих и служащих",IF(E14="ППЗ","Периодическая проверка знаний рабочих и служащих","")))),IF(D14="курсы","Программа обучения",IF(D14="ДПО",IF(E14="ПК","Повышение квалификации",IF(E14="ПП","Профессиональная переподготовка","")),""))) -> Повышение квалификации рабочих и служащих | M14: 22. ПРОФЕССИОНАЛЬНОЕ ОБУЧЕНИЕ РАБОЧИХ | N14: 22
A15: БП-00002511 | B15: ОБР739 | C15: Аппаратчик в производстве металлических порошков | D15: ПО | E15: ППЗ | F15: =E15 -> ППЗ | G15: 8 | I15: =SUBSTITUTE(SUBSTITUTE(H15," разряд",""),"разряд","") | J15: =IF(D15="ПО","Профессиональное обучение",IF(D15="курсы","Программа обучения",IF(D15="ДПО",IF(E15="ПК","Повышение квалификации",IF(E15="ПП","Профессиональная переподготовка","")),""))) -> Профессиональное обучение | K15: =CONCATENATE(C15," (",G15," ч.)",)&IF(D15="ПО"," "&CHOOSE(MATCH(E15,{"ПП","ПО","ПК","ППЗ"},0),"- профессиональная переподготовка рабочих и служащих","- профессиональная подготовка рабочих и служащих","- повышение квалификации рабочих и служащих","- периодическая проверка знаний рабочих и служащих")&IF(AND(D15="ПО",H15<>"")," ("&H15&")",""),IF(D15="ДПО"," "&IF(E15="ПК","- повышение квалификации",IF(E15="ПП","- профессиональная переподготовка","")),IF(D15="курсы"," - программа обучения",""))) -> Аппаратчик в производстве металлических порошков (8 ч.) - периодическая проверка знаний рабочих и служащих | L15: =IF(D15="ПО",IF(E15="ПП","Профессиональная переподготовка рабочих и служащих",IF(E15="ПО","Профессиональная подготовка рабочих и служащих",IF(E15="ПК","Повышение квалификации рабочих и служащих",IF(E15="ППЗ","Периодическая проверка знаний рабочих и служащих","")))),IF(D15="курсы","Программа обучения",IF(D15="ДПО",IF(E15="ПК","Повышение квалификации",IF(E15="ПП","Профессиональная переподготовка","")),""))) -> Периодическая проверка знаний рабочих и служащих | M15: 22. ПРОФЕССИОНАЛЬНОЕ ОБУЧЕНИЕ РАБОЧИХ | N15: 22
A16: БП-00002514 | B16: ОБР741 | C16: Аппаратчик воздухоразделения | D16: ПО | E16: ПП | F16: =E16 -> ПП | G16: 144 | I16: =SUBSTITUTE(SUBSTITUTE(H16," разряд",""),"разряд","") | J16: =IF(D16="ПО","Профессиональное обучение",IF(D16="курсы","Программа обучения",IF(D16="ДПО",IF(E16="ПК","Повышение квалификации",IF(E16="ПП","Профессиональная переподготовка","")),""))) -> Профессиональное обучение | K16: =CONCATENATE(C16," (",G16," ч.)",)&IF(D16="ПО"," "&CHOOSE(MATCH(E16,{"ПП","ПО","ПК","ППЗ"},0),"- профессиональная переподготовка рабочих и служащих","- профессиональная подготовка рабочих и служащих","- повышение квалификации рабочих и служащих","- периодическая проверка знаний рабочих и служащих")&IF(AND(D16="ПО",H16<>"")," ("&H16&")",""),IF(D16="ДПО"," "&IF(E16="ПК","- повышение квалификации",IF(E16="ПП","- профессиональная переподготовка","")),IF(D16="курсы"," - программа обучения",""))) -> Аппаратчик воздухоразделения (144 ч.) - профессиональная переподготовка рабочих и служащих | L16: =IF(D16="ПО",IF(E16="ПП","Профессиональная переподготовка рабочих и служащих",IF(E16="ПО","Профессиональная подготовка рабочих и служащих",IF(E16="ПК","Повышение квалификации рабочих и служащих",IF(E16="ППЗ","Периодическая проверка знаний рабочих и служащих","")))),IF(D16="курсы","Программа обучения",IF(D16="ДПО",IF(E16="ПК","Повышение квалификации",IF(E16="ПП","Профессиональная переподготовка","")),""))) -> Профессиональная переподготовка рабочих и служащих | M16: 22. ПРОФЕССИОНАЛЬНОЕ ОБУЧЕНИЕ РАБОЧИХ | N16: 22
A17: БП-00002513 | B17: ОБР740 | C17: Аппаратчик воздухоразделения | D17: ПО | E17: ПО | F17: =E17 -> ПО | G17: 160 | I17: =SUBSTITUTE(SUBSTITUTE(H17," разряд",""),"разряд","") | J17: =IF(D17="ПО","Профессиональное обучение",IF(D17="курсы","Программа обучения",IF(D17="ДПО",IF(E17="ПК","Повышение квалификации",IF(E17="ПП","Профессиональная переподготовка","")),""))) -> Профессиональное обучение | K17: =CONCATENATE(C17," (",G17," ч.)",)&IF(D17="ПО"," "&CHOOSE(MATCH(E17,{"ПП","ПО","ПК","ППЗ"},0),"- профессиональная переподготовка рабочих и служащих","- профессиональная подготовка рабочих и служащих","- повышение квалификации рабочих и служащих","- периодическая проверка знаний рабочих и служащих")&IF(AND(D17="ПО",H17<>"")," ("&H17&")",""),IF(D17="ДПО"," "&IF(E17="ПК","- повышение квалификации",IF(E17="ПП","- профессиональная переподготовка","")),IF(D17="курсы"," - программа обучения",""))) -> Аппаратчик воздухоразделения (160 ч.) - профессиональная подготовка рабочих и служащих | L17: =IF(D17="ПО",IF(E17="ПП","Профессиональная переподготовка рабочих и служащих",IF(E17="ПО","Профессиональная подготовка рабочих и служащих",IF(E17="ПК","Повышение квалификации рабочих и служащих",IF(E17="ППЗ","Периодическая проверка знаний рабочих и служащих","")))),IF(D17="курсы","Программа обучения",IF(D17="ДПО",IF(E17="ПК","Повышение квалификации",IF(E17="ПП","Профессиональная переподготовка","")),""))) -> Профессиональная подготовка рабочих и служащих | M17: 22. ПРОФЕССИОНАЛЬНОЕ ОБУЧЕНИЕ РАБОЧИХ | N17: 22
A18: БП-00002515 | B18: ОБР742 | C18: Аппаратчик воздухоразделения | D18: ПО | E18: ПК | F18: =E18 -> ПК | G18: 72 | I18: =SUBSTITUTE(SUBSTITUTE(H18," разряд",""),"разряд","") | J18: =IF(D18="ПО","Профессиональное обучение",IF(D18="курсы","Программа обучения",IF(D18="ДПО",IF(E18="ПК","Повышение квалификации",IF(E18="ПП","Профессиональная переподготовка","")),""))) -> Профессиональное обучение | K18: =CONCATENATE(C18," (",G18," ч.)",)&IF(D18="ПО"," "&CHOOSE(MATCH(E18,{"ПП","ПО","ПК","ППЗ"},0),"- профессиональная переподготовка рабочих и служащих","- профессиональная подготовка рабочих и служащих","- повышение квалификации рабочих и служащих","- периодическая проверка знаний рабочих и служащих")&IF(AND(D18="ПО",H18<>"")," ("&H18&")",""),IF(D18="ДПО"," "&IF(E18="ПК","- повышение квалификации",IF(E18="ПП","- профессиональная переподготовка","")),IF(D18="курсы"," - программа обучения",""))) -> Аппаратчик воздухоразделения (72 ч.) - повышение квалификации рабочих и служащих | L18: =IF(D18="ПО",IF(E18="ПП","Профессиональная переподготовка рабочих и служащих",IF(E18="ПО","Профессиональная подготовка рабочих и служащих",IF(E18="ПК","Повышение квалификации рабочих и служащих",IF(E18="ППЗ","Периодическая проверка знаний рабочих и служащих","")))),IF(D18="курсы","Программа обучения",IF(D18="ДПО",IF(E18="ПК","Повышение квалификации",IF(E18="ПП","Профессиональная переподготовка","")),""))) -> Повышение квалификации рабочих и служащих | M18: 22. ПРОФЕССИОНАЛЬНОЕ ОБУЧЕНИЕ РАБОЧИХ | N18: 22
A19: БП-00002516 | B19: ОБР743 | C19: Аппаратчик воздухоразделения | D19: ПО | E19: ППЗ | F19: =E19 -> ППЗ | G19: 8 | I19: =SUBSTITUTE(SUBSTITUTE(H19," разряд",""),"разряд","") | J19: =IF(D19="ПО","Профессиональное обучение",IF(D19="курсы","Программа обучения",IF(D19="ДПО",IF(E19="ПК","Повышение квалификации",IF(E19="ПП","Профессиональная переподготовка","")),""))) -> Профессиональное обучение | K19: =CONCATENATE(C19," (",G19," ч.)",)&IF(D19="ПО"," "&CHOOSE(MATCH(E19,{"ПП","ПО","ПК","ППЗ"},0),"- профессиональная переподготовка рабочих и служащих","- профессиональная подготовка рабочих и служащих","- повышение квалификации рабочих и служащих","- периодическая проверка знаний рабочих и служащих")&IF(AND(D19="ПО",H19<>"")," ("&H19&")",""),IF(D19="ДПО"," "&IF(E19="ПК","- повышение квалификации",IF(E19="ПП","- профессиональная переподготовка","")),IF(D19="курсы"," - программа обучения",""))) -> Аппаратчик воздухоразделения (8 ч.) - периодическая проверка знаний рабочих и служащих | L19: =IF(D19="ПО",IF(E19="ПП","Профессиональная переподготовка рабочих и служащих",IF(E19="ПО","Профессиональная подготовка рабочих и служащих",IF(E19="ПК","Повышение квалификации рабочих и служащих",IF(E19="ППЗ","Периодическая проверка знаний рабочих и служащих","")))),IF(D19="курсы","Программа обучения",IF(D19="ДПО",IF(E19="ПК","Повышение квалификации",IF(E19="ПП","Профессиональная переподготовка","")),""))) -> Периодическая проверка знаний рабочих и служащих | M19: 22. ПРОФЕССИОНАЛЬНОЕ ОБУЧЕНИЕ РАБОЧИХ | N19: 22
A20: БП-00002519 | B20: ОБР745 | C20: Аппаратчик гашения извести | D20: ПО | E20: ПП | F20: =E20 -> ПП | G20: 144 | I20: =SUBSTITUTE(SUBSTITUTE(H20," разряд",""),"разряд","") | J20: =IF(D20="ПО","Профессиональное обучение",IF(D20="курсы","Программа обучения",IF(D20="ДПО",IF(E20="ПК","Повышение квалификации",IF(E20="ПП","Профессиональная переподготовка","")),""))) -> Профессиональное обучение | K20: =CONCATENATE(C20," (",G20," ч.)",)&IF(D20="ПО"," "&CHOOSE(MATCH(E20,{"ПП","ПО","ПК","ППЗ"},0),"- профессиональная переподготовка рабочих и служащих","- профессиональная подготовка рабочих и служащих","- повышение квалификации рабочих и служащих","- периодическая проверка знаний рабочих и служащих")&IF(AND(D20="ПО",H20<>"")," ("&H20&")",""),IF(D20="ДПО"," "&IF(E20="ПК","- повышение квалификации",IF(E20="ПП","- профессиональная переподготовка","")),IF(D20="курсы"," - программа обучения",""))) -> Аппаратчик гашения извести (144 ч.) - профессиональная переподготовка рабочих и служащих | L20: =IF(D20="ПО",IF(E20="ПП","Профессиональная переподготовка рабочих и служащих",IF(E20="ПО","Профессиональная подготовка рабочих и служащих",IF(E20="ПК","Повышение квалификации рабочих и служащих",IF(E20="ППЗ","Периодическая проверка знаний рабочих и служащих","")))),IF(D20="курсы","Программа обучения",IF(D20="ДПО",IF(E20="ПК","Повышение квалификации",IF(E20="ПП","Профессиональная переподготовка","")),""))) -> Профессиональная переподготовка рабочих и служащих | M20: 22. ПРОФЕССИОНАЛЬНОЕ ОБУЧЕНИЕ РАБОЧИХ | N20: 22
A21: БП-00002518 | B21: ОБР744 | C21: Аппаратчик гашения извести | D21: ПО | E21: ПО | F21: =E21 -> ПО | G21: 160 | I21: =SUBSTITUTE(SUBSTITUTE(H21," разряд",""),"разряд","") | J21: =IF(D21="ПО","Профессиональное обучение",IF(D21="курсы","Программа обучения",IF(D21="ДПО",IF(E21="ПК","Повышение квалификации",IF(E21="ПП","Профессиональная переподготовка","")),""))) -> Профессиональное обучение | K21: =CONCATENATE(C21," (",G21," ч.)",)&IF(D21="ПО"," "&CHOOSE(MATCH(E21,{"ПП","ПО","ПК","ППЗ"},0),"- профессиональная переподготовка рабочих и служащих","- профессиональная подготовка рабочих и служащих","- повышение квалификации рабочих и служащих","- периодическая проверка знаний рабочих и служащих")&IF(AND(D21="ПО",H21<>"")," ("&H21&")",""),IF(D21="ДПО"," "&IF(E21="ПК","- повышение квалификации",IF(E21="ПП","- профессиональная переподготовка","")),IF(D21="курсы"," - программа обучения",""))) -> Аппаратчик гашения извести (160 ч.) - профессиональная подготовка рабочих и служащих | L21: =IF(D21="ПО",IF(E21="ПП","Профессиональная переподготовка рабочих и служащих",IF(E21="ПО","Профессиональная подготовка рабочих и служащих",IF(E21="ПК","Повышение квалификации рабочих и служащих",IF(E21="ППЗ","Периодическая проверка знаний рабочих и служащих","")))),IF(D21="курсы","Программа обучения",IF(D21="ДПО",IF(E21="ПК","Повышение квалификации",IF(E21="ПП","Профессиональная переподготовка","")),""))) -> Профессиональная подготовка рабочих и служащих | M21: 22. ПРОФЕССИОНАЛЬНОЕ ОБУЧЕНИЕ РАБОЧИХ | N21: 22
A22: БП-00002520 | B22: ОБР746 | C22: Аппаратчик гашения извести | D22: ПО | E22: ПК | F22: =E22 -> ПК | G22: 72 | I22: =SUBSTITUTE(SUBSTITUTE(H22," разряд",""),"разряд","") | J22: =IF(D22="ПО","Профессиональное обучение",IF(D22="курсы","Программа обучения",IF(D22="ДПО",IF(E22="ПК","Повышение квалификации",IF(E22="ПП","Профессиональная переподготовка","")),""))) -> Профессиональное обучение | K22: =CONCATENATE(C22," (",G22," ч.)",)&IF(D22="ПО"," "&CHOOSE(MATCH(E22,{"ПП","ПО","ПК","ППЗ"},0),"- профессиональная переподготовка рабочих и служащих","- профессиональная подготовка рабочих и служащих","- повышение квалификации рабочих и служащих","- периодическая проверка знаний рабочих и служащих")&IF(AND(D22="ПО",H22<>"")," ("&H22&")",""),IF(D22="ДПО"," "&IF(E22="ПК","- повышение квалификации",IF(E22="ПП","- профессиональная переподготовка","")),IF(D22="курсы"," - программа обучения",""))) -> Аппаратчик гашения извести (72 ч.) - повышение квалификации рабочих и служащих | L22: =IF(D22="ПО",IF(E22="ПП","Профессиональная переподготовка рабочих и служащих",IF(E22="ПО","Профессиональная подготовка рабочих и служащих",IF(E22="ПК","Повышение квалификации рабочих и служащих",IF(E22="ППЗ","Периодическая проверка знаний рабочих и служащих","")))),IF(D22="курсы","Программа обучения",IF(D22="ДПО",IF(E22="ПК","Повышение квалификации",IF(E22="ПП","Профессиональная переподготовка","")),""))) -> Повышение квалификации рабочих и служащих | M22: 22. ПРОФЕССИОНАЛЬНОЕ ОБУЧЕНИЕ РАБОЧИХ | N22: 22
... A31: БП-00002531 | B31: ОБР755 | C31: Аппаратчик окисления | D31: ПО | E31: ППЗ | F31: =E31 -> ППЗ | G31: 8 | I31: =SUBSTITUTE(SUBSTITUTE(H31," разряд",""),"разряд","") | J31: =IF(D31="ПО","Профессиональное обучение",IF(D31="курсы","Программа обучения",IF(D31="ДПО",IF(E31="ПК","Повышение квалификации",IF(E31="ПП","Профессиональная переподготовка","")),""))) -> Профессиональное обучение | K31: =CONCATENATE(C31," (",G31," ч.)",)&IF(D31="ПО"," "&CHOOSE(MATCH(E31,{"ПП","ПО","ПК","ППЗ"},0),"- профессиональная переподготовка рабочих и служащих","- профессиональная подготовка рабочих и служащих","- повышение квалификации рабочих и служащих","- периодическая проверка знаний рабочих и служащих")&IF(AND(D31="ПО",H31<>"")," ("&H31&")",""),IF(D31="ДПО"," "&IF(E31="ПК","- повышение квалификации",IF(E31="ПП","- профессиональная переподготовка","")),IF(D31="курсы"," - программа обучения",""))) -> Аппаратчик окисления (8 ч.) - периодическая проверка знаний рабочих и служащих | L31: =IF(D31="ПО",IF(E31="ПП","Профессиональная переподготовка рабочих и служащих",IF(E31="ПО","Профессиональная подготовка рабочих и служащих",IF(E31="ПК","Повышение квалификации рабочих и служащих",IF(E31="ППЗ","Периодическая проверка знаний рабочих и служащих","")))),IF(D31="курсы","Программа обучения",IF(D31="ДПО",IF(E31="ПК","Повышение квалификации",IF(E31="ПП","Профессиональная переподготовка","")),""))) -> Периодическая проверка знаний рабочих и служащих | M31: 22. ПРОФЕССИОНАЛЬНОЕ ОБУЧЕНИЕ РАБОЧИХ | N31: 22
A32: БП-00002534 | B32: ОБР757 | C32: Аппаратчик очистки газа | D32: ПО | E32: ПП | F32: =E32 -> ПП | G32: 144 | H32: 2 разряд | I32: =SUBSTITUTE(SUBSTITUTE(H32," разряд",""),"разряд","") -> 2 | J32: =IF(D32="ПО","Профессиональное обучение",IF(D32="курсы","Программа обучения",IF(D32="ДПО",IF(E32="ПК","Повышение квалификации",IF(E32="ПП","Профессиональная переподготовка","")),""))) -> Профессиональное обучение | K32: =CONCATENATE(C32," (",G32," ч.)",)&IF(D32="ПО"," "&CHOOSE(MATCH(E32,{"ПП","ПО","ПК","ППЗ"},0),"- профессиональная переподготовка рабочих и служащих","- профессиональная подготовка рабочих и служащих","- повышение квалификации рабочих и служащих","- периодическая проверка знаний рабочих и служащих")&IF(AND(D32="ПО",H32<>"")," ("&H32&")",""),IF(D32="ДПО"," "&IF(E32="ПК","- повышение квалификации",IF(E32="ПП","- профессиональная переподготовка","")),IF(D32="курсы"," - программа обучения",""))) -> Аппаратчик очистки газа (144 ч.) - профессиональная переподготовка рабочих и служащих (2 разряд) | L32: =IF(D32="ПО",IF(E32="ПП","Профессиональная переподготовка рабочих и служащих",IF(E32="ПО","Профессиональная подготовка рабочих и служащих",IF(E32="ПК","Повышение квалификации рабочих и служащих",IF(E32="ППЗ","Периодическая проверка знаний рабочих и служащих","")))),IF(D32="курсы","Программа обучения",IF(D32="ДПО",IF(E32="ПК","Повышение квалификации",IF(E32="ПП","Профессиональная переподготовка","")),""))) -> Профессиональная переподготовка рабочих и служащих | M32: 22. ПРОФЕССИОНАЛЬНОЕ ОБУЧЕНИЕ РАБОЧИХ | N32: 22
A33: БП-00002533 | B33: ОБР756 | C33: Аппаратчик очистки газа | D33: ПО | E33: ПО | F33: =E33 -> ПО | G33: 160 | H33: 2 разряд | I33: =SUBSTITUTE(SUBSTITUTE(H33," разряд",""),"разряд","") -> 2 | J33: =IF(D33="ПО","Профессиональное обучение",IF(D33="курсы","Программа обучения",IF(D33="ДПО",IF(E33="ПК","Повышение квалификации",IF(E33="ПП","Профессиональная переподготовка","")),""))) -> Профессиональное обучение | K33: =CONCATENATE(C33," (",G33," ч.)",)&IF(D33="ПО"," "&CHOOSE(MATCH(E33,{"ПП","ПО","ПК","ППЗ"},0),"- профессиональная переподготовка рабочих и служащих","- профессиональная подготовка рабочих и служащих","- повышение квалификации рабочих и служащих","- периодическая проверка знаний рабочих и служащих")&IF(AND(D33="ПО",H33<>"")," ("&H33&")",""),IF(D33="ДПО"," "&IF(E33="ПК","- повышение квалификации",IF(E33="ПП","- профессиональная переподготовка","")),IF(D33="курсы"," - программа обучения",""))) -> Аппаратчик очистки газа (160 ч.) - профессиональная подготовка рабочих и служащих (2 разряд) | L33: =IF(D33="ПО",IF(E33="ПП","Профессиональная переподготовка рабочих и служащих",IF(E33="ПО","Профессиональная подготовка рабочих и служащих",IF(E33="ПК","Повышение квалификации рабочих и служащих",IF(E33="ППЗ","Периодическая проверка знаний рабочих и служащих","")))),IF(D33="курсы","Программа обучения",IF(D33="ДПО",IF(E33="ПК","Повышение квалификации",IF(E33="ПП","Профессиональная переподготовка","")),""))) -> Профессиональная подготовка рабочих и служащих | M33: 22. ПРОФЕССИОНАЛЬНОЕ ОБУЧЕНИЕ РАБОЧИХ | N33: 22
A34: БП-00002535 | B34: ОБР758 | C34: Аппаратчик очистки газа | D34: ПО | E34: ПК | F34: =E34 -> ПК | G34: 72 | H34: 3-6 разряд | I34: =SUBSTITUTE(SUBSTITUTE(H34," разряд",""),"разряд","") -> 3-6 | J34: =IF(D34="ПО","Профессиональное обучение",IF(D34="курсы","Программа обучения",IF(D34="ДПО",IF(E34="ПК","Повышение квалификации",IF(E34="ПП","Профессиональная переподготовка","")),""))) -> Профессиональное обучение | K34: =CONCATENATE(C34," (",G34," ч.)",)&IF(D34="ПО"," "&CHOOSE(MATCH(E34,{"ПП","ПО","ПК","ППЗ"},0),"- профессиональная переподготовка рабочих и служащих","- профессиональная подготовка рабочих и служащих","- повышение квалификации рабочих и служащих","- периодическая проверка знаний рабочих и служащих")&IF(AND(D34="ПО",H34<>"")," ("&H34&")",""),IF(D34="ДПО"," "&IF(E34="ПК","- повышение квалификации",IF(E34="ПП","- профессиональная переподготовка","")),IF(D34="курсы"," - программа обучения",""))) -> Аппаратчик очистки газа (72 ч.) - повышение квалификации рабочих и служащих (3-6 разряд) | L34: =IF(D34="ПО",IF(E34="ПП","Профессиональная переподготовка рабочих и служащих",IF(E34="ПО","Профессиональная подготовка рабочих и служащих",IF(E34="ПК","Повышение квалификации рабочих и служащих",IF(E34="ППЗ","Периодическая проверка знаний рабочих и служащих","")))),IF(D34="курсы","Программа обучения",IF(D34="ДПО",IF(E34="ПК","Повышение квалификации",IF(E34="ПП","Профессиональная переподготовка","")),""))) -> Повышение квалификации рабочих и служащих | M34: 22. ПРОФЕССИОНАЛЬНОЕ ОБУЧЕНИЕ РАБОЧИХ | N34: 22
A35: БП-00002536 | B35: ОБР759 | C35: Аппаратчик очистки газа | D35: ПО | E35: ППЗ | F35: =E35 -> ППЗ | G35: 8 | I35: =SUBSTITUTE(SUBSTITUTE(H35," разряд",""),"разряд","") | J35: =IF(D35="ПО","Профессиональное обучение",IF(D35="курсы","Программа обучения",IF(D35="ДПО",IF(E35="ПК","Повышение квалификации",IF(E35="ПП","Профессиональная переподготовка","")),""))) -> Профессиональное обучение | K35: =CONCATENATE(C35," (",G35," ч.)",)&IF(D35="ПО"," "&CHOOSE(MATCH(E35,{"ПП","ПО","ПК","ППЗ"},0),"- профессиональная переподготовка рабочих и служащих","- профессиональная подготовка рабочих и служащих","- повышение квалификации рабочих и служащих","- периодическая проверка знаний рабочих и служащих")&IF(AND(D35="ПО",H35<>"")," ("&H35&")",""),IF(D35="ДПО"," "&IF(E35="ПК","- повышение квалификации",IF(E35="ПП","- профессиональная переподготовка","")),IF(D35="курсы"," - программа обучения",""))) -> Аппаратчик очистки газа (8 ч.) - периодическая проверка знаний рабочих и служащих | L35: =IF(D35="ПО",IF(E35="ПП","Профессиональная переподготовка рабочих и служащих",IF(E35="ПО","Профессиональная подготовка рабочих и служащих",IF(E35="ПК","Повышение квалификации рабочих и служащих",IF(E35="ППЗ","Периодическая проверка знаний рабочих и служащих","")))),IF(D35="курсы","Программа обучения",IF(D35="ДПО",IF(E35="ПК","Повышение квалификации",IF(E35="ПП","Профессиональная переподготовка","")),""))) -> Периодическая проверка знаний рабочих и служащих | M35: 22. ПРОФЕССИОНАЛЬНОЕ ОБУЧЕНИЕ РАБОЧИХ | N35: 22
A36: БП-00002539 | B36: ОБР761 | C36: Аппаратчик перегонки | D36: ПО | E36: ПП | F36: =E36 -> ПП | G36: 144 | H36: 2 разряд | I36: =SUBSTITUTE(SUBSTITUTE(H36," разряд",""),"разряд","") -> 2 | J36: =IF(D36="ПО","Профессиональное обучение",IF(D36="курсы","Программа обучения",IF(D36="ДПО",IF(E36="ПК","Повышение квалификации",IF(E36="ПП","Профессиональная переподготовка","")),""))) -> Профессиональное обучение | K36: =CONCATENATE(C36," (",G36," ч.)",)&IF(D36="ПО"," "&CHOOSE(MATCH(E36,{"ПП","ПО","ПК","ППЗ"},0),"- профессиональная переподготовка рабочих и служащих","- профессиональная подготовка рабочих и служащих","- повышение квалификации рабочих и служащих","- периодическая проверка знаний рабочих и служащих")&IF(AND(D36="ПО",H36<>"")," ("&H36&")",""),IF(D36="ДПО"," "&IF(E36="ПК","- повышение квалификации",IF(E36="ПП","- профессиональная переподготовка","")),IF(D36="курсы"," - программа обучения",""))) -> Аппаратчик перегонки (144 ч.) - профессиональная переподготовка рабочих и служащих (2 разряд) | L36: =IF(D36="ПО",IF(E36="ПП","Профессиональная переподготовка рабочих и служащих",IF(E36="ПО","Профессиональная подготовка рабочих и служащих",IF(E36="ПК","Повышение квалификации рабочих и служащих",IF(E36="ППЗ","Периодическая проверка знаний рабочих и служащих","")))),IF(D36="курсы","Программа обучения",IF(D36="ДПО",IF(E36="ПК","Повышение квалификации",IF(E36="ПП","Профессиональная переподготовка","")),""))) -> Профессиональная переподготовка рабочих и служащих | M36: 22. ПРОФЕССИОНАЛЬНОЕ ОБУЧЕНИЕ РАБОЧИХ | N36: 22
A37: БП-00002538 | B37: ОБР760 | C37: Аппаратчик перегонки | D37: ПО | E37: ПО | F37: =E37 -> ПО | G37: 160 | H37: 2 разряд | I37: =SUBSTITUTE(SUBSTITUTE(H37," разряд",""),"разряд","") -> 2 | J37: =IF(D37="ПО","Профессиональное обучение",IF(D37="курсы","Программа обучения",IF(D37="ДПО",IF(E37="ПК","Повышение квалификации",IF(E37="ПП","Профессиональная переподготовка","")),""))) -> Профессиональное обучение | K37: =CONCATENATE(C37," (",G37," ч.)",)&IF(D37="ПО"," "&CHOOSE(MATCH(E37,{"ПП","ПО","ПК","ППЗ"},0),"- профессиональная переподготовка рабочих и служащих","- профессиональная подготовка рабочих и служащих","- повышение квалификации рабочих и служащих","- периодическая проверка знаний рабочих и служащих")&IF(AND(D37="ПО",H37<>"")," ("&H37&")",""),IF(D37="ДПО"," "&IF(E37="ПК","- повышение квалификации",IF(E37="ПП","- профессиональная переподготовка","")),IF(D37="курсы"," - программа обучения",""))) -> Аппаратчик перегонки (160 ч.) - профессиональная подготовка рабочих и служащих (2 разряд) | L37: =IF(D37="ПО",IF(E37="ПП","Профессиональная переподготовка рабочих и служащих",IF(E37="ПО","Профессиональная подготовка рабочих и служащих",IF(E37="ПК","Повышение квалификации рабочих и служащих",IF(E37="ППЗ","Периодическая проверка знаний рабочих и служащих","")))),IF(D37="курсы","Программа обучения",IF(D37="ДПО",IF(E37="ПК","Повышение квалификации",IF(E37="ПП","Профессиональная переподготовка","")),""))) -> Профессиональная подготовка рабочих и служащих | M37: 22. ПРОФЕССИОНАЛЬНОЕ ОБУЧЕНИЕ РАБОЧИХ | N37: 22
A38: БП-00002540 | B38: ОБР762 | C38: Аппаратчик перегонки | D38: ПО | E38: ПК | F38: =E38 -> ПК | G38: 72 | H38: 3-6 разряд | I38: =SUBSTITUTE(SUBSTITUTE(H38," разряд",""),"разряд","") -> 3-6 | J38: =IF(D38="ПО","Профессиональное обучение",IF(D38="курсы","Программа обучения",IF(D38="ДПО",IF(E38="ПК","Повышение квалификации",IF(E38="ПП","Профессиональная переподготовка","")),""))) -> Профессиональное обучение | K38: =CONCATENATE(C38," (",G38," ч.)",)&IF(D38="ПО"," "&CHOOSE(MATCH(E38,{"ПП","ПО","ПК","ППЗ"},0),"- профессиональная переподготовка рабочих и служащих","- профессиональная подготовка рабочих и служащих","- повышение квалификации рабочих и служащих","- периодическая проверка знаний рабочих и служащих")&IF(AND(D38="ПО",H38<>"")," ("&H38&")",""),IF(D38="ДПО"," "&IF(E38="ПК","- повышение квалификации",IF(E38="ПП","- профессиональная переподготовка","")),IF(D38="курсы"," - программа обучения",""))) -> Аппаратчик перегонки (72 ч.) - повышение квалификации рабочих и служащих (3-6 разряд) | L38: =IF(D38="ПО",IF(E38="ПП","Профессиональная переподготовка рабочих и служащих",IF(E38="ПО","Профессиональная подготовка рабочих и служащих",IF(E38="ПК","Повышение квалификации рабочих и служащих",IF(E38="ППЗ","Периодическая проверка знаний рабочих и служащих","")))),IF(D38="курсы","Программа обучения",IF(D38="ДПО",IF(E38="ПК","Повышение квалификации",IF(E38="ПП","Профессиональная переподготовка","")),""))) -> Повышение квалификации рабочих и служащих | M38: 22. ПРОФЕССИОНАЛЬНОЕ ОБУЧЕНИЕ РАБОЧИХ | N38: 22
A39: БП-00002541 | B39: ОБР763 | C39: Аппаратчик перегонки | D39: ПО | E39: ППЗ | F39: =E39 -> ППЗ | G39: 8 | I39: =SUBSTITUTE(SUBSTITUTE(H39," разряд",""),"разряд","") | J39: =IF(D39="ПО","Профессиональное обучение",IF(D39="курсы","Программа обучения",IF(D39="ДПО",IF(E39="ПК","Повышение квалификации",IF(E39="ПП","Профессиональная переподготовка","")),""))) -> Профессиональное обучение | K39: =CONCATENATE(C39," (",G39," ч.)",)&IF(D39="ПО"," "&CHOOSE(MATCH(E39,{"ПП","ПО","ПК","ППЗ"},0),"- профессиональная переподготовка рабочих и служащих","- профессиональная подготовка рабочих и служащих","- повышение квалификации рабочих и служащих","- периодическая проверка знаний рабочих и служащих")&IF(AND(D39="ПО",H39<>"")," ("&H39&")",""),IF(D39="ДПО"," "&IF(E39="ПК","- повышение квалификации",IF(E39="ПП","- профессиональная переподготовка","")),IF(D39="курсы"," - программа обучения",""))) -> Аппаратчик перегонки (8 ч.) - периодическая проверка знаний рабочих и служащих | L39: =IF(D39="ПО",IF(E39="ПП","Профессиональная переподготовка рабочих и служащих",IF(E39="ПО","Профессиональная подготовка рабочих и служащих",IF(E39="ПК","Повышение квалификации рабочих и служащих",IF(E39="ППЗ","Периодическая проверка знаний рабочих и служащих","")))),IF(D39="курсы","Программа обучения",IF(D39="ДПО",IF(E39="ПК","Повышение квалификации",IF(E39="ПП","Профессиональная переподготовка","")),""))) -> Периодическая проверка знаний рабочих и служащих | M39: 22. ПРОФЕССИОНАЛЬНОЕ ОБУЧЕНИЕ РАБОЧИХ | N39: 22
A40: БП-00002544 | B40: ОБР765 | C40: Аппаратчик по сбору и обогащению шлама | D40: ПО | E40: ПП | F40: =E40 -> ПП | G40: 144 | I40: =SUBSTITUTE(SUBSTITUTE(H40," разряд",""),"разряд","") | J40: =IF(D40="ПО","Профессиональное обучение",IF(D40="курсы","Программа обучения",IF(D40="ДПО",IF(E40="ПК","Повышение квалификации",IF(E40="ПП","Профессиональная переподготовка","")),""))) -> Профессиональное обучение | K40: =CONCATENATE(C40," (",G40," ч.)",)&IF(D40="ПО"," "&CHOOSE(MATCH(E40,{"ПП","ПО","ПК","ППЗ"},0),"- профессиональная переподготовка рабочих и служащих","- профессиональная подготовка рабочих и служащих","- повышение квалификации рабочих и служащих","- периодическая проверка знаний рабочих и служащих")&IF(AND(D40="ПО",H40<>"")," ("&H40&")",""),IF(D40="ДПО"," "&IF(E40="ПК","- повышение квалификации",IF(E40="ПП","- профессиональная переподготовка","")),IF(D40="курсы"," - программа обучения",""))) -> Аппаратчик по сбору и обогащению шлама (144 ч.) - профессиональная переподготовка рабочих и служащих | L40: =IF(D40="ПО",IF(E40="ПП","Профессиональная переподготовка рабочих и служащих",IF(E40="ПО","Профессиональная подготовка рабочих и служащих",IF(E40="ПК","Повышение квалификации рабочих и служащих",IF(E40="ППЗ","Периодическая проверка знаний рабочих и служащих","")))),IF(D40="курсы","Программа обучения",IF(D40="ДПО",IF(E40="ПК","Повышение квалификации",IF(E40="ПП","Профессиональная переподготовка","")),""))) -> Профессиональная переподготовка рабочих и служащих | M40: 22. ПРОФЕССИОНАЛЬНОЕ ОБУЧЕНИЕ РАБОЧИХ | N40: 22
A41: БП-00002543 | B41: ОБР764 | C41: Аппаратчик по сбору и обогащению шлама | D41: ПО | E41: ПО | F41: =E41 -> ПО | G41: 160 | I41: =SUBSTITUTE(SUBSTITUTE(H41," разряд",""),"разряд","") | J41: =IF(D41="ПО","Профессиональное обучение",IF(D41="курсы","Программа обучения",IF(D41="ДПО",IF(E41="ПК","Повышение квалификации",IF(E41="ПП","Профессиональная переподготовка","")),""))) -> Профессиональное обучение | K41: =CONCATENATE(C41," (",G41," ч.)",)&IF(D41="ПО"," "&CHOOSE(MATCH(E41,{"ПП","ПО","ПК","ППЗ"},0),"- профессиональная переподготовка рабочих и служащих","- профессиональная подготовка рабочих и служащих","- повышение квалификации рабочих и служащих","- периодическая проверка знаний рабочих и служащих")&IF(AND(D41="ПО",H41<>"")," ("&H41&")",""),IF(D41="ДПО"," "&IF(E41="ПК","- повышение квалификации",IF(E41="ПП","- профессиональная переподготовка","")),IF(D41="курсы"," - программа обучения",""))) -> Аппаратчик по сбору и обогащению шлама (160 ч.) - профессиональная подготовка рабочих и служащих | L41: =IF(D41="ПО",IF(E41="ПП","Профессиональная переподготовка рабочих и служащих",IF(E41="ПО","Профессиональная подготовка рабочих и служащих",IF(E41="ПК","Повышение квалификации рабочих и служащих",IF(E41="ППЗ","Периодическая проверка знаний рабочих и служащих","")))),IF(D41="курсы","Программа обучения",IF(D41="ДПО",IF(E41="ПК","Повышение квалификации",IF(E41="ПП","Профессиональная переподготовка","")),""))) -> Профессиональная подготовка рабочих и служащих | M41: 22. ПРОФЕССИОНАЛЬНОЕ ОБУЧЕНИЕ РАБОЧИХ | N41: 22
A42: БП-00002545 | B42: ОБР766 | C42: Аппаратчик по сбору и обогащению шлама | D42: ПО | E42: ПК | F42: =E42 -> ПК | G42: 72 | I42: =SUBSTITUTE(SUBSTITUTE(H42," разряд",""),"разряд","") | J42: =IF(D42="ПО","Профессиональное обучение",IF(D42="курсы","Программа обучения",IF(D42="ДПО",IF(E42="ПК","Повышение квалификации",IF(E42="ПП","Профессиональная переподготовка","")),""))) -> Профессиональное обучение | K42: =CONCATENATE(C42," (",G42," ч.)",)&IF(D42="ПО"," "&CHOOSE(MATCH(E42,{"ПП","ПО","ПК","ППЗ"},0),"- профессиональная переподготовка рабочих и служащих","- профессиональная подготовка рабочих и служащих","- повышение квалификации рабочих и служащих","- периодическая проверка знаний рабочих и служащих")&IF(AND(D42="ПО",H42<>"")," ("&H42&")",""),IF(D42="ДПО"," "&IF(E42="ПК","- повышение квалификации",IF(E42="ПП","- профессиональная переподготовка","")),IF(D42="курсы"," - программа обучения",""))) -> Аппаратчик по сбору и обогащению шлама (72 ч.) - повышение квалификации рабочих и служащих | L42: =IF(D42="ПО",IF(E42="ПП","Профессиональная переподготовка рабочих и служащих",IF(E42="ПО","Профессиональная подготовка рабочих и служащих",IF(E42="ПК","Повышение квалификации рабочих и служащих",IF(E42="ППЗ","Периодическая проверка знаний рабочих и служащих","")))),IF(D42="курсы","Программа обучения",IF(D42="ДПО",IF(E42="ПК","Повышение квалификации",IF(E42="ПП","Профессиональная переподготовка","")),""))) -> Повышение квалификации рабочих и служащих | M42: 22. ПРОФЕССИОНАЛЬНОЕ ОБУЧЕНИЕ РАБОЧИХ | N42: 22
A43: БП-00002546 | B43: ОБР767 | C43: Аппаратчик по сбору и обогащению шлама | D43: ПО | E43: ППЗ | F43: =E43 -> ППЗ | G43: 8 | I43: =SUBSTITUTE(SUBSTITUTE(H43," разряд",""),"разряд","") | J43: =IF(D43="ПО","Профессиональное обучение",IF(D43="курсы","Программа обучения",IF(D43="ДПО",IF(E43="ПК","Повышение квалификации",IF(E43="ПП","Профессиональная переподготовка","")),""))) -> Профессиональное обучение | K43: =CONCATENATE(C43," (",G43," ч.)",)&IF(D43="ПО"," "&CHOOSE(MATCH(E43,{"ПП","ПО","ПК","ППЗ"},0),"- профессиональная переподготовка рабочих и служащих","- профессиональная подготовка рабочих и служащих","- повышение квалификации рабочих и служащих","- периодическая проверка знаний рабочих и служащих")&IF(AND(D43="ПО",H43<>"")," ("&H43&")",""),IF(D43="ДПО"," "&IF(E43="ПК","- повышение квалификации",IF(E43="ПП","- профессиональная переподготовка","")),IF(D43="курсы"," - программа обучения",""))) -> Аппаратчик по сбору и обогащению шлама (8 ч.) - периодическая проверка знаний рабочих и служащих | L43: =IF(D43="ПО",IF(E43="ПП","Профессиональная переподготовка рабочих и служащих",IF(E43="ПО","Профессиональная подготовка рабочих и служащих",IF(E43="ПК","Повышение квалификации рабочих и служащих",IF(E43="ППЗ","Периодическая проверка знаний рабочих и служащих","")))),IF(D43="курсы","Программа обучения",IF(D43="ДПО",IF(E43="ПК","Повышение квалификации",IF(E43="ПП","Профессиональная переподготовка","")),""))) -> Периодическая проверка знаний рабочих и служащих | M43: 22. ПРОФЕССИОНАЛЬНОЕ ОБУЧЕНИЕ РАБОЧИХ | N43: 22
A44: БП-00002549 | B44: ОБР769 | C44: Аппаратчик подготовки сырья и отпуска полуфабрикатов и продукции | D44: ПО | E44: ПП | F44: =E44 -> ПП | G44: 144 | I44: =SUBSTITUTE(SUBSTITUTE(H44," разряд",""),"разряд","") | J44: =IF(D44="ПО","Профессиональное обучение",IF(D44="курсы","Программа обучения",IF(D44="ДПО",IF(E44="ПК","Повышение квалификации",IF(E44="ПП","Профессиональная переподготовка","")),""))) -> Профессиональное обучение | K44: =CONCATENATE(C44," (",G44," ч.)",)&IF(D44="ПО"," "&CHOOSE(MATCH(E44,{"ПП","ПО","ПК","ППЗ"},0),"- профессиональная переподготовка рабочих и служащих","- профессиональная подготовка рабочих и служащих","- повышение квалификации рабочих и служащих","- периодическая проверка знаний рабочих и служащих")&IF(AND(D44="ПО",H44<>"")," ("&H44&")",""),IF(D44="ДПО"," "&IF(E44="ПК","- повышение квалификации",IF(E44="ПП","- профессиональная переподготовка","")),IF(D44="курсы"," - программа обучения",""))) -> Аппаратчик подготовки сырья и отпуска полуфабрикатов и продукции (144 ч.) - профессиональная переподготовка рабочих и служащих | L44: =IF(D44="ПО",IF(E44="ПП","Профессиональная переподготовка рабочих и служащих",IF(E44="ПО","Профессиональная подготовка рабочих и служащих",IF(E44="ПК","Повышение квалификации рабочих и служащих",IF(E44="ППЗ","Периодическая проверка знаний рабочих и служащих","")))),IF(D44="курсы","Программа обучения",IF(D44="ДПО",IF(E44="ПК","Повышение квалификации",IF(E44="ПП","Профессиональная переподготовка","")),""))) -> Профессиональная переподготовка рабочих и служащих | M44: 22. ПРОФЕССИОНАЛЬНОЕ ОБУЧЕНИЕ РАБОЧИХ | N44: 22
